15.00000000000000
0.00000000000000
0.00000000000000
-15.00000000000000
251272.94000000000000
3800772.54999999980000
