20
0.0
0.0
-20
531187.6628989
3292607.988518
