19.99999918322
0.0
0.0
-19.9999991832
530196.4899277
3293535.919043
