19.99999918322
0.0
0.0
-19.9999991832
532679.6002641
3292000.032911
