DatasetHeader Begin
	Version	= "6.4"
	Name	= "bexar_hem_drg.ers"
	LastUpdated	= Fri Aug 20 03:52:09 GMT 2004
	DataFile	= "bexar_hem_drg.ecw"
	DataSetType	= Translated
	DataType	= Raster
	ByteOrder	= LSBFirst
	CoordinateSpace Begin
		Datum	= "NAD27"
		Projection	= "NUTM14"
		CoordinateType	= EN
		Rotation	= 0:0:0.0
	CoordinateSpace End
	RasterInfo Begin
		CellType	= Unsigned8BitInteger
		CellInfo Begin
			Xdimension	= 2.4384000000000001
			Ydimension	= 2.4384000000000001
		CellInfo End
		NrOfLines	= 8091
		NrOfCellsPerLine	= 10017
		RegistrationCoord Begin
			Eastings	= 531207.54615567788
			Northings	= 3292565.9497458627
		RegistrationCoord End
		NrOfBands	= 3
		BandId Begin
			Value	= "Red"
		BandId End
		BandId Begin
			Value	= "Green"
		BandId End
		BandId Begin
			Value	= "Blue"
		BandId End
		RegionInfo Begin
			Type	= Polygon
			RegionName	= "All"
			SubRegion	= { 0 0 0 8091 10017 8091 10017 0 }
		RegionInfo End
	RasterInfo End
DatasetHeader End
