DatasetHeader Begin
	Version	= "6.4"
	Name	= "bexar_hem_drg_nocolor.ers"
	LastUpdated	= Mon Aug 23 15:54:05 GMT 2004
	DataFile	= "bexar_hem_drg_nocolor.ecw"
	DataSetType	= Translated
	DataType	= Raster
	ByteOrder	= LSBFirst
	CoordinateSpace Begin
		Datum	= "NAD27"
		Projection	= "NUTM14"
		CoordinateType	= EN
		Rotation	= 0:0:0.0
	CoordinateSpace End
	RasterInfo Begin
		CellType	= Unsigned8BitInteger
		CellInfo Begin
			Xdimension	= 2.4384000000000001
			Ydimension	= 2.4384000000000001
		CellInfo End
		NrOfLines	= 8082
		NrOfCellsPerLine	= 10043
		RegistrationCoord Begin
			Eastings	= 531172.447466666
			Northings	= 3292559.0534593719
		RegistrationCoord End
		NrOfBands	= 3
		BandId Begin
			Value	= "Red"
		BandId End
		BandId Begin
			Value	= "Green"
		BandId End
		BandId Begin
			Value	= "Blue"
		BandId End
		RegionInfo Begin
			Type	= Polygon
			RegionName	= "All"
			SubRegion	= { 0 0 0 8082 10043 8082 10043 0 }
		RegionInfo End
	RasterInfo End
DatasetHeader End
