4.00000000000000
0.00000000000000
0.00000000000000
-4.00000000000000
420864.85800000001000
5150361.53000000030000
