400
0.0
0.0
-400
-544379.627234043
133620.372765957
