DatasetHeader Begin
	Version	= "7.0"
	Name	= "geology_hem.ers"
	SourceDataset	= "geology_hem.tif"
	LastUpdated	= Wed Sep 21 20:53:04 GMT 2005
	DataFile	= "geology_hem.tif"
	DataSetType	= Translated
	DataType	= Raster
	ByteOrder	= MSBFirst
	CoordinateSpace Begin
		Datum	= "WGS84"
		Projection	= "LOCAL"
		CoordinateType	= EN
		Rotation	= 0:0:0.0
	CoordinateSpace End
	RasterInfo Begin
		CellType	= Unsigned8BitInteger
		CellInfo Begin
			Xdimension	= 5.0000002254557101
			Ydimension	= 5.0000002254557101
		CellInfo End
		NrOfLines	= 4789
		NrOfCellsPerLine	= 3729
		RegistrationCoord Begin
			Eastings	= 481229.9582855
			Northings	= 5351106.0565689001
		RegistrationCoord End
		RegistrationCellX	= 0.5
		RegistrationCellY	= 0.5
		NrOfBands	= 3
		BandId Begin
			Value	= "Red"
		BandId End
		BandId Begin
			Value	= "Green"
		BandId End
		BandId Begin
			Value	= "Blue"
		BandId End
		WarpControl Begin
			WarpType	= Map
			Rotation	= 0
			DemMeterFactor	= 1
			ChooseGcpsFromDigitizer	= No
			ChooseGcpsFromImage	= No
			UseAverageHeight	= No
			AverageHeight	= 0
			OutputHasNullCells	= No
			OutputNullCellValue	= 0
			Correction Begin
				RadialLens	= No
				PolyLens	= No
				Atmospheric	= No
				EarthCurvature	= No
			Correction End
			GivenOrthoInfo Begin
				AttitudeOmega	= 0
				AttitudePhi	= 0
				AttitudeKappa	= 0
				ExposureCenterX	= 0
				ExposureCenterY	= 0
				ExposureCenterZ	= 0
				SCALE	= 0
				CoordinateSpace Begin
					Datum	= "RAW"
					Projection	= "RAW"
					CoordinateType	= RAW
					Units	= "natural"
					Rotation	= 0:0:0.0
				CoordinateSpace End
			GivenOrthoInfo End
			CoordinateSpace Begin
				Datum	= "RAW"
				Projection	= "RAW"
				CoordinateType	= RAW
				Units	= "natural"
				Rotation	= 0:0:0.0
			CoordinateSpace End
			MapToMapInfo Begin
				CoordinateSpace Begin
					Datum	= "NAD27"
					Projection	= "NUTM13"
					CoordinateType	= EN
					Rotation	= 0:0:0.0
				CoordinateSpace End
			MapToMapInfo End
			ExtentsUsed	= Maximum
			Extents Begin
				TopLeftCorner Begin
					MetersX	= 0
					MetersY	= 0
				TopLeftCorner End
				BottomRightCorner Begin
					MetersX	= 0
					MetersY	= 0
				BottomRightCorner End
			Extents End
		WarpControl End
		RegionInfo Begin
			Type	= Polygon
			RegionName	= "All"
			SubRegion	= { 0 0 0 4789 3729 4789 3729 0 }
		RegionInfo End
	RasterInfo End
DatasetHeader End
