DatasetHeader Begin
	Version	= "6.4"
	Name	= "hem_survey_quads.ers"
	LastUpdated	= Tue Jul 27 03:36:07 GMT 2004
	DataFile	= "hem_survey_quads.ecw"
	DataSetType	= Translated
	DataType	= Raster
	ByteOrder	= LSBFirst
	CoordinateSpace Begin
		Datum	= "NAD27"
		Projection	= "NUTM13"
		CoordinateType	= EN
		Rotation	= 0:0:0.0
	CoordinateSpace End
	RasterInfo Begin
		CellType	= Unsigned8BitInteger
		CellInfo Begin
			Xdimension	= 2.4384000000000001
			Ydimension	= 2.4384000000000001
		CellInfo End
		NrOfLines	= 9150
		NrOfCellsPerLine	= 6302
		RegistrationCoord Begin
			Eastings	= 484478.26490999898
			Northings	= 5351119.386591997
		RegistrationCoord End
		NrOfBands	= 3
		BandId Begin
			Value	= "Red"
		BandId End
		BandId Begin
			Value	= "Green"
		BandId End
		BandId Begin
			Value	= "Blue"
		BandId End
		RegionInfo Begin
			Type	= Polygon
			RegionName	= "All"
			SubRegion	= { 0 0 0 9150 6302 9150 6302 0 }
		RegionInfo End
	RasterInfo End
DatasetHeader End
