25.0000016025643
0.0
0.0
-25.0000016025643
484018.14386324
5350120.09123708
