25.0000010775862
0.0
0.0
-25.0000010775862
483566.028071254
5351374.45677897
