399.999821653177
0.0
0.0
-399.999821653177
-522311.628890756
209918.83316419
