398.723555555556
0.0
0.0
-398.723555555556
-522510.351203425
210688.139219909
