4.00000000000000
0.00000000000000
0.00000000000000
-4.00000000000000
497413.95783204754000
5206486.94307786600000
