0.0625
0
0
-0.0625
-179.96875
89.96875
