<?xml version="1.0" encoding="ISO-8859-1"?>
<!DOCTYPE metadata SYSTEM "http://www.fgdc.gov/metadata/fgdc-std-001-1998.dtd">
<metadata>
	<idinfo>
		<citation>
			<citeinfo>
				<origin>USGS, FISC St. Petersburg, FL</origin>
				<pubdate>Spring 2007</pubdate>
				<title>EAARL Topography-Fire Island National Seashore</title>
				<edition>first</edition>
				<geoform>remote-sensing image</geoform>
				<serinfo>
					<sername>Open File Report</sername>
					<issue>2007-1007</issue>
				</serinfo>
				<pubinfo>
					<pubplace>FISC St. Peterburg</pubplace>
					<publish>USGS</publish>
				</pubinfo>
				<onlink>\\</onlink>
				<ftname Sync="TRUE">fr_e666_n4506edit.tif</ftname></citeinfo>
		</citation>
		<descript>
			<abstract>A first return elevation map (also known as a Digital Elevation Model or DEM) of Fire Island National Seashore was produced from remotely-sensed, geographically-referenced elevation measurements in cooperation with the U.S. Geological Survey (USGS), National Air and Space Administration (NASA), and the National Park Service (NPS). Elevation measurements were collected over the area using the NASA Experimental Advanced Airborne Research Lidar (EAARL), a pulsed laser ranging system mounted onboard an aircraft to measure ground elevation, vegetation canopy, and coastal topography. The system uses high frequency laser beams directed at the earth's surface through an opening in the bottom of the aircraft's fuselage. The laser system records the time difference between emission of the laser beam and the reception of the reflected laser signal in the aircraft. The plane travels over the target area at approximately 50 meters per second at an elevation of approximately 300 m. The EAARL, developed by NASA at Wallops Flight Facility in Virginia, measures ground elevation with a vertical resolution of 15 centimeters. A sampling rate of 3 kHz or higher results in an extremely dense spatial elevation data set. Over 100 kilometers of coastline can be easily surveyed within a 3- to 4-hour mission time period. When subsequent elevation maps for an area are analyzed, they provide a useful tool to make management decisions regarding land development.</abstract>
			<purpose>The purpose of this project was to produce a highly detailed and accurate first return digital elevation map of Fire Island National Seashore for use as a management tool and to make this map available to natural resource managers.</purpose>
			<supplinf>Raw lidar data is not in a format that is generally usable by Park Service resource managers and scientists for scientific analysis. Converting dense lidar elevation data into a readily usable format without loss of essential information requires specialized processing. The USGS converts raw lidar data into a GIS-compatible map product to be provided to National Park Service GIS specialists, managers, and scientists. The primary tool used in the conversion process is Airborne Lidar Processing System (ALPS), a multi-tiered processing system developed by a USGS/NASA collaborative project. Specialized processing algorithms are used to convert raw waveform lidar data acquired by the EAARL to georeferenced spot (x,y,z) returns for "first surface" and "bald earth" topography. These data are then converted to the North American Datum of 1983 and the North American Vertical Datum of 1988 (using the Geoid 03 model). Each file contains data located in a 2 km by 2 km tile where the upper left bound can be quickly assessed through the file name.  The first number in the filename (e######) is the left most UTM easting coordinate in meters, the second number (n#######) is the top most UTM northing coordinate in meters, and the third number (##) is the UTM zone the tile is located.</supplinf>
			<langdata Sync="TRUE">en</langdata></descript>
		<timeperd>
			<timeinfo>
				<sngdate>
					<caldate>20050425</caldate>
				</sngdate>
			</timeinfo>
			<current>ground condition</current>
		</timeperd>
		<status>
			<progress>Complete</progress>
			<update>None planned</update>
		</status>
		<spdom>
			<bounding>
				<westbc>
-72.772889</westbc>
				<eastbc>
-72.748594</eastbc>
				<northbc>
40.773496</northbc>
				<southbc>
40.755024</southbc>
			</bounding>
			<lboundng><leftbc Sync="TRUE">666001.000000</leftbc><rightbc Sync="TRUE">668002.000000</rightbc><bottombc Sync="TRUE">4504000.000000</bottombc><topbc Sync="TRUE">4506001.000000</topbc></lboundng></spdom>
		<keywords>
			<theme>
				<themekey>LIDAR</themekey>
				<themekey>Experimental Advanced Airborne Research Lidar</themekey>
				<themekey>EAARL</themekey>
				<themekey>Digital Elevation Model</themekey>
				<themekey>elevation change</themekey>
				<themekey>laser altimetry</themekey>
				<themekey>derived surface</themekey>
				<themekey>resource management</themekey>
				<themekey>first return elevation</themekey>
				<themekey>ALPS</themekey>
				<themekey>Airborne Lidar Processing System</themekey>
				<themekt>REQUIRED: Reference to a formally registered thesaurus or a similar authoritative source of theme keywords.</themekt></theme>
			<place>
				<placekey>Fire Island</placekey>
				<placekey>New York</placekey>
			</place>
		</keywords>
		<accconst>Any use of these data signifies a user's agreement to comprehension and compliance of the USGS Standard Disclaimer. Ensure all portions of metadata are read and clearly understood before using these data in order to protect both user and USGS interests. See section 6.3 Distribution Liability.</accconst>
		<useconst>Although the USGS is making these data sets available to others who may find the data of value, USGS does not warrant, endorse, or recommend the use of this data for any given purpose. The user assumes the entire risk related to the use of these data.</useconst>
		<ptcontac>
			<cntinfo>
				<cntperp>
					<cntper>Dr. John C Brock</cntper>
					<cntorg>United States Geological Survey, Center for Coastal and Watershed Studies</cntorg>
				</cntperp>
				<cntpos>Physical Oceanographer</cntpos>
				<cntaddr>
					<addrtype>mailing and physical address</addrtype>
					<address>600 4th Street South</address>
					<city>Saint Petersburg</city>
					<state>FL</state>
					<postal>33701</postal>
					<country>USA</country>
				</cntaddr>
				<cntvoice>727 803-8747 ext3088</cntvoice>
				<cntfax>727 803-2031</cntfax>
				<cntemail>jbrock@usgs.gov</cntemail>
				<hours>Monday-Friday, 8-5, EST</hours>
			</cntinfo>
		</ptcontac>
		<datacred>USGS is providing these data "as is", and USGS disclaims any and all warranties, whether expressed or implied, including (without limitation) any implied warranties of merchantability or fitness for a particular purpose. In no event will USGS be liable to you or to any third party for any direct, indirect, incidental, consequential, special, or exemplary damages or lost profits resulting from any use or misuse of these data. Acknowledgement of the U.S. Geological Survey Center for Coastal and Watershed Studies as a data source would be appreciated in products developed from these data, and such acknowledgement as is standard for citation and legal practices for data source is expected by users of this data. Sharing new data layers developed directly from these data would also be appreciated by USGS staff. Users should be aware that comparisons with other data sets for the same area from other time periods may be inaccurate due to inconsistencies resulting from changes in photo interpretation, mapping conventions, and digital processes over time. These data are not legal documents and are not to be used as such.</datacred>
		<secinfo>
			<secclass>Unclassified</secclass>
		</secinfo>
		<native>Microsoft Windows XP Version 5.1 (Build 2600) Service Pack 2; ESRI ArcCatalog 9.2.1.1332</native>
		<natvform Sync="TRUE">Raster Dataset</natvform></idinfo>
	<dataqual>
		<attracc>
			<attraccr>The expected accuracy of the measured variables are as follows: attitude within 0.07 degree, 3-cm nominal ranging accuracy, and vertical elevation accuracy of +/-15 cm for the topographic surface. Quality checks are built into the data-processing software.</attraccr>
		</attracc>
		<complete>Several regions of the dataset are labeled as "No Data", which corresponds to a cell value of -100 m in the GeoTiff file. These "No Data" areas are a result of the survey not covering a particular region, optical water depth of greater than 1.5 Secchi disc depths, or the manual removal of lidar processing artifacts.</complete>
		<posacc>
			<horizpa>
				<horizpar>Raw elevation measurements have been determined to be within 1 meter horizontal accuracy.</horizpar>
			</horizpa>
			<vertacc>
				<vertaccr>Elevations of the DEM are vertically consistent with the point elevation data, +/-15 cm.</vertaccr>
			</vertacc>
		</posacc>
		<lineage>
			<srcinfo>
				<srctime>
					<timeinfo>
						<sngdate>
							<caldate>20050424</caldate>
						</sngdate>
					</timeinfo>
					<srccurr>ground condition</srccurr>
				</srctime>
			</srcinfo>
			<procstep>
				<procdesc>The data are collected using a Cessna 310 aircraft. The NASA Experimental Advanced Airborne Research Lidar (EAARL) laser scanner collects the data using a green (532nm) raster scanning laser, while a digital camera acquires a visual record of the flight. The data are stored on hard drives and archived at the USGS office in St. Petersburg and the NASA office at Wallops Flight Facility. The navigational data are processed at Wallops Flight Facility. The navigational and raw data are then downloaded into the Airborne Lidar Processing System (ALPS). Data are converted from units of time to x,y,z points for elevation. The derived surface data can then be converted into raster data (geotiffs).</procdesc>
				<procdate>June 2005 - February 2006</procdate>
				<proccont>
					<cntinfo>
						<cntperp>
							<cntper>Amar Nayegandhi</cntper>
							<cntorg>ETI Professionals, Inc. Contracted with US Geological Survey</cntorg>
						</cntperp>
						<cntpos>Computer Scientist</cntpos>
						<cntaddr>
							<addrtype>mailing and physical address</addrtype>
							<address>600 4th Street South</address>
							<city>St. Petersburg</city>
							<state>Florida</state>
							<postal>33701</postal>
							<country>USA</country>
						</cntaddr>
						<cntvoice>727-803-8747</cntvoice>
						<hours>8:00am to 5:00pm Monday thru Friday, EST</hours>
						<cntinst>Call Survey for Details</cntinst>
					</cntinfo>
				</proccont>
			</procstep>
			<procstep>
				<procdesc>The raster dataset was opened in ERDAS IMAGINE for editing. An Area of Interest (AOI) polygon was drawn around regions of poor data quality. Poor data quality was determined visually by locating gaps in the data as well as artifacts of the lidar processing. Pixels within the AOI polygons were given a raster value of -100 to correspond with other areas of No Data.</procdesc>
				<procdate>July 2006</procdate>
				<proccont>
					<cntinfo>
						<cntperp>
							<cntper>Judd Patterson</cntper>
							<cntorg>National Park Service South Florida / Caribbean Network Inventory and Monitoring Program</cntorg>
						</cntperp>
						<cntpos>Research Assistant</cntpos>
						<cntaddr>
							<addrtype>mailing and physical address</addrtype>
							<address>18001 Old Cutler Rd</address>
							<address>Suite 419</address>
							<city>Miami</city>
							<state>Florida</state>
							<postal>33157</postal>
							<country>USA</country>
						</cntaddr>
						<cntvoice>(305) 252-0347</cntvoice>
						<cntfax>(305) 253-0463</cntfax>
					</cntinfo>
				</proccont>
			</procstep>
			<procstep>
				<procdesc>Metadata imported.</procdesc>
				<srcused>\\</srcused>
				<procdate>20070807</procdate>
				<proccont>
					<cntinfo>
						<cntorgp>
							<cntorg>USGS</cntorg>
						</cntorgp>
						<cntaddr>
							<addrtype>mailing and physical address</addrtype>
							<address>600 4th Street South</address>
							<city>St. Petersburg</city>
							<state>FL</state>
							<postal>33701</postal>
							<country>USA</country>
						</cntaddr>
						<cntvoice>727-803-8747</cntvoice>
					</cntinfo>
				</proccont>
			</procstep>
			<procstep><procdesc Sync="TRUE">Metadata imported.</procdesc><srcused Sync="TRUE">D:\Science_Support_PC\L_Travers\J_Brock\Updated_Lidar_OFRS\FIIS\Meta_temps\FIIS_meta_temp.xml</srcused><date Sync="TRUE">20070807</date><time Sync="TRUE">11342000</time></procstep></lineage>
	</dataqual>
	<spdoinfo>
		<indspref>Tiling Index</indspref>
		<direct>Raster</direct>
		<rastinfo>
			<rasttype>Pixel</rasttype>
			<rowcount>2001</rowcount>
			<colcount>2001</colcount>
			<vrtcount>1</vrtcount>
			<rastxsz Sync="TRUE">1.000000</rastxsz><rastysz Sync="TRUE">1.000000</rastysz><rastbpp Sync="TRUE">32</rastbpp><rastorig Sync="TRUE">Upper Left</rastorig><rastcmap Sync="TRUE">FALSE</rastcmap><rastcomp Sync="TRUE">None</rastcomp><rastband Sync="TRUE">1</rastband><rastdtyp Sync="TRUE">pixel RGB</rastdtyp><rastplyr Sync="TRUE">TRUE</rastplyr><rastifor Sync="TRUE"></rastifor></rastinfo>
	</spdoinfo>
	<spref>
		<horizsys>
			<planar>
				<planci>
					<plance>row and column</plance>
					<coordrep>
						<absres>1.000000</absres>
						<ordres>1.000000</ordres>
					</coordrep>
					<plandu>meters</plandu>
				</planci>
				<gridsys><gridsysn Sync="TRUE">Universal Transverse Mercator</gridsysn><utm><utmzone Sync="TRUE">18</utmzone><transmer><sfctrmer Sync="TRUE">0.999600</sfctrmer><longcm Sync="TRUE">-75.000000</longcm><latprjo Sync="TRUE">0.000000</latprjo><feast Sync="TRUE">500000.000000</feast><fnorth Sync="TRUE">0.000000</fnorth></transmer></utm></gridsys></planar>
			<geodetic>
				<horizdn>North American Datum of 1983</horizdn>
				<ellips>Geodetic Reference System 80</ellips>
				<semiaxis>6378137.000000</semiaxis>
				<denflat>298.257222</denflat>
			</geodetic>
			<cordsysn><geogcsn Sync="TRUE">GCS_North_American_1983</geogcsn><projcsn Sync="TRUE">NAD_1983_UTM_Zone_18N</projcsn></cordsysn></horizsys>
		<vertdef>
			<altsys>
				<altdatum>North American Vertical Datum of 1988</altdatum>
				<altres>15 cm</altres>
				<altunits>meters</altunits>
				<altenc>Explicit elevation coordinate included with horizontal coordinates</altenc>
			</altsys>
		</vertdef>
	</spref>
	<eainfo>
		<overview>
			<eadetcit>The variables measured by EAARL are: distance between aircraft and GPS satellites (m), attitude information (roll, pitch, heading in degrees), scan angle (degrees), second of the epoch (sec), and 1-ns time-resolved return intensity waveform (digital counts). Z value is referenced to orthometric elevations derived from National Geodetic Survey Geoid Model, Geoid03.</eadetcit>
		</overview>
	</eainfo>
	<distinfo>
		<distrib>
			<cntinfo>
				<cntperp>
					<cntper>Jerry Butcher</cntper>
					<cntorg>USGS Center for Coastal and Watershed Studies</cntorg>
				</cntperp>
				<cntpos>Windows System Administrator</cntpos>
				<cntaddr>
					<addrtype>mailing address</addrtype>
					<address>600 4th Street South</address>
					<city>Saint Petersburg</city>
					<state>FL</state>
					<postal>33701</postal>
					<country>USA</country>
				</cntaddr>
				<cntvoice>727-803-8747 x3049</cntvoice>
			</cntinfo>
		</distrib>
		<resdesc>Lidar DEM (Fire Island)</resdesc>
		<distliab>The United States Geological Survey shall not be held liable for improper or incorrect use of the data described and/or contained herein. These data and related graphics are not legal documents and are not intended to be used as such. The information contained in these data is dynamic and may change over time. The data are not better than the original sources from which they were derived. It is the responsibility of the data user to use the data appropriately and consistent within the limitations of geospatial data in general and these data in particular. The related graphics are intended to aid the data user in acquiring relevant data; it is not appropriate to use the related graphics as data. The United States Geological Survey gives no warranty, expressed or implied, as to the accuracy, reliability, or completeness of these data. It is strongly recommended that these data are directly acquired from an USGS server and not indirectly through other sources which may have changed the data in some way. Although these data have been processed successfully on a computer system at the United States Geological Survey, no warranty expressed or implied is made regarding the utility of the data on another system or for general or scientific purposes, nor shall the act of distribution constitute any such warranty. This disclaimer applies both to individual use of the data and aggregate use with other data.</distliab>
		<stdorder>
			<digform>
				<digtinfo>
					<formname>GeoTIFF</formname>
					<transize>0.000</transize>
					<dssize Sync="TRUE">0.000</dssize></digtinfo>
			</digform>
		</stdorder>
		<custom>Call USGS for Details</custom>
		<availabl>
			<timeinfo>
				<sngdate>
					<caldate>20050425</caldate>
				</sngdate>
			</timeinfo>
		</availabl>
	</distinfo>
	<metainfo>
		<metd>20070807</metd>
		<metc>
			<cntinfo>
				<cntorgp>
					<cntorg>USGS Center for Coastal and Watershed Studies</cntorg>
					<cntper>Jeremy Bracone</cntper>
				</cntorgp>
				<cntaddr>
					<addrtype>600 4th Street South</addrtype>
					<city>Saint Petersburg</city>
					<state>FL</state>
					<postal>33701</postal>
				</cntaddr>
				<cntvoice>(727)803-8747</cntvoice>
			</cntinfo>
		</metc>
		<metstdn>FGDC Content Standards for Digital Geospatial Metadata</metstdn>
		<metstdv>FGDC-STD-001-1998</metstdv>
		<mettc>local time</mettc>
		<langmeta Sync="TRUE">en</langmeta><metextns><onlink Sync="TRUE">http://www.esri.com/metadata/esriprof80.html</onlink><metprof Sync="TRUE">ESRI Metadata Profile</metprof></metextns></metainfo>
	<Esri><ModDate>20070807</ModDate><ModTime>11342000</ModTime><MetaID>{6BB55BE8-80C1-4CDD-9EFA-016DC865BD84}</MetaID><CreaDate>20070807</CreaDate><CreaTime>11342000</CreaTime><SyncOnce>FALSE</SyncOnce><SyncDate>20070807</SyncDate><SyncTime>11342000</SyncTime></Esri><mdDateSt Sync="TRUE">20070807</mdDateSt><dataIdInfo><envirDesc Sync="TRUE">Microsoft Windows XP Version 5.1 (Build 2600) Service Pack 2; ESRI ArcCatalog 9.2.1.1332</envirDesc><dataLang><languageCode Sync="TRUE" value="en"></languageCode></dataLang><idCitation><resTitle Sync="TRUE">fr_e666_n4506edit.tif</resTitle><presForm><PresFormCd Sync="TRUE" value="005"></PresFormCd></presForm></idCitation><spatRpType><SpatRepTypCd Sync="TRUE" value="002"></SpatRepTypCd></spatRpType><dataExt><geoEle><GeoBndBox esriExtentType="native"><westBL Sync="TRUE">666001</westBL><eastBL Sync="TRUE">668002</eastBL><northBL Sync="TRUE">4506001</northBL><southBL Sync="TRUE">4504000</southBL><exTypeCode Sync="TRUE">1</exTypeCode></GeoBndBox></geoEle></dataExt><geoBox esriExtentType="decdegrees"><westBL Sync="TRUE">-73.036</westBL><eastBL Sync="TRUE">-73.011804</eastBL><northBL Sync="TRUE">40.6882</northBL><southBL Sync="TRUE">40.669779</southBL><exTypeCode Sync="TRUE">1</exTypeCode></geoBox></dataIdInfo><mdLang><languageCode Sync="TRUE" value="en"></languageCode></mdLang><mdStanName Sync="TRUE">ISO 19115 Geographic Information - Metadata</mdStanName><mdStanVer Sync="TRUE">DIS_ESRI1.0</mdStanVer><mdChar><CharSetCd Sync="TRUE" value="004"></CharSetCd></mdChar><mdHrLv><ScopeCd Sync="TRUE" value="005"></ScopeCd></mdHrLv><mdHrLvName Sync="TRUE">dataset</mdHrLvName><distInfo><distributor><distorTran><onLineSrc><linkage Sync="TRUE">file://\\IGSAFPESWS114\D$\Science_Support_PC\L_Travers\J_Brock\Updated_Lidar_OFRS\FIIS\LIDAR\e666_n4506\fr_e666_n4506edit.tif</linkage><protocol Sync="TRUE">Local Area Network</protocol><orDesc Sync="TRUE">002</orDesc></onLineSrc><transSize Sync="TRUE">0.000</transSize></distorTran><distorFormat><formatName Sync="TRUE">Raster Dataset</formatName></distorFormat></distributor></distInfo><refSysInfo><RefSystem><refSysID><identCode Sync="TRUE">NAD_1983_UTM_Zone_18N</identCode></refSysID></RefSystem></refSysInfo><spatRepInfo><GridSpatRep><numDims Sync="TRUE">2</numDims><cellGeo><CellGeoCd Sync="TRUE" value="002"></CellGeoCd></cellGeo><tranParaAv Sync="TRUE">1</tranParaAv><axDimProps><Dimen><dimName><DimNameTypCd Sync="TRUE" value="002"></DimNameTypCd></dimName><dimSize Sync="TRUE">2001</dimSize><dimResol><value Sync="TRUE">1</value><uom><UomLength><uomName Sync="TRUE">Meter</uomName><conversionToISOstandardUnit Sync="TRUE">1 Meter = 1 Meter(s)</conversionToISOstandardUnit></UomLength></uom></dimResol></Dimen><Dimen><dimName><DimNameTypCd Sync="TRUE" value="001"></DimNameTypCd></dimName><dimSize Sync="TRUE">2001</dimSize><dimResol><value Sync="TRUE">1</value><uom><UomLength><uomName Sync="TRUE">Meter</uomName><conversionToISOstandardUnit Sync="TRUE">1 Meter = 1 Meter(s)</conversionToISOstandardUnit></UomLength></uom></dimResol></Dimen></axDimProps></GridSpatRep></spatRepInfo></metadata>
