400
0.0
0.0
-400
-505067.666371246
173732.333628754
