<?xml version="1.0"?>
<metadata>
	<idinfo>
		<citation>
			<citeinfo>
				<origin>United States Geological Survey, FISC St. Petersburg</origin>
				<pubdate>December 2007</pubdate>
				<title>EAARL Topography-Padre Island National Seashore</title>
				<edition>First</edition>
				<geoform>raster digital data</geoform>
				<serinfo>
					<sername>Open File Report</sername>
					<issue>2007-1431</issue></serinfo>
				<othercit>The USGS, in cooperation with the National Park Service (NPS) and the National Aeronautics and Space Administration (NASA), provides the coastal management community with usable digital elevation products. The USGS processes aircraft Lidar data (provided by NASA), develops software tools and algorithms to use and analyze the data and make products available to the coastal management community through a variety of media, including the internet, CD-ROMs, DVDs and data reports.</othercit>
				<ftname Sync="TRUE">
				</ftname><pubinfo><pubplace>St. Petersburg, FL</pubplace><publish>USGS</publish></pubinfo></citeinfo>
		</citation>
		<descript>
			<abstract>Elevation maps (also known as Digital Elevation Models or DEMs) of Padre Island National Seashore were produced from remotely-sensed, geographically-referenced elevation measurements in cooperation with NASA and NPS. Point data in ascii text files were interpolated in a GIS to create a grid or digital elevation model (DEM) of each beach surface. Elevation measurements were collected in Texas, over Padre Island National Seashore, using the NASA Experimental Advanced Airborne Research Lidar (EAARL), a pulsed laser ranging system mounted onboard an aircraft to measure ground elevation and coastal topography. The system uses high frequency laser beams directed at the earth's surface through an opening in the bottom of the aircraft's fuselage. The laser system records the time difference between emission of the laser beam and the reception of the reflected laser signal in the aircraft. The plane travels over the beach at approximately 60 meters per second while surveying from the low-water line to the landward base of the sand dunes. The EAARL, developed by the National Aeronautics and Space Administration (NASA) located at Wallops Flight Facility in Virginia, measures ground elevation with a vertical resolution of 15 centimeters. A sampling rate of 3 kHz or higher results in an extremely dense spatial elevation data set. Over 100 kilometers of coastline can be easily surveyed within a 3- to 4-hour mission time period. The ability to sample large areas rapidly and accurately is especially useful in morphologically dynamic areas such as barrier beaches. Quick assessment of topographic change can be made following storms comparing measurements against baseline data. When subsequent elevation maps for an area are analyzed, they provide a useful tool to make management decisions regarding coastal development.</abstract>
			<purpose>One goal of the project is to produce highly detailed and accurate digital elevation maps (DEMs) of National Seashores and coastal parks for use as a management tool and to make these maps available to natural resource managers within the parks.</purpose>
			<supplinf>Raw Lidar data is not in a format that is generally usable by National Park Service resource managers and scientists for scientific analysis.  Converting dense Lidar elevation data into a readily usable format without loss of essential information requires specialized processing.  The USGS converts raw Lidar data into a GIS-compatible map product to be provided to National Park Service GIS specialists, managers, and scientists.  The primary tool used in the conversion process is Airborne Lidar Processing System (ALPS), a multitiered processing system developed by a USGS/NASA collaborative for the use of topographic Lidar in coastal change assessment.  Specialized processing algorithms are used to convert raw waveform Lidar data acquired by the EAARL to georeferenced spot (x,y,z) returns for "first return" and "bare earth" topography.  These data are then converted to the NAD83 horizontal and NAVD88 vertical datum (using the Geoid 99 model). The final products are 2x2-km map tiles written out in a standard geotiff format with associated metadata information. These tiles are created for visual interpretation and regional quantitative analysis. Metadata files include the standard FGDC format.</supplinf>
			<langdata Sync="TRUE">en</langdata></descript>
		<timeperd>
			<timeinfo>
				<mdattim><sngdate><caldate>20050930</caldate></sngdate><sngdate><caldate>20051001</caldate></sngdate><sngdate><caldate>20051002</caldate></sngdate></mdattim></timeinfo>
			<current>ground condition</current>
		</timeperd>
		<status>
			<progress>Complete</progress>
			<update>Unknown</update>
		</status>
		<spdom>
			<bounding>
			</bounding>
			<lboundng><leftbc Sync="TRUE">466001.000000</leftbc><rightbc Sync="TRUE">468001.000000</rightbc><bottombc Sync="TRUE">4188000.000000</bottombc><topbc Sync="TRUE">4190000.000000</topbc></lboundng></spdom>
		<keywords>
			<theme>
				<themekey>Lidar</themekey>
				<themekey>Experimental Advanced Airborne Research Lidar</themekey>
				<themekey>digital elevation model</themekey>
				<themekey>elevation change</themekey>
				<themekey>laser altimetry</themekey>
				<themekey>derived surface</themekey>
				<themekey>resource management</themekey>
				<themekey>bare earth elevation</themekey>
				<themekey>ALPS</themekey>
				<themekey>Airborne Lidar Processing System</themekey>
				<themekt>NONE</themekt></theme>
			<place>
				<placekey>Padre Island National Seashore</placekey>
				<placekey>Texas</placekey>
				<placekey>United States Gulf of Mexico</placekey>
			</place>
			<stratum><stratkey>bare earth topography</stratkey></stratum></keywords>
		<accconst>Any use of these data signifies a user's agreement to comprehension and compliance of the U. S. Geological Survey Standard Disclaimer.  Ensure all portions of metadata are read and clearly understood before using these data in order to protect both user and U. S. Geological Survey interests.  See section 6.3 Distribution Liability.</accconst>
		<useconst>Although the U. S. Geological Survey is making these data sets available to others who may find the data of value, U. S. Geological Survey does not warrant, endorse, or recommend the use of thes data for any given purpose.  The user assumes the entire risk related to the use of these data.  These data sets are not for navigational purposes.  U. S. Geological Survey is providing these data "as is", and U. S. Geological Survey disclaims any and all warranties, whether expressed or implied, including (without limitation) any implied warranties of merchantability or fitness for a particular purpose.  In no event will U. S. Geological Survey be liable to you or to any third party for any direct, indirect, incidental, consequential, special, or exemplary damages or lost profits resulting from any use or misuse of these data.

Acknowledgement of the U.S. Geological Survey, FISC St. Petersburg as a data source would be appreciated in products developed from these data, and such acknowledgement as is standad for citation and legal practices for data source is expected by users of this data.  Sharing new data layers developed directly from these data would also be appreciated by U. S. Geological Survey staff.  Users should be aware that comparisons with other data sets for the same area from other time periods may be inaccurate due to inconsistencies resulting from changes in photo interpretation, mapping conventions, and digital processes over time.  These data are not legal documents and are not to be used as such.</useconst>
		<ptcontac>
			<cntinfo>
				<cntorgp>
					<cntorg>United States Geological Survey, FISC St. Petersburg</cntorg>
					<cntper>Dr. John C. Brock</cntper>
				</cntorgp>
				<cntpos>Physical Oceanographer</cntpos>
				<cntaddr>
					<addrtype>mailing and physical address</addrtype>
					<address>600 4th Street South</address>
					<city>St. Petersburg</city>
					<state>Florida</state>
					<postal>33701-</postal>
					<country>USA</country>
				</cntaddr>
				<cntvoice>727 803-8747 ext3088</cntvoice>
				<cntfax>727 803-2031</cntfax>
				<cntemail>jbrock@usgs.gov</cntemail>
				<hours>Monday-Friday, 8-5, EST</hours>
			</cntinfo>
		</ptcontac>
		<datacred>The U. S. Geological Survey, FISC St. Petersburg, would like to acknowledge NASA Goddard Space Flight Center for their cooperation and assistance in the development of the data.  The U. S. Geological Survey would also like to acknowledege National Park Service management and personnel at Padre Island National Seashore.</datacred>
		<native>Microsoft Windows XP Version 5.1 (Build 2600) Service Pack 2; ESRI ArcCatalog 9.1.0.722</native>
		<crossref>
			<citeinfo>
				<origin>Brock, J.C.; Wright, C.W.; Sallenger, A.H; Krabill, W.B., and Swift, R.N</origin>
				<pubdate>2003</pubdate>
				<title>Basis and Methods of NASA Ariborne Topographic Mapper Lidar Surveys for Coastal Studies</title>
				<geoform>journal article</geoform>
				<pubinfo>
					<pubplace>West Palm Beach, FL</pubplace>
					<publish>Journal of Coastal Research</publish>
				</pubinfo>
			</citeinfo>
		</crossref>
		<crossref>
			<citeinfo>
				<origin>John Brock and Asbury Sallenger, US Geological Survey</origin>
				<pubdate>2001</pubdate>
				<title>Airborne Topographic Lidar Mapping for Coastal Science and Resource Management</title>
				<geoform>USGS Open File Report</geoform>
				<pubinfo>
					<pubplace>St. Petersburg, FL</pubplace>
					<publish>US Geological Survey</publish>
				</pubinfo>
			</citeinfo>
		</crossref>
		<natvform Sync="TRUE">Raster Dataset</natvform><secinfo><secclass>Unclassified</secclass></secinfo></idinfo>
	<dataqual>
		<attracc>
			<attraccr>The expected accuracy of the measured variables are as follows: attitude within 0.07 degree, 3-cm nominal ranging accuracy, and verticle elevation accuracy of +/- 15cm (bald earth).  Quality checks are built into the data-processing software.</attraccr>
		</attracc>
		<complete>unknown</complete>
		<posacc>
			<horizpa>
				<horizpar>Raw elevation measurements have been determined to be within 1.5 meter horizontal accuracy. Processing steps (grid interpolation) may introduce additional error which has not been tested at the time of this publication.</horizpar>
			</horizpa>
			<vertacc>
				<vertaccr>Elevations of the DEM are vertically consistent with the point elevation data, +/- 15cm.</vertaccr>
			</vertacc>
		</posacc>
		<lineage>
			<procstep>
				<procdesc>The data are collected using a Cessna 310 aircraft.  The NASA Experimental Advanced Airborne Research Lidar (EAARL) laser scanner collects the data using a green (532nm) raster scanning laser, while a digital camera acquires a visual record of the flight.  The data are stored on hard drives and archived at the U. S. Geological Survey, FISC St. Petersburg office and the NASA Wallops office.  The navigational data are processed at Wallops.  The navigational and raw data are then downloaded into the Airborne Lidar Processing System (ALPS).  Data are converted from units of time to x,y,z points for elevation. The derived surface data can then be converted into raster data (geotiffs).</procdesc>
				<procdate>2006</procdate>
				<proccont>
					<cntinfo>
						<cntorgp>
							<cntorg>United States Geological Survey</cntorg>
							<cntper>Amar Nayegandhi</cntper>
						</cntorgp>
						<cntpos>Computer Scientist</cntpos>
						<cntaddr>
							<addrtype>mailing and physical address</addrtype>
							<address>600 4th Street South</address>
							<city>St. Petersburg</city>
							<state>Florida</state>
							<postal>33701-</postal>
							<country>USA</country>
						</cntaddr>
						<cntvoice>727-803-8747</cntvoice>
						<hours>8:00am to 5:00pm Monday thru Friday, EST</hours>
						<cntinst>Call Survey for Details</cntinst>
					</cntinfo>
				</proccont>
				<procsv> ALPS (Airborne Lidar Processing System) using Yorick and TCL/TK programs</procsv></procstep>
			<procstep><procdesc>The raster dataset was opened in ERDAS IMAGINE for editing. An Area of Interest (AOI) polygon was drawn around regions of poor data quality. Poor data quality was determined visually by locating gaps in the data as well as artifacts (e.g. spikes, large facets) of the lidar processing. Pixels within the AOI polygons were given a raster value of -100 to correspond with the classification of 'No Data'</procdesc><date Sync="TRUE">20070802</date><time Sync="TRUE">10332700</time><proccont><cntinfo><cntaddr><addrtype>mailing and physical address</addrtype><address>18001 Old Cutler Road, Suite 419</address><city>Palmetto Bay</city><state>FL</state><postal>33157</postal><country>USA</country></cntaddr><cntorgp><cntorg>National Park Service South Florida/Caribbean Network</cntorg></cntorgp><cntvoice>(305) 252-0347</cntvoice></cntinfo></proccont><procsv>ArcCatalog 9.2</procsv><procdate>July 2007</procdate></procstep><procstep><proccont><cntinfo><cntaddr><addrtype>mailing and physical address</addrtype><address>600 4th Street South</address><city>St. Petersburg</city><state>FL</state><postal>33701</postal><country>USA</country></cntaddr><cntvoice>727-803-8747</cntvoice><cntorgp><cntorg>US Geological Survey, FISC St. Petersburg</cntorg><cntper>Laurinda J. Travers</cntper></cntorgp></cntinfo></proccont><procdesc>Metadata created from XML files.</procdesc><procsv>ArcCatalog 9.2.0 1324</procsv><procdate>20070829</procdate></procstep><srcinfo><srctime><timeinfo><sngdate><caldate>20050930</caldate></sngdate></timeinfo><srccurr>ground condition</srccurr></srctime></srcinfo></lineage>
	</dataqual>
	<spdoinfo>
		<direct Sync="TRUE">Raster</direct>
		<rastinfo>
			<rasttype>Grid Cell</rasttype>
			<rowcount Sync="TRUE">2000</rowcount>
			<colcount Sync="TRUE">2000</colcount>
			<vrtcount Sync="TRUE">1</vrtcount>
			<rastxsz Sync="TRUE">1.000000</rastxsz><rastysz Sync="TRUE">1.000000</rastysz><rastbpp Sync="TRUE">32</rastbpp><rastorig Sync="TRUE">Upper Left</rastorig><rastcmap Sync="TRUE">FALSE</rastcmap><rastcomp Sync="TRUE">None</rastcomp><rastband Sync="TRUE">1</rastband><rastdtyp>unique values</rastdtyp><rastplyr Sync="TRUE">TRUE</rastplyr><rastifor>GEOTIFF</rastifor><rastxu>meter</rastxu><rastyu>meter</rastyu><rastnodt>-100</rastnodt><rastityp>DEM</rastityp></rastinfo>
	</spdoinfo>
	<spref>
		<horizsys>
			<planar>
				<planci>
					<plance Sync="TRUE">row and column</plance>
					<coordrep>
						<absres Sync="TRUE">1.000000</absres>
						<ordres Sync="TRUE">1.000000</ordres>
					</coordrep>
					<plandu Sync="TRUE">meters</plandu>
				</planci>
				<gridsys><gridsysn Sync="TRUE">Universal Transverse Mercator</gridsysn><utm><utmzone>14</utmzone><transmer><sfctrmer Sync="TRUE">0.999600</sfctrmer><longcm Sync="TRUE">-75.000000</longcm><latprjo Sync="TRUE">0.000000</latprjo><feast Sync="TRUE">500000.000000</feast><fnorth Sync="TRUE">0.000000</fnorth></transmer></utm></gridsys></planar>
			<geodetic>
				<horizdn Sync="TRUE">North American Datum of 1983</horizdn>
				<ellips Sync="TRUE">Geodetic Reference System 80</ellips>
				<semiaxis Sync="TRUE">6378137.000000</semiaxis>
				<denflat Sync="TRUE">298.257222</denflat>
			</geodetic>
			<cordsysn><geogcsn Sync="TRUE">GCS_North_American_1983</geogcsn><projcsn>NAD_1983_UTM_Zone_14N</projcsn></cordsysn></horizsys>
		<vertdef>
			<altsys>
				<altdatum>North American Vertical Datum of 1988</altdatum>
				<altres>.15</altres>
				<altunits>meters</altunits>
				<altenc>Explicit elevation coordinate included with horizontal coordinates</altenc>
			</altsys>
		</vertdef>
	</spref>
	<eainfo>
		<overview>
			<eaover>The attributes measured are as follows: variables measured by EAARL - distance between aircraft and GPS satellites (m), attitude information (roll, pitch, heading in degrees), scan angle (degrees), second of the epoch (sec), 1-ns time-resolved return intensity waveform (digital counts), and co-registered digital aerial photography.  For derived variables, WGS84, NAD83 or other UTM eastings and northings (m), NAVD88 elevations (m), and peak amplitude (intensity). For derived surfaces, bare-earth elevations, and first-return elevations.</eaover>
		</overview>
	</eainfo>
	<distinfo>
		<distrib>
			<cntinfo>
				<cntorgp>
					<cntorg>United States Geological Survey,  FISC St. Petersburg</cntorg>
				</cntorgp>
				<cntaddr>
					<addrtype>mailing address</addrtype>
					<address>600 4th Street South</address>
					<city>St. Petersburg</city>
					<state>FL</state>
					<postal>33701</postal>
					<country>USA</country>
				</cntaddr>
				<cntvoice>727-803-8747</cntvoice>
				<cntinst>Call Office for Details</cntinst>
				<hours>8:30-5:00 M-F EST</hours></cntinfo>
		</distrib>
		<distliab>The United States Geological Survey shall not be held liable for improper or incorrect use of the data described and/or contained herein. These data and related graphics are not legal documents and are not intended to be used as such.

The information contained in these data is dynamic and may change over time. The data are not better than the original sources from which they were derived. It is the responsibility of the data user to use the data appropriately and consistent within the limitations of geospatial data in general and these data in particular. The related graphics are intended to aid the data user in acquiring relevant data; it is not appropriate to use the related graphics as data.

The United States Geological Survey gives no warranty, expressed or implied, as to the accuracy, reliability, or completeness of these data. It is strongly recommended that these data are directly acquired from an USGS server and not indirectly through other sources which may have changed the data in some way. Although these data have been processed successfully on a computer system at the United States Geological Survey, no warranty expressed or implied is made regarding the utility of the data on another system or for general or scientific purposes, nor shall the act of distribution constitute any such warranty. This disclaimer applies both to individual use of the data and aggregate use with other data.</distliab>
		<stdorder>
			<digform>
				<digtinfo>
					<transize Sync="TRUE">15.275</transize>
					<dssize Sync="TRUE">15.275</dssize></digtinfo>
			</digform>
			<ordering>Contact USGS for details.</ordering></stdorder>
		<custom>Contact USGS for Details</custom>
		<availabl><timeinfo><mdattim><sngdate><caldate>20050930</caldate></sngdate><sngdate><caldate>20051001</caldate></sngdate><sngdate><caldate>20051002</caldate></sngdate></mdattim></timeinfo></availabl></distinfo>
	<metainfo>
		<metd Sync="TRUE">20080108</metd>
		<metc>
			<cntinfo>
				<cntorgp>
					<cntorg>US Geological Survey, FISC St. Petersburg</cntorg>
					<cntper>Laurinda J. Travers</cntper></cntorgp>
				<cntaddr>
					<addrtype>mailing and physical address</addrtype>
					<address>600 4th Street South</address>
					<city>St. Petersburg</city>
					<state>Florida</state>
					<postal>33701</postal>
					<country>USA</country>
				</cntaddr>
				<cntvoice>727-803-8747</cntvoice>
				<cntinst>Call Survey for Details</cntinst>
				<hours>8:30-5:00 M-F EST</hours></cntinfo>
		</metc>
		<metstdn Sync="TRUE">FGDC Content Standards for Digital Geospatial Metadata</metstdn>
		<metstdv Sync="TRUE">FGDC-STD-001-1998</metstdv>
		<mettc Sync="TRUE">local time</mettc>
		<metextns>
			<onlink>http://www.esri.com/metadata/esriprof80.html</onlink>
			<metprof>ESRI Metadata Profile</metprof>
		</metextns>
		<langmeta Sync="TRUE">en</langmeta></metainfo>
	<Esri><CreaDate>20080109</CreaDate><CreaTime>10390300</CreaTime><SyncOnce>FALSE</SyncOnce><SyncDate>20050712</SyncDate><SyncTime>10081400</SyncTime><ModDate>20080108</ModDate><ModTime>15321600</ModTime><DataProperties><lineage><Process ToolSource="C:\Program Files\ArcGIS\ArcToolbox\Toolboxes\Data Management Tools.tbx\CalculateStatistics" Date="20050706" Time="091350">CalculateStatistics D:\ASIS04_geotiffs\ASIS2004  1 1 # D:\ASIS04_geotiffs\ASIS2004 </Process></lineage></DataProperties><MetaID>{FAAA0719-87BA-4904-B924-555027B58A58}</MetaID></Esri><dataIdInfo><envirDesc Sync="TRUE">Microsoft Windows XP Version 5.1 (Build 2600) Service Pack 2; ESRI ArcCatalog 9.0.0.535</envirDesc><dataLang><languageCode Sync="TRUE" value="en"></languageCode></dataLang><idCitation><resTitle Sync="TRUE">
			</resTitle><presForm><PresFormCd Sync="TRUE" value="005"></PresFormCd></presForm></idCitation><spatRpType><SpatRepTypCd Sync="TRUE" value="002"></SpatRepTypCd></spatRpType><dataExt><geoEle><GeoBndBox esriExtentType="native"><westBL Sync="TRUE">466001</westBL><eastBL Sync="TRUE">468001</eastBL><northBL Sync="TRUE">4190000</northBL><southBL Sync="TRUE">4188000</southBL><exTypeCode Sync="TRUE">1</exTypeCode></GeoBndBox></geoEle></dataExt><geoBox esriExtentType="decdegrees"><westBL Sync="TRUE">-75.386493</westBL><eastBL Sync="TRUE">-75.36367</eastBL><northBL Sync="TRUE">37.856897</northBL><southBL Sync="TRUE">37.838799</southBL><exTypeCode Sync="TRUE">1</exTypeCode></geoBox></dataIdInfo><mdLang><languageCode Sync="TRUE" value="en"></languageCode></mdLang><mdStanName Sync="TRUE">ISO 19115 Geographic Information - Metadata</mdStanName><mdStanVer Sync="TRUE">DIS_ESRI1.0</mdStanVer><mdChar><CharSetCd Sync="TRUE" value="004"></CharSetCd></mdChar><mdHrLv><ScopeCd Sync="TRUE" value="005"></ScopeCd></mdHrLv><mdHrLvName Sync="TRUE">dataset</mdHrLvName><distInfo><distributor><distorTran><onLineSrc><orDesc Sync="TRUE">002</orDesc><linkage Sync="TRUE">file://\\IGSAFPESWS114\D$\Science_Support_PC\L_Travers\J_Brock\Updated_Lidar_OFRS\PAIS\Metadata\Meta_temps\THST_meta_temp</linkage><protocol Sync="TRUE">Local Area Network</protocol></onLineSrc><transSize Sync="TRUE">15.275</transSize></distorTran><distorFormat><formatName Sync="TRUE">Raster Dataset</formatName></distorFormat></distributor></distInfo><refSysInfo><RefSystem><refSysID><identCode Sync="TRUE">NAD_1983_UTM_Zone_18N</identCode></refSysID></RefSystem></refSysInfo><spatRepInfo><GridSpatRep><numDims Sync="TRUE">2</numDims><cellGeo><CellGeoCd Sync="TRUE" value="002"></CellGeoCd></cellGeo><tranParaAv Sync="TRUE">1</tranParaAv><axDimProps><Dimen><dimName><DimNameTypCd Sync="TRUE" value="002"></DimNameTypCd></dimName><dimSize Sync="TRUE">2000</dimSize><dimResol><value Sync="TRUE">1</value><uom><UomLength><uomName Sync="TRUE">Meter</uomName><conversionToISOstandardUnit Sync="TRUE">1 Meter = 1 Meter(s)</conversionToISOstandardUnit></UomLength></uom></dimResol></Dimen><Dimen><dimName><DimNameTypCd Sync="TRUE" value="001"></DimNameTypCd></dimName><dimSize Sync="TRUE">2000</dimSize><dimResol><value Sync="TRUE">1</value><uom><UomLength><uomName Sync="TRUE">Meter</uomName><conversionToISOstandardUnit Sync="TRUE">1 Meter = 1 Meter(s)</conversionToISOstandardUnit></UomLength></uom></dimResol></Dimen></axDimProps></GridSpatRep></spatRepInfo><mdDateSt Sync="TRUE">20080108</mdDateSt></metadata>
