0.0000118842
0.0000000000
0.0000000000
-0.0000089606
-72.0166607246
41.3166621864
