0.0000119161
0.0000000000
0.0000000000
-0.0000089993
-72.6833273753
41.2333288337
