0.0000118832
0.0000000000
0.0000000000
-0.0000089630
-72.2083273918
41.3249955185
