0.0000234146
0.0000000000
0.0000000000
-0.0000177254
-73.1041524162
41.1166598385
