0.0000118805
0.0000000000
0.0000000000
-0.0000090009
-72.7416607264
41.0249954995
