3.04883576373492
0.00000000000000
0.00000000000000
-3.04883576373492
499112.45732153184000
3998257.88005675930000
