{"text_format":"1","workbook":"xlsx","n_sheets":7,"sheets":["Results","Model","pS1","pS2","ps3","pS4","ReadMe"],"not_rendered":{"charts":1,"images":5,"macros":1,"external_links":0,"defined_names":1,"comments":0,"pivot_tables":0},"unopened":[],"bounds":{"document_bytes":16777216,"sheet_cells":100000,"rows_first":2000,"rows_last":500,"rows_between":2000,"halvings":0,"cell_chars":16384,"cell_head_chars":4096},"cells_cut":0,"cells_raw":0,"read":"whole","date_system":"1900"}

{"sheet":"Results","index":0,"n_rows":35,"n_cols":12,"rows_kept":35,"cut":false,"hidden":false,"merged":[[34,0,34,11],[0,0,0,13],[1,0,1,13],[2,0,2,13],[8,11,11,14]]}
["This spreadsheet will calculate the height of a groundwater mound beneath a stormwater infiltration basin.   More information can be found in the U.S. Geological Survey Scientific Investigations Report 2010-5102 \"Simulation of groundwater mounding beneath hypothetical stormwater infiltration basins\"."]
["The user must specify infiltration rate (R), specific yield (Sy), horizontal hydraulic conductivity (Kh),  basin dimensions (x, y), duration of infiltration period (t), and the initial thickness of the saturated zone (hi(0), height of the water table if the bottom of the aquifer is the datum).  For a square basin the half width equals the half length (x = y).  For a rectangular basin, if the user wants the water-table changes perpendicular to the long side, specify x as the short dimension and y as the long dimension.  Conversely, if the user wants the values perpendicular to the short side, specify y as the short dimension, x as the long dimension.  All distances are from the center of the basin.   Users can change the distances from the center of the basin at which water-table aquifer thickness are calculated."]
["Cells highlighted in yellow are values that can be changed by the user.  Cells highlighted in red are output values based on user-specified inputs.  The user MUST click the blue \"Re-Calculate Now\" button each time ANY of the user-specified inputs are changed otherwise necessary iterations to converge on the correct solution will not be done and values shown will be incorrect.  Use consistent units for all input values (for example, feet and days)"]
[]
[null,null,null,"use consistent units (e.g. feet & days or inches & hours)",null,null,null,null,null,"Conversion Table"]
["Input Values",null,null,null,null,null,null,null,null,"inch/hour","feet/day"]
[1.33,"R",null,"Recharge (infiltration) rate (feet/day)",null,null,null,null,null,0.66649999999999998,{"$f":"J7*24/12","v":1.333}]
[8.5000000000000006E-2,"Sy",null,"Specific yield, Sy (dimensionless, between 0 and 1)"]
[6,"K",null,"Horizontal hydraulic conductivity, Kh  (feet/day)*",null,null,null,null,null,2,{"$f":"J9*24/12","v":4},"In the report accompanying this spreadsheet (USGS SIR 2010-5102), vertical soil permeability (ft/d) is assumed to be one-tenth horizontal hydraulic conductivity (ft/d). "]
[33.630000000000003,"x",null,"1/2 length of basin (x direction, in feet)"]
[33.630000000000003,"y",null,"1/2 width of basin (y direction, in feet)",null,null,null,null,null,"hours","days"]
[1.5,"t",null,"duration of infiltration period (days)",null,null,null,null,null,36,{"$f":"J12/24","v":1.5}]
[10,"hi(0)",null,"initial thickness of saturated zone (feet)"]
[]
[{"$f":"Model!F67","v":20.529835077077578},"h(max)",null,"maximum thickness of saturated zone (beneath center of basin at end of infiltration period)"]
[{"$f":"Model!F67-$A$13","v":10.529835077077578},"Δh(max)",null,"maximum groundwater mounding (beneath center of basin at end of infiltration period)"]
["Ground-water Mounding, in feet","Distance from center of basin in x direction, in feet"]
[{"$f":"Model!F57-$A$13","v":10.529835077077578},0]
[{"$f":"Model!F58-$A$13","v":9.5040597650125243},20]
[{"$f":"Model!F59-$A$13","v":5.9986010612602954},40]
[{"$f":"Model!F60-$A$13","v":4.2185255955386349},50]
[{"$f":"Model!F61-$A$13","v":2.8350939947674725},60]
[{"$f":"Model!F62-$A$13","v":1.8241698820905015},70]
[{"$f":"Model!F63-$A$13","v":1.1282787263141696},80]
[{"$f":"Model!F64-$A$13","v":0.67427243073697696},90]
[{"$f":"Model!F65-$A$13","v":0.39113893655743404},100]
[{"$f":"Model!F66-$A$13","v":0.12288955230726906},120]
[]
[]
[]
[]
[]
[]
["Disclaimer"]
["This spreadsheet solving the Hantush (1967) equation for ground-water mounding beneath an infiltration basin is made available to the general public as a convenience for those wishing to replicate values documented in the USGS Scientific Investigations Report 2010-5102 \"Groundwater mounding beneath hypothetical stormwater infiltration basins\" or to calculate values based on user-specified site conditions. Any changes made to the spreadsheet (other than values identified as user-specified) after transmission from the USGS could have unintended, undesirable consequences. These consequences could include, but may not be limited to: erroneous output, numerical instabilities, and violations of underlying assumptions that are inherent in results presented in the accompanying USGS published report. The USGS assumes no responsibility for the consequences of any changes made to the spreadsheet. If changes are made to the spreadsheet, the user is responsible for documenting the changes and justifying the results and conclusions."]

{"sheet":"Model","index":1,"n_rows":67,"n_cols":12,"rows_kept":67,"cut":false,"hidden":true,"merged":[[41,6,44,13]]}
["Hantush's Solution for a rectangular infiltration basin to simulate mounding:"]
[]
[]
[]
[]
[]
[]
[]
[]
[]
[]
[null,null,null,null,"ref: Hantush, M. ,1967, Growth and Decay of Groundwater Mounds in Response to Uniform Percolation,WRR v.3 no.1"]
[]
[null,null,null,null,null,null,"W = constant rate of percolation"]
[null,null,null,null,null,null,"K = hydraulic conductivity"]
[]
[null,null,null,null,null,null,null,null,null,null,{"$f":"A27*G40/A26","v":107.64705882352939}]
[]
[]
[]
[]
[]
[]
["Input Values"]
[{"$f":"Results!A7","v":1.33},"w",null,"Percolation Rate (meters/day)"]
[{"$f":"Results!A8","v":8.5000000000000006E-2},"Sy",null,"Specific Yield",null,null,null,null,".02 < S < .3"]
[{"$f":"Results!A9","v":6},"K",null,"Horizontal Hydraulic Conductivity  (meters/day)",null,null,null,null,"K","10-1  -  10-3",null,"silt, sandy silt, clayey sand"]
[{"$f":"Results!A10","v":33.630000000000003},"l",null,"1/2 length of basin (meters)",null,null,null,null,null,"10-2 - 1",null,"sily sand  fine sand"]
[{"$f":"Results!A11","v":33.630000000000003},"a",null,"1/2 width of basin (meters)",null,null,null,null,null,"1 - 100",null,"well sorted sand"]
[null,null,null,null,null,null,null,null,null,"10 - 1000",null,"gravel"]
[{"$f":"0","v":0},"x",null,"x coordinate  (meters)"]
[0,"y",null,"y coordinate  (meters)"]
[{"$f":"Results!A12","v":1.5},"t",null,"time (days)"]
[]
[3.05,"hi(0)",null,"initial head    (meters)",null,null,null,"h(te) - h"]
[null,"h(te)",null,"head at end of simulation (meters)",null,null,null,{"$f":"A36-B47","v":-6.4357200400800716}]
[]
[null,null,null,"constant of linearization  "]
[]
[null,null,null,null,null,null,{"$f":"0.5*(A35+A36)","v":1.5249999999999999}]
["Output"]
[null,"Simpson",null,"Trapezoid",null,null,"note:  for manual calculations (that do not employ the macros associated with the \"Re-Calculate Now\" button on the Results worksheet), one needs to iterate between solution given in cell b47 and the value for the head needed for linearization cell a36.  Result only valid for X,Y obs point in G48, G49"]
["h2-hi2 =",{"$f":"((Model!$A$25/(2*Model!$A$27))*(Model!$K$17*Model!$A$33))*SUM(Model!B50:E50)","v":32.115992434288238},"m2",{"$f":"((Model!$A$25/(2*Model!$A$27))*(Model!$K$17*Model!$A$33))*SUM(Model!B51:E51)","v":32.115991380406761},"m2"]
[]
["h-hi=",{"$f":"SQRT(B43+(Model!$A$35)^2)-Model!$A$35","v":3.3857200400800718},"m",{"$f":"SQRT(D43+(Model!$A$35)^2)-Model!$A$35","v":3.3857199582025608},"m"]
[]
["h=",{"$f":"B45+Model!A35","v":6.4357200400800716},"m",{"$f":"D45+Model!A35","v":6.4357199582025606},"m",null,"Constants and variables needed for calculation"]
["Integral evaluation:",null,1E-3,"dt","fixed",null,{"$f":"Model!B67","v":0},"x","Location of observation point, x direction, meters"]
[null,"PS1","PS2","PS3","PS4",null,0,"y","Location of observation point, y direction, meters"]
["Simpson",{"$f":"'pS1'!L1014","v":0.44863952617847908},{"$f":"'pS2'!L1014","v":0.44863952617847908},{"$f":"'ps3'!L1014","v":0.44863952617847908},{"$f":"'pS4'!L1014","v":0.44863952617847908},null,{"$f":"(Results!A9*(0.5*(Results!A13+Model!G51)))/Results!A8","v":1077.5237436395053},"ν","average linear velocity, used in integration"]
["Trapezoidal",{"$f":"'pS1'!H1013","v":0.44863951145644027},{"$f":"'pS2'!H1013","v":0.44863951145644027},{"$f":"'ps3'!H1013","v":0.44863951145644027},{"$f":"'pS4'!H1013","v":0.44863951145644027},null,{"$f":"Model!C67","v":20.529839403119318},"h(te)","estimated  head"]
[null,null,null,null,null,null,{"$f":"((Results!$A$7/(2*Results!$A$9))*(Model!G50*Results!$A$12))*SUM(Model!B50:E50)","v":321.47412829200488},"h2-hi2 "]
["Calculations based on values input in Results worksheet are below",null,null,null,null,null,{"$f":"(SQRT(Model!$G$52+Results!$A$13^2))-Results!$A$13","v":10.529835077077578},"h-hi","calculated  head"]
[null,null,null,null,null,null,{"$f":"G53+Results!A13","v":20.529835077077578},"h"]
[]
[null,null,"Hest","Hcalc","Hcalc - Hest","Hfinal"]
[null,{"$f":"Results!B18","v":0},20.529839403119318,{"$f":"Model!$G$54","v":20.529835077077578},{"$f":"D57-C57","v":-4.3260417399437756E-6},20.529835077077578,10.497,20.497]
[null,{"$f":"Results!B19","v":20},19.504067436886832,{"$f":"Model!$G$54","v":20.529835077077578},{"$f":"D58-C58","v":1.0257676401907467},19.504059765012524,10.173,20.172999999999998]
[null,{"$f":"Results!B20","v":40},15.998592615643433,{"$f":"Model!$G$54","v":20.529835077077578},4.5312424614341449,15.998601061260295]
[null,{"$f":"Results!B21","v":50},14.218517608342403,{"$f":"Model!$G$54","v":20.529835077077578},6.3113174687351759,14.218525595538635]
[null,{"$f":"Results!B22","v":60},12.835074162364535,{"$f":"Model!$G$54","v":20.529835077077578},7.6947609147130436,12.835093994767472]
[null,{"$f":"Results!B23","v":70},11.824972262864902,{"$f":"Model!$G$54","v":20.529835077077578},8.7048628142126763,11.824169882090501]
[null,{"$f":"Results!B24","v":80},11.128276788782729,{"$f":"Model!$G$54","v":20.529835077077578},9.401558288294849,11.12827872631417]
[null,{"$f":"Results!B25","v":90},10.67403831016769,{"$f":"Model!$G$54","v":20.529835077077578},9.8557967669098883,10.674272430736977]
[null,{"$f":"Results!B26","v":100},10.391045662169734,{"$f":"Model!$G$54","v":20.529835077077578},10.138789414907844,10.391138936557434]
[null,{"$f":"Results!B27","v":120},10.122887872453246,{"$f":"Model!$G$54","v":20.529835077077578},10.406947204624332,10.122889552307269]
[null,0,20.529839403119318,{"$f":"Model!$G$54","v":20.529835077077578},{"$f":"D67-C67","v":-4.3260417399437756E-6},20.529835077077578]

{"sheet":"pS1","index":2,"n_rows":1014,"n_cols":12,"rows_kept":1014,"cut":false,"hidden":true,"merged":[]}
[]
[]
[]
[]
[]
[]
[]
[]
[]
["a",{"$f":"(Results!$A$10+Model!$G$48)/(SQRT(4*Model!$G$50*Results!A$12))","v":0.41825179908768717}]
["b",{"$f":"(Results!$A$11+Model!$G$49)/(SQRT(4*Model!$G$50*Results!A$12))","v":0.41825179908768717}]
["t","erf(a/sqrt(t))",null,"erf(b/sqrt(t))",null,"integrand",null,"trapezoidal integral O(h^2)","Simpson integral O(h^4)","kount",null,"Simpson total Sum"]
[0,1,null,1,null,{"$f":"B13*D13","v":1},null,0,0]
[{"$f":"Model!$C$48","v":1E-3},{"$f":"ERF($B$10/SQRT(A14))","v":1},null,{"$f":"ERF($B$11/SQRT(A14))","v":1},null,1,null,{"$f":"0.5*(F14+F13)*(A14-A13)+H13","v":1E-3},null,1]
[{"$f":"A14+Model!$C$48","v":2E-3},{"$f":"ERF($B$10/SQRT(A15))","v":1},null,{"$f":"ERF($B$11/SQRT(A15))","v":1},null,1,null,2E-3,null,{"$f":"IF(J14=1,0,1)","v":0}]
[{"$f":"A15+Model!$C$48","v":3.0000000000000001E-3},{"$f":"ERF($B$10/SQRT(A16))","v":1},null,{"$f":"ERF($B$11/SQRT(A16))","v":1},null,1,null,3.0000000000000001E-3,{"$f":"(I13+((A16-A15)/3)*(F13+4*F14+2*F15))*J16","v":2.3333333333333331E-3},1,null,{"$f":"IF(J16=1,I16,I15)","v":2.3333333333333331E-3}]
[{"$f":"A16+Model!$C$48","v":4.0000000000000001E-3},1,null,1,null,1,null,4.0000000000000001E-3,{"$f":"(I15+((A17-A16)/3)*(4*F15+2*F16))*J17","v":0},0,null,{"$f":"IF(J17=1,I17,I16)","v":2.3333333333333331E-3}]
[{"$f":"A17+Model!$C$48","v":5.0000000000000001E-3},0.99999999999999989,null,0.99999999999999989,null,0.99999999999999978,null,5.0000000000000001E-3,4.3333333333333331E-3,1,null,4.3333333333333331E-3]
[{"$f":"A18+Model!$C$48","v":6.0000000000000001E-3},0.99999999999997757,null,0.99999999999997757,null,0.99999999999995515,null,5.9999999999999776E-3,0,0,null,4.3333333333333331E-3]
[{"$f":"A19+Model!$C$48","v":7.0000000000000001E-3},0.9999999999984478,null,0.9999999999984478,null,0.99999999999689559,null,6.9999999999984033E-3,6.3333333333333028E-3,1,null,6.3333333333333028E-3]
[{"$f":"A20+Model!$C$48","v":8.0000000000000002E-3},0.99999999996237521,null,0.99999999996237521,null,0.99999999992475042,null,7.9999999999592272E-3,0,0,null,6.3333333333333028E-3]
[{"$f":"A21+Model!$C$48","v":9.0000000000000011E-3},0.99999999954801899,null,0.99999999954801899,null,0.99999999909603798,null,8.9999999994696232E-3,8.3333333332789999E-3,1,null,8.3333333332789999E-3]
[{"$f":"A22+Model!$C$48","v":1.0000000000000002E-2},0.99999999668071315,null,0.99999999668071315,null,0.99999999336142631,null,9.9999999956983561E-3,0,0,null,8.3333333332789999E-3]
[{"$f":"A23+Model!$C$48","v":1.1000000000000003E-2},0.99999998296593529,null,0.99999998296593529,null,0.9999999659318709,null,1.0999999975345006E-2,1.0333333327648003E-2,1,null,1.0333333327648003E-2]
[{"$f":"A24+Model!$C$48","v":1.2000000000000004E-2},0.99999993321314828,null,0.99999993321314828,null,0.99999986642630101,null,1.1999999891524093E-2,0,0,null,1.0333333327648003E-2]
[{"$f":"A25+Model!$C$48","v":1.3000000000000005E-2},0.99999978717858595,null,0.99999978717858595,null,0.9999995743572172,null,1.2999999611915853E-2,1.23333331931747E-2,1,null,1.23333331931747E-2]
[{"$f":"A26+Model!$C$48","v":1.4000000000000005E-2},0.99999942391066199,null,0.99999942391066199,null,0.99999884782165582,null,1.399999882300529E-2,0,0,null,1.23333331931747E-2]
[{"$f":"A27+Model!$C$48","v":1.5000000000000006E-2},0.99999863162016844,null,0.99999863162016844,null,0.99999726324220939,null,1.4999996878537224E-2,1.4333331857532095E-2,1,null,1.4333331857532095E-2]
[{"$f":"A28+Model!$C$48","v":1.6000000000000007E-2},0.99999707756506906,null,0.99999707756506906,null,0.99999415513867873,null,1.599999258772767E-2,0,0,null,1.4333331857532095E-2]
[{"$f":"A29+Model!$C$48","v":1.7000000000000008E-2},0.9999942825572592,null,0.9999942825572592,null,0.99998856514720758,null,1.6999983947870615E-2,1.6333324311947495E-2,1,null,1.6333324311947495E-2]
[{"$f":"A30+Model!$C$48","v":1.8000000000000009E-2},0.99998960363556966,null,0.99998960363556966,null,0.99997920737922374,null,1.799996783413383E-2,0,0,null,1.6333324311947495E-2]
[{"$f":"A31+Model!$C$48","v":1.900000000000001E-2},0.99998222681529314,null,0.99998222681529314,null,0.99996445394647238,null,1.899993966479668E-2,1.8333295203729921E-2,1,null,1.8333295203729921E-2]
[{"$f":"A32+Model!$C$48","v":2.0000000000000011E-2},0.99997117018025472,null,0.99997117018025472,null,0.99994234119166792,null,1.9999893062365749E-2,0,0,null,1.8333295203729921E-2]
[{"$f":"A33+Model!$C$48","v":2.1000000000000012E-2},0.9999552962911088,null,0.9999552962911088,null,0.99991059458063913,null,2.0999819530251904E-2,2.0333209369786331E-2,1,null,2.0333209369786331E-2]
[{"$f":"A34+Model!$C$48","v":2.2000000000000013E-2},0.99993333206733426,null,0.99993333206733426,null,0.99986666857928175,null,2.1999708161831867E-2,0,0,null,2.0333209369786331E-2]
[{"$f":"A35+Model!$C$48","v":2.3000000000000013E-2},0.99990389394174961,null,0.99990389394174961,null,0.99980779711987366,null,2.2999545394681447E-2,2.2333001274946706E-2,1,null,2.2333001274946706E-2]
[{"$f":"A36+Model!$C$48","v":2.4000000000000014E-2},0.99986551608227514,null,0.99986551608227514,null,0.99973105025047437,null,2.3999314818366622E-2,0,0,null,2.2333001274946706E-2]
[{"$f":"A37+Model!$C$48","v":2.5000000000000015E-2},0.99981667970489729,null,0.99981667970489729,null,0.99963339301612519,null,2.4998997039999922E-2,2.4332565704606856E-2,1,null,2.4332565704606856E-2]
[{"$f":"A38+Model!$C$48","v":2.6000000000000016E-2},0.99975584186355582,null,0.99975584186355582,null,0.99951174334030723,null,2.5998569608178139E-2,0,0,null,2.4332565704606856E-2]
[{"$f":"A39+Model!$C$48","v":2.7000000000000017E-2},0.99968146244433664,null,0.99968146244433664,null,0.99936302635484764,null,2.6998006993025719E-2,2.6331751390855231E-2,1,null,2.6331751390855231E-2]
[{"$f":"A40+Model!$C$48","v":2.8000000000000018E-2},0.99959202861629626,null,0.99959202861629626,null,0.99918422367324244,null,2.7997280618039765E-2,0,0,null,2.6331751390855231E-2]
[{"$f":"A41+Model!$C$48","v":2.9000000000000019E-2},0.99948607610424078,null,0.99948607610424078,null,0.99897241632625222,null,2.8996358938039514E-2,2.8330358241777192E-2,1,null,2.8330358241777192E-2]
[{"$f":"A42+Model!$C$48","v":3.000000000000002E-2},0.9993622071284618,null,0.9993622071284618,null,0.9987248210366706,null,2.9995207556720978E-2,0,0,null,2.8330358241777192E-2]
[{"$f":"A43+Model!$C$48","v":3.1000000000000021E-2},0.99921910495394106,null,0.99921910495394106,null,0.99843881970495507,null,3.0993789377091793E-2,3.0328138010903311E-2,1,null,3.0328138010903311E-2]
[{"$f":"A44+Model!$C$48","v":3.2000000000000021E-2},0.99905554518148798,null,0.99905554518148798,null,0.99811198235788012,null,3.1992064778123212E-2,0,0,null,3.0328138010903311E-2]
[{"$f":"A45+Model!$C$48","v":3.3000000000000022E-2},0.99887040401276694,null,0.99887040401276694,null,0.99774208401262821,null,3.2989991811308468E-2,3.2324797758748504E-2,1,null,3.2324797758748504E-2]
[{"$f":"A46+Model!$C$48","v":3.4000000000000023E-2},0.99866266378479662,null,0.99866266378479662,null,0.99732711603774571,null,3.3987526411333659E-2,0,0,null,3.2324797758748504E-2]
[{"$f":"A47+Model!$C$48","v":3.5000000000000024E-2},0.99843141610150832,null,0.99843141610150832,null,0.99686529265846324,null,3.4984622615681762E-2,3.4320005281457171E-2,1,null,3.4320005281457171E-2]
[{"$f":"A48+Model!$C$48","v":3.6000000000000025E-2},0.99817586289846849,null,0.99817586289846849,null,0.99635505327310214,null,3.5981232788647545E-2,0,0,null,3.4320005281457171E-2]
[{"$f":"A49+Model!$C$48","v":3.7000000000000026E-2},0.9978953158959375,null,0.9978953158959375,null,0.99579506148705288,null,3.6977307846027624E-2,3.6313395707183858E-2,1,null,3.6313395707183858E-2]
[{"$f":"A50+Model!$C$48","v":3.8000000000000027E-2},0.99758919403372492,null,0.99758919403372492,null,0.9951842000528569,null,3.7972797476797576E-2,0,0,null,3.6313395707183858E-2]
[{"$f":"A51+Model!$C$48","v":3.9000000000000028E-2},0.99725702085436918,null,0.99725702085436918,null,0.99452156564333172,null,3.8967650359645674E-2,3.8304578589201832E-2,1,null,3.8304578589201832E-2]
[{"$f":"A52+Model!$C$48","v":4.0000000000000029E-2},0.99689841996643924,null,0.99689841996643924,null,0.9938064597315831,null,3.9961814372333135E-2,0,0,null,3.8304578589201832E-2]
[{"$f":"A53+Model!$C$48","v":4.1000000000000029E-2},0.99651311031923862,null,0.99651311031923862,null,0.99303837903812298,null,4.0955236791717989E-2,4.0293144983213999E-2,1,null,4.0293144983213999E-2]
[{"$f":"A54+Model!$C$48","v":4.200000000000003E-2},0.99610090090757553,null,0.99610090090757553,null,0.99221700478888364,null,4.194786448363149E-2,0,0,null,4.0293144983213999E-2]
[{"$f":"A55+Model!$C$48","v":4.3000000000000031E-2},0.9956616851615423,null,0.9956616851615423,null,0.99134219129872214,null,4.2939644081675298E-2,4.2278674158457423E-2,1,null,4.2278674158457423E-2]
[{"$f":"A56+Model!$C$48","v":4.4000000000000032E-2},0.9951954351585911,null,0.9951954351585911,null,0.99041395416049749,null,4.3930522154404905E-2,0,0,null,4.2278674158457423E-2]
[{"$f":"A57+Model!$C$48","v":4.5000000000000033E-2},0.99470219577124419,null,0.99470219577124419,null,0.98943245827213455,null,4.4920445360621224E-2,4.4260739716296051E-2,1,null,4.4260739716296051E-2]
[{"$f":"A58+Model!$C$48","v":4.6000000000000034E-2},0.99418207884249321,null,0.99418207884249321,null,0.98839800589158133,null,4.5909360592703084E-2,0,0,null,4.4260739716296051E-2]
[{"$f":"A59+Model!$C$48","v":4.7000000000000035E-2},0.9936352574623083,null,0.9936352574623083,null,0.98731102487218769,null,4.6897215108084971E-2,4.6238914997919954E-2,1,null,4.6238914997919954E-2]
[{"$f":"A60+Model!$C$48","v":4.8000000000000036E-2},0.99306196096689237,null,0.99306196096689237,null,0.98617205831940968,null,4.7883956649680773E-2,0,0,null,4.6238914997919954E-2]
[{"$f":"A61+Model!$C$48","v":4.9000000000000037E-2},0.99246246746107869,null,0.99246246746107869,null,0.98498174931893268,null,4.8869533553499947E-2,4.8212777736629145E-2,1,null,4.8212777736629145E-2]
[{"$f":"A62+Model!$C$48","v":5.0000000000000037E-2},0.99183710167654382,null,0.99183710167654382,null,0.98374083626212672,null,4.9853894846290478E-2,0,0,null,4.8212777736629145E-2]
[{"$f":"A63+Model!$C$48","v":5.1000000000000038E-2},0.99118622821501134,null,0.99118622821501134,null,0.98245013900310052,null,5.0836990333923096E-2,5.018191395989581E-2,1,null,5.018191395989581E-2]
[{"$f":"A64+Model!$C$48","v":5.2000000000000039E-2},0.99051024739242666,null,0.99051024739242666,null,0.98111055018940629,null,5.1818770678519352E-2,0,0,null,5.018191395989581E-2]
[{"$f":"A65+Model!$C$48","v":5.300000000000004E-2},0.9898095909139718,null,0.9898095909139718,null,0.97972302626528418,null,5.2799187466746701E-2,5.2145921178692885E-2,1,null,5.2145921178692885E-2]
[{"$f":"A66+Model!$C$48","v":5.4000000000000041E-2},0.98908471782919827,null,0.98908471782919827,null,0.97828857904326472,null,5.3778193269400976E-2,0,0,null,5.2145921178692885E-2]
[{"$f":"A67+Model!$C$48","v":5.5000000000000042E-2},0.98833611076534023,null,0.98833611076534023,null,0.97680826784275887,null,5.4755741692843987E-2,5.4104410933075442E-2,1,null,5.4104410933075442E-2]
[{"$f":"A68+Model!$C$48","v":5.6000000000000043E-2},0.98756427243355926,null,0.98756427243355926,null,0.97528319218722526,null,5.5731787422858982E-2,0,0,null,5.4104410933075442E-2]
[{"$f":"A69+Model!$C$48","v":5.7000000000000044E-2},0.98676972240034766,null,0.98676972240034766,null,0.97371448504605917,null,5.6706286261475627E-2,5.6057010751657275E-2,1,null,5.6057010751657275E-2]
[{"$f":"A70+Model!$C$48","v":5.8000000000000045E-2},0.9859529941144265,null,0.9859529941144265,null,0.97210330660320232,null,5.7679195157300259E-2,0,0,null,5.6057010751657275E-2]
[{"$f":"A71+Model!$C$48","v":5.9000000000000045E-2},0.98511463360928297,null,0.98511463360928297,null,0.97045084135115178,null,5.8650472231277437E-2,5.8003365602787488E-2,1,null,5.8003365602787488E-2]
[{"$f":"A72+Model!$C$48","v":6.0000000000000046E-2},0.98425519155288377,null,0.98425519155288377,null,0.96875828209880388,null,5.9620076793002415E-2,0,0,null,5.8003365602787488E-2]
[{"$f":"A73+Model!$C$48","v":6.1000000000000047E-2},0.98337522878947348,null,0.98337522878947348,null,0.96702684059674926,null,6.0587969354350193E-2,5.9943138912654896E-2,1,null,5.9943138912654896E-2]
[{"$f":"A74+Model!$C$48","v":6.2000000000000048E-2},0.98247530927840976,null,0.98247530927840976,null,0.96525773334170695,null,6.1554111641319423E-2,0,0,null,5.9943138912654896E-2]
[{"$f":"A75+Model!$C$48","v":6.3000000000000042E-2},0.98155599941812488,null,0.98155599941812488,null,0.96345217999371402,null,6.2518466597987127E-2,6.1876013189011689E-2,1,null,6.1876013189011689E-2]
[{"$f":"A76+Model!$C$48","v":6.4000000000000043E-2},0.98061786635379178,null,0.98061786635379178,null,{"$f":"B77*D77","v":0.96161139981226307},null,6.348099838789012E-2,0,0,null,6.1876013189011689E-2]
[{"$f":"A77+Model!$C$48","v":6.5000000000000044E-2},0.97966147645444634,null,0.97966147645444634,null,0.95973660844890574,null,{"$f":"0.5*(F78+F77)*(A78-A77)+H77","v":6.4441672392020699E-2},6.3801690362211491E-2,1,null,6.3801690362211491E-2]
[{"$f":"A78+Model!$C$48","v":6.6000000000000045E-2},0.97868739394755666,null,0.97868739394755666,null,0.95782901507185991,null,6.5400455203781085E-2,0,{"$f":"IF(J78=1,0,1)","v":0},null,6.3801690362211491E-2]
[{"$f":"A79+Model!$C$48","v":6.7000000000000046E-2},{"$f":"ERF($B$10/SQRT(A80))","v":0.97769617969948841},null,{"$f":"ERF($B$11/SQRT(A80))","v":0.97769617969948841},null,0.95588981979897436,null,6.6357314621216509E-2,6.5719891850191267E-2,1,null,6.5719891850191267E-2]
[{"$f":"A80+Model!$C$48","v":6.8000000000000047E-2},0.97668839013082187,null,0.97668839013082187,null,0.95392021141633654,null,6.7312219636824169E-2,{"$f":"(I79+((A81-A80)/3)*(4*F79+2*F80))*J81","v":0},0,null,{"$f":"IF(J81=1,I81,I80)","v":6.5719891850191267E-2}]
[{"$f":"A81+Model!$C$48","v":6.9000000000000047E-2},0.97566457625602654,null,0.97566457625602654,null,0.95192136536085181,null,6.826514042521277E-2,6.763035841753412E-2,1,null,6.763035841753412E-2]
[{"$f":"A82+Model!$C$48","v":7.0000000000000048E-2},0.97462528552317773,null,0.97462528552317773,null,0.94989444718113569,null,6.9216048331483759E-2,0,0,null,6.763035841753412E-2]
[{"$f":"A83+Model!$C$48","v":7.1000000000000049E-2},0.97357105073364225,null,0.97357105073364225,null,0.94784059082660821,null,7.0164915850487633E-2,6.9532849869469351E-2,1,null,6.9532849869469351E-2]
[{"$f":"A84+Model!$C$48","v":7.200000000000005E-2},0.97250240435191504,null,0.97250240435191504,null,0.94576092647025567,null,7.1111716609136066E-2,0,0,null,6.9532849869469351E-2]
[{"$f":"A85+Model!$C$48","v":7.3000000000000051E-2},0.97141986832095839,null,0.97141986832095839,null,0.94365656056870817,null,7.2056425352655551E-2,7.1427144608218335E-2,1,null,7.1427144608218335E-2]
[{"$f":"A86+Model!$C$48","v":7.4000000000000052E-2},0.97032395591390741,null,0.97032395591390741,null,0.94152857942041457,null,7.2999017922650108E-2,0,0,null,7.1427144608218335E-2]
[{"$f":"A87+Model!$C$48","v":7.5000000000000053E-2},0.96921517133111423,null,0.96921517133111423,null,0.93937804833840111,null,7.3939471236529511E-2,7.3313039075256894E-2,1,null,7.3313039075256894E-2]
[{"$f":"A88+Model!$C$48","v":7.6000000000000054E-2},0.96809400936375956,null,0.96809400936375956,null,0.93720601096599898,null,7.4877763266181716E-2,0,0,null,7.3313039075256894E-2]
[{"$f":"A89+Model!$C$48","v":7.7000000000000055E-2},0.96696095511787483,null,0.96696095511787483,null,0.9350134887224727,null,7.5813873016025948E-2,7.5190347147018763E-2,1,null,7.5190347147018763E-2]
[{"$f":"A90+Model!$C$48","v":7.8000000000000055E-2},0.96581648379307639,null,0.96581648379307639,null,0.93280148036642174,null,7.6747780500570392E-2,0,0,null,7.5190347147018763E-2]
[{"$f":"A91+Model!$C$48","v":7.9000000000000056E-2},0.96466106051075351,null,0.96466106051075351,null,0.93057096166573161,null,7.7679466721586474E-2,7.705889945222634E-2,1,null,7.705889945222634E-2]
[{"$f":"A92+Model!$C$48","v":8.0000000000000057E-2},0.96349514018685789,null,0.96349514018685789,null,0.92832288516369299,null,7.860891364500118E-2,0,0,null,7.705889945222634E-2]
[{"$f":"A93+Model!$C$48","v":8.1000000000000058E-2},0.96231916744483004,null,0.96231916744483004,null,0.92605818003171081,null,7.9536104177598876E-2,7.8918542657889779E-2,1,null,7.8918542657889779E-2]
[{"$f":"A94+Model!$C$48","v":8.2000000000000059E-2},0.96113358129486715,null,0.96113358129486715,null,0.92377776109269694,null,8.0461022148161088E-2,0,0,null,7.8918542657889779E-2]
[{"$f":"A95+Model!$C$48","v":8.300000000000006E-2},0.9599387967694194,null,0.9599387967694194,null,0.92148249354312073,null,8.1383652275479001E-2,8.0769138738660526E-2,1,null,8.0769138738660526E-2]
[{"$f":"A96+Model!$C$48","v":8.4000000000000061E-2},0.95873523164593377,null,0.95873523164593377,null,0.91917324439918224,null,8.2303980144450159E-2,0,0,null,8.0769138738660526E-2]
[{"$f":"A97+Model!$C$48","v":8.5000000000000062E-2},0.9575232891774641,null,0.9575232891774641,null,0.91685084931722949,null,8.3221992191308367E-2,8.2610564226317476E-2,1,null,8.2610564226317476E-2]
[{"$f":"A98+Model!$C$48","v":8.6000000000000063E-2},0.95630336235910096,null,0.95630336235910096,null,0.91451612085932199,null,8.4137675676396642E-2,0,0,null,8.2610564226317476E-2]
[{"$f":"A99+Model!$C$48","v":8.7000000000000063E-2},0.95507583400651763,null,0.95507583400651763,null,0.91216984870324525,null,8.5051018661177924E-2,8.4442709439313327E-2,1,null,8.4442709439313327E-2]
[{"$f":"A100+Model!$C$48","v":8.8000000000000064E-2},0.95384107685221597,null,0.95384107685221597,null,0.90981279989059494,null,8.5962009985474847E-2,0,0,null,8.4442709439313327E-2]
[{"$f":"A101+Model!$C$48","v":8.9000000000000065E-2},0.95259945365727805,null,0.95259945365727805,null,0.90744571910814464,null,8.6870639244974221E-2,8.6265477770844715E-2,1,null,8.6265477770844715E-2]
[{"$f":"A102+Model!$C$48","v":9.0000000000000066E-2},0.95135131733662393,null,0.95135131733662393,null,0.90506932899812975,null,8.7776896769027363E-2,0,0,null,8.6265477770844715E-2]
[{"$f":"A103+Model!$C$48","v":9.1000000000000067E-2},0.95009701109595934,null,0.95009701109595934,null,0.90268433049347552,null,8.868077359877316E-2,8.807878494898766E-2,1,null,8.807878494898766E-2]
[{"$f":"A104+Model!$C$48","v":9.2000000000000068E-2},0.94883686857876559,null,0.94883686857876559,null,0.90029140317435774,null,8.9582261465607077E-2,0,0,null,8.807878494898766E-2]
[{"$f":"A105+Model!$C$48","v":9.3000000000000069E-2},0.94757121402183486,null,0.94757121402183486,null,0.89789120564281399,null,9.0481352770015663E-2,8.9882558325095202E-2,1,null,8.9882558325095202E-2]
[{"$f":"A106+Model!$C$48","v":9.400000000000007E-2},0.94630036958209651,null,0.94630036958209651,null,0.89548438947121245,null,9.1378040567572677E-2,0,0,null,8.9882558325095202E-2]
[{"$f":"A107+Model!$C$48","v":9.500000000000007E-2},0.94502462758006267,null,0.94502462758006267,null,0.89307154673283617,null,9.2272318535674705E-2,9.1676736192266434E-2,1,null,9.1676736192266434E-2]
[{"$f":"A108+Model!$C$48","v":9.6000000000000071E-2},0.94374429152555961,null,0.94374429152555961,null,0.89065328778708042,null,9.3164180952934661E-2,0,0,null,9.1676736192266434E-2]
[{"$f":"A109+Model!$C$48","v":9.7000000000000072E-2},0.94245964971411467,null,0.94245964971411467,null,0.88823019133925174,null,9.4053622692497826E-2,9.3461267113101598E-2,1,null,9.3461267113101598E-2]
[{"$f":"A110+Model!$C$48","v":9.8000000000000073E-2},0.94117098189757764,null,0.94117098189757764,null,0.88580281716605047,null,9.4940639196750484E-2,0,0,null,9.3461267113101598E-2]
[{"$f":"A111+Model!$C$48","v":9.9000000000000074E-2},0.93987855946670673,null,0.93987855946670673,null,0.8833717065452118,null,9.5825226458606111E-2,9.5236109246331302E-2,1,null,9.5236109246331302E-2]
[{"$f":"A112+Model!$C$48","v":0.10000000000000007},0.93858264563520544,null,0.93858264563520544,null,0.88093738268758159,null,9.6707381003222515E-2,0,0,null,9.5236109246331302E-2]
[{"$f":"A113+Model!$C$48","v":0.10100000000000008},0.93728349562456659,null,0.93728349562456659,null,0.87850035117020697,null,9.7587099870151406E-2,9.7001229776849968E-2,1,null,9.7001229776849968E-2]
[{"$f":"A114+Model!$C$48","v":0.10200000000000008},0.93598135684914607,null,0.93598135684914607,null,0.87606110036916851,null,9.8464380595921094E-2,0,0,null,9.7001229776849968E-2]
[{"$f":"A115+Model!$C$48","v":0.10300000000000008},0.9346764691009587,null,0.9346764691009587,null,0.87362010189103545,null,9.93392211970512E-2,9.8756604311989696E-2,1,null,9.8756604311989696E-2]
[{"$f":"A116+Model!$C$48","v":0.10400000000000008},0.93336906473373882,null,0.93336906473373882,null,0.87117781100193437,null,0.10021162015349769,0,0,null,9.8756604311989696E-2]
[{"$f":"A117+Model!$C$48","v":0.10500000000000008},0.93205936884586771,null,0.93205936884586771,null,0.86873466705335722,null,0.10108157639252534,0.10050221632184569,1,null,0.10050221632184569]
[{"$f":"A118+Model!$C$48","v":0.10600000000000008},0.93074760927342115,null,0.93074760927342115,null,0.86629111216818899,null,0.10194908928213611,0,0,null,0.10050221632184569]
[{"$f":"A119+Model!$C$48","v":0.10700000000000008},0.92943397838436714,null,0.92943397838436714,null,0.86384752017539224,null,0.10281415859830791,0.10223805661936231,1,null,0.10223805661936231]
[{"$f":"A120+Model!$C$48","v":0.10800000000000008},0.92811868960439037,null,0.92811868960439037,null,0.86140430199297069,null,0.10367678450939209,0,0,null,0.10223805661936231]
[{"$f":"A121+Model!$C$48","v":0.10900000000000008},0.92680194080890677,null,0.92680194080890677,null,0.85896183748715627,null,0.10453696757913215,0.10396412284759148,1,null,0.10396412284759148]
[{"$f":"A122+Model!$C$48","v":0.11000000000000008},0.92548392350478259,null,0.92548392350478259,null,0.85652049266580632,null,0.10539470874420863,0,0,null,0.10396412284759148]
[{"$f":"A123+Model!$C$48","v":0.11100000000000008},0.92416482300042169,null,0.92416482300042169,null,0.85408062007140073,null,0.10625000930057724,0.10568041895935155,1,null,0.10568041895935155]
[{"$f":"A124+Model!$C$48","v":0.11200000000000009},0.92284481857302492,null,0.92284481857302492,null,0.85164255916707932,null,0.10710287089019647,0,0,null,0.10568041895935155]
[{"$f":"A125+Model!$C$48","v":0.11300000000000009},0.92152408363290461,null,0.92152408363290461,null,0.84920663671546459,null,0.10795329548813774,0.10738695482555814,1,null,0.10738695482555814]
[{"$f":"A126+Model!$C$48","v":0.11400000000000009},0.92020278588474891,null,0.92020278588474891,null,0.84677316715005302,null,0.1088012853900705,0,0,null,0.10738695482555814]
[{"$f":"A127+Model!$C$48","v":0.11500000000000009},0.91888108748575625,null,0.91888108748575625,null,0.84434245293900601,null,0.10964684320011503,0.10908374578594547,1,null,0.10908374578594547]
[{"$f":"A128+Model!$C$48","v":0.11600000000000009},0.91755914520057535,null,0.91755914520057535,null,0.84191478494121053,null,0.11048997181905514,0,0,null,0.10908374578594547]
[{"$f":"A129+Model!$C$48","v":0.11700000000000009},0.91623711055300261,null,0.91623711055300261,null,0.83949044275451512,null,0.111330674432903,0.11077081224649162,1,null,0.11077081224649162]
[{"$f":"A130+Model!$C$48","v":0.11800000000000009},0.91491512997440294,null,0.91491512997440294,null,0.83706969505607864,null,0.11216895450180829,0,0,null,0.11077081224649162]
[{"$f":"A131+Model!$C$48","v":0.11900000000000009},0.91359335843818767,null,0.91359335843818767,null,0.83465282458236689,null,0.11300481576162752,0.11244817930020169,1,null,0.11244817930020169]
[{"$f":"A132+Model!$C$48","v":0.12000000000000009},0.912271906667524,null,0.912271906667524,null,0.83224003169479965,null,0.1138382621897661,0,0,null,0.11244817930020169]
[{"$f":"A133+Model!$C$48","v":0.12100000000000009},0.91095091920307614,null,0.91095091920307614,null,0.82983157719692935,null,0.11466929799421197,0.11411587642077471,1,null,0.11411587642077471]
[{"$f":"A134+Model!$C$48","v":0.12200000000000009},0.90963052352755891,null,0.90963052352755891,null,0.82742768933302091,null,0.11549792762747695,0,0,null,0.11411587642077471]
[{"$f":"A135+Model!$C$48","v":0.1230000000000001},0.9083108427238985,null,0.9083108427238985,null,0.82502858700979864,null,0.11632415576564836,0.1157739369832593,1,null,0.1157739369832593]
[{"$f":"A136+Model!$C$48","v":0.1240000000000001},0.90699199560388899,null,0.90699199560388899,null,0.822634480089525,null,0.11714798729919802,0,0,null,0.1157739369832593]
[{"$f":"A137+Model!$C$48","v":0.12500000000000008},0.90567409683361322,null,0.90567409683361322,null,0.82024556967538098,null,0.11796942732408046,0.11742239808599869,1,null,0.11742239808599869]
[{"$f":"A138+Model!$C$48","v":0.12600000000000008},0.90435725705566683,null,0.90435725705566683,null,0.81786204838924947,null,0.11878848113311277,0,0,null,0.11742239808599869]
[{"$f":"A139+Model!$C$48","v":0.12700000000000009},0.90304158300822313,null,0.90304158300822313,null,0.8154841006419975,null,0.11960515420762839,0.1190613002111587,1,null,0.1190613002111587]
[{"$f":"A140+Model!$C$48","v":0.12800000000000009},0.90172717764098043,null,0.90172717764098043,null,{"$f":"B141*D141","v":0.81311190289636825},null,0.12041945220939758,0,0,null,0.1190613002111587]
[{"$f":"A141+Model!$C$48","v":0.12900000000000009},0.90041414022804123,null,0.90041414022804123,null,0.81074562392260274,null,{"$f":"0.5*(F142+F141)*(A142-A141)+H141","v":0.12123138097280707},0.12069068694727894,1,null,0.12069068694727894]
[{"$f":"A142+Model!$C$48","v":0.13000000000000009},0.89910256647777098,null,0.89910256647777098,null,0.80838542504691457,null,0.12204094649729183,0,{"$f":"IF(J142=1,0,1)","v":0},null,0.12069068694727894]
[{"$f":"A143+Model!$C$48","v":0.13100000000000009},{"$f":"ERF($B$10/SQRT(A144))","v":0.89779254863968805},null,{"$f":"ERF($B$11/SQRT(A144))","v":0.89779254863968805},null,0.8060314603929466,null,0.12284815494001176,0.12231060472920702,1,null,0.12231060472920702]
[{"$f":"A144+Model!$C$48","v":0.13200000000000009},0.89648419294385473,null,0.89648419294385473,null,0.80368390819819457,null,0.12365301262430733,{"$f":"(I143+((A145-A144)/3)*(4*F143+2*F144))*J145","v":0},0,null,{"$f":"IF(J145=1,I145,I144)","v":0.12231060472920702}]
[{"$f":"A145+Model!$C$48","v":0.13300000000000009},0.89517755151718825,null,0.89517755151718825,null,0.80134284874030826,null,0.12445552600277658,0.12392110261519641,1,null,0.12392110261519641]
[{"$f":"A146+Model!$C$48","v":0.13400000000000009},0.89387272308624777,null,0.89387272308624777,null,0.79900844507762381,null,0.12525570164968555,0,0,null,0.12392110261519641]
[{"$f":"A147+Model!$C$48","v":0.13500000000000009},0.89256978707917378,null,0.89256978707917378,null,0.79668082480656166,null,0.12605354628462764,0.12552223204356858,1,null,0.12552223204356858]
[{"$f":"A148+Model!$C$48","v":0.13600000000000009},0.89126881995719798,null,0.89126881995719798,null,0.79436010942789614,null,0.12684906675174487,0,0,null,0.12552223204356858]
[{"$f":"A149+Model!$C$48","v":0.13700000000000009},0.88996989530490644,null,0.88996989530490644,null,0.79204641454902613,null,0.12764227001373332,0.12711404654959593,1,null,0.12711404654959593]
[{"$f":"A150+Model!$C$48","v":0.13800000000000009},0.88867308391793776,null,0.88867308391793776,null,0.78973985008021808,null,0.12843316314604794,0,0,null,0.12711404654959593]
[{"$f":"A151+Model!$C$48","v":0.1390000000000001},0.88737845388817349,null,0.88737845388817349,null,0.78744052042496526,null,0.12922175333130054,0.12869660166904812,1,null,0.12869660166904812]
[{"$f":"A152+Model!$C$48","v":0.1400000000000001},0.88608607068648448,null,0.88608607068648448,null,0.7851485246646136,null,0.13000804785384532,0,0,null,0.12869660166904812]
[{"$f":"A153+Model!$C$48","v":0.1410000000000001},0.88479599724308777,null,0.88479599724308777,null,0.78286395673739018,null,0.13079205409454631,0.13026995471272448,1,null,0.13026995471272448]
[{"$f":"A154+Model!$C$48","v":0.1420000000000001},0.88350829402557673,null,0.88350829402557673,null,0.78058690561198496,null,0.131573779525721,0,0,null,0.13026995471272448]
[{"$f":"A155+Model!$C$48","v":0.1430000000000001},0.88222301911468137,null,0.88222301911468137,null,0.77831745545582343,null,0.1323532317062549,0.13183416459211567,1,null,0.13183416459211567]
[{"$f":"A156+Model!$C$48","v":0.1440000000000001},0.88094024827485717,null,0.88094024827485717,null,0.77605572103056697,null,0.13313041829449809,0,0,null,0.13183416459211567]
[{"$f":"A157+Model!$C$48","v":0.1450000000000001},0.87965999624078961,null,0.87965999624078961,null,0.77380170898634604,null,0.13390534700950654,0.13338929168007715,1,null,0.13338929168007715]
[{"$f":"A158+Model!$C$48","v":0.1460000000000001},0.87838233321766224,null,0.87838233321766224,null,0.7715555233089042,null,0.13467802562565417,0,0,null,0.13338929168007715]
[{"$f":"A159+Model!$C$48","v":0.1470000000000001},0.87710730845511231,null,0.87710730845511231,null,0.76931723054537149,null,0.13544846200258132,0.13493539764093154,1,null,0.13493539764093154]
[{"$f":"A160+Model!$C$48","v":0.1480000000000001},0.87583496916272341,null,0.87583496916272341,null,0.76708689320826862,null,0.13621666406445815,0,0,null,0.13493539764093154]
[{"$f":"A161+Model!$C$48","v":0.1490000000000001},0.87456536057336109,null,0.87456536057336109,null,0.76486456991481311,null,0.13698263979601968,0.13647254521046423,1,null,0.13647254521046423]
[{"$f":"A162+Model!$C$48","v":0.15000000000000011},0.8732985260046271,null,0.8732985260046271,null,0.76265031552185436,null,0.13774639723873802,0,0,null,0.13647254521046423]
[{"$f":"A163+Model!$C$48","v":0.15100000000000011},0.87203450691848394,null,0.87203450691848394,null,0.76044418125656343,null,0.13850794448712722,0.13800079818069855,1,null,0.13800079818069855]
[{"$f":"A164+Model!$C$48","v":0.15200000000000011},0.87077334297910491,null,0.87077334297910491,null,0.75824621484300592,null,0.13926728968517701,0,0,null,0.13800079818069855]
[{"$f":"A165+Model!$C$48","v":0.15300000000000011},0.8695150721089947,null,0.8695150721089947,null,0.75605646062471021,null,0.14002444102291087,0.13952022123226931,1,null,0.13952022123226931]
[{"$f":"A166+Model!$C$48","v":0.15400000000000011},0.86825973054343109,null,0.86825973054343109,null,0.75387495968335161,null,0.14077940673306491,0,0,null,0.13952022123226931]
[{"$f":"A167+Model!$C$48","v":0.15500000000000011},0.86700735288327668,null,0.86700735288327668,null,0.75170174995366668,null,0.14153219508788342,0.14103087981955784,1,null,0.14103087981955784]
[{"$f":"A168+Model!$C$48","v":0.15600000000000011},0.86575797214620676,null,0.86575797214620676,null,0.74953686633471206,null,0.14228281439602761,0,0,null,0.14103087981955784]
[{"$f":"A169+Model!$C$48","v":0.15700000000000011},0.86451164350642928,null,0.86451164350642928,null,0.74738038175818744,null,0.14303127302007407,0.14253284006371919,1,null,0.14253284006371919]
[{"$f":"A170+Model!$C$48","v":0.15800000000000011},0.86326835086721987,null,0.86326835086721987,null,0.74523224560900947,null,0.14377757933375768,0,0,null,0.14253284006371919]
[{"$f":"A171+Model!$C$48","v":0.15900000000000011},0.86202814525063109,null,0.86202814525063109,null,0.74309252320424313,null,0.14452174171816431,0.14402616873646945,1,null,0.14402616873646945]
[{"$f":"A172+Model!$C$48","v":0.16000000000000011},0.86079105382557874,null,0.86079105382557874,null,0.74096123834615035,null,0.14526376859893952,0,0,null,0.14402616873646945]
[{"$f":"A173+Model!$C$48","v":0.16100000000000012},0.85955710241175809,null,0.85955710241175809,null,0.73883841230649761,null,0.14600366842426585,0.14551093292630587,1,null,0.14551093292630587]
[{"$f":"A174+Model!$C$48","v":0.16200000000000012},0.85832631552228422,null,0.85832631552228422,null,0.73672406391805978,null,0.14674144966237812,0,0,null,0.14551093292630587]
[{"$f":"A175+Model!$C$48","v":0.16300000000000012},0.85709871640504665,null,0.85709871640504665,null,0.73461820966317859,null,0.14747712079916875,0.14698720018532657,1,null,0.14698720018532657]
[{"$f":"A176+Model!$C$48","v":0.16400000000000012},0.85587432708281208,null,0.85587432708281208,null,0.73252086375945635,null,0.14821069033588008,0,0,null,0.14698720018532657]
[{"$f":"A177+Model!$C$48","v":0.16500000000000012},0.85465316839211691,null,0.85465316839211691,null,0.7304320382426841,null,0.14894216678688116,0.14845503837405044,1,null,0.14845503837405044]
[{"$f":"A178+Model!$C$48","v":0.16600000000000012},0.85343526002098158,null,0.85343526002098158,null,0.72835174304708039,null,0.14967155867752605,0,0,null,0.14845503837405044]
[{"$f":"A179+Model!$C$48","v":0.16700000000000012},0.85222062054548386,null,0.85222062054548386,null,0.72627998608292954,null,0.15039887454209105,0.14991451558707208,1,null,0.14991451558707208]
[{"$f":"A180+Model!$C$48","v":0.16800000000000012},0.8510092674652272,null,0.8510092674652272,null,0.72421677331170264,null,0.15112412292178837,0,0,null,0.14991451558707208]
[{"$f":"A181+Model!$C$48","v":0.16900000000000012},0.84980121723773017,null,0.84980121723773017,null,0.72216210881872789,null,0.15184731236285359,0.15136570008405711,1,null,0.15136570008405711]
[{"$f":"A182+Model!$C$48","v":0.17000000000000012},0.84859648531178067,null,0.84859648531178067,null,0.72011599488350719,null,0.15256845141470471,0,0,null,0.15136570008405711]
[{"$f":"A183+Model!$C$48","v":0.17100000000000012},0.84739511474289375,null,0.84739511474289375,null,0.71807848049012202,null,0.15328754865239153,0.15280866022573775,1,null,0.15280866022573775]
[{"$f":"A184+Model!$C$48","v":0.17200000000000013},0.84619706328889577,null,0.84619706328889577,null,0.71604946991875151,null,0.15400461262759596,0,0,null,0.15280866022573775]
[{"$f":"A185+Model!$C$48","v":0.17300000000000013},0.84500237080385088,null,0.84500237080385088,null,0.71402900666412872,null,0.1547196518658874,0.15424346451300375,1,null,0.15424346451300375]
[{"$f":"A186+Model!$C$48","v":0.17400000000000013},0.84381104901697068,null,0.84381104901697068,null,0.71201708644312045,null,0.15543267491244103,0,0,null,0.15424346451300375]
[{"$f":"A187+Model!$C$48","v":0.17500000000000013},0.8426231088009577,null,0.8426231088009577,null,0.71001370348539061,null,0.1561436903074053,0.15567018124618467,1,null,0.15567018124618467]
[{"$f":"A188+Model!$C$48","v":0.17600000000000013},0.8414385601997344,null,0.8414385601997344,null,0.708018850591002,null,0.1568527065844435,0,0,null,0.15567018124618467]
[{"$f":"A189+Model!$C$48","v":0.17700000000000013},0.84025741245533092,null,0.84025741245533092,null,0.70603251918612808,null,0.15755973226933206,0.15708887875122587,1,null,0.15708887875122587]
[{"$f":"A190+Model!$C$48","v":0.17800000000000013},0.83907967403395811,null,0.83907967403395811,null,0.70405469937693343,null,0.15826477587861359,0,0,null,0.15708887875122587]
[{"$f":"A191+Model!$C$48","v":0.17900000000000013},0.83790535265129074,null,0.83790535265129074,null,0.70208538000168386,null,0.1589678459183029,0.15849962524305866,1,null,0.15849962524305866]
[{"$f":"A192+Model!$C$48","v":0.18000000000000013},0.83673445529698443,null,0.83673445529698443,null,0.70012454868114127,null,0.15966895088264432,0,0,null,0.15849962524305866]
[{"$f":"A193+Model!$C$48","v":0.18100000000000013},0.83556698825844988,null,0.83556698825844988,null,0.69817219186729651,null,0.16036809925291853,0.15990248878218166,1,null,0.15990248878218166]
[{"$f":"A194+Model!$C$48","v":0.18200000000000013},0.83440295714390589,null,0.83440295714390589,null,0.69622829489049487,null,0.16106529949629744,0,0,null,0.15990248878218166]
[{"$f":"A195+Model!$C$48","v":0.18300000000000013},0.83324236690473596,null,0.83324236690473596,null,0.69429284200500663,null,0.16176056006474521,0.16129753723459839,1,null,0.16129753723459839]
[{"$f":"A196+Model!$C$48","v":0.18400000000000014},0.83208525383603449,null,0.83208525383603449,null,0.69236586965137792,null,0.1624538894205734,0,0,null,0.16129753723459839]
[{"$f":"A197+Model!$C$48","v":0.18500000000000014},0.83093155911565919,null,0.83093155911565919,null,0.69044725593438028,null,0.16314529598336627,0.16268483827037264,1,null,0.16268483827037264]
[{"$f":"A198+Model!$C$48","v":0.18600000000000014},0.82978131644890962,null,0.82978131644890962,null,0.68853703312768544,null,0.16383478812789731,0,0,null,0.16268483827037264]
[{"$f":"A199+Model!$C$48","v":0.18700000000000014},0.82863452837151486,null,0.82863452837151486,null,0.68663518160948289,null,0.16452237423526589,0.16406445930037028,1,null,0.16406445930037028]
[{"$f":"A200+Model!$C$48","v":0.18800000000000014},0.82749119686441386,null,0.82749119686441386,null,0.68474168088810017,null,0.16520806266651469,0,0,null,0.16406445930037028]
[{"$f":"A201+Model!$C$48","v":0.18900000000000014},0.82635132337234585,null,0.82635132337234585,null,0.68285650963922728,null,0.16589186176177836,0.16543646732977499,1,null,0.16543646732977499]
[{"$f":"A202+Model!$C$48","v":0.19000000000000014},0.82521490882187576,null,0.82521490882187576,null,0.68097964574189673,null,0.16657377983946892,0,0,null,0.16543646732977499]
[{"$f":"A203+Model!$C$48","v":0.19100000000000014},0.82408195363887871,null,0.82408195363887871,null,0.67911106631327101,null,0.1672538251954965,0.16680092910645522,1,null,0.16680092910645522]
[{"$f":"A204+Model!$C$48","v":0.19200000000000014},0.82295245776549153,null,0.82295245776549153,null,{"$f":"B205*D205","v":0.67725074774226313},null,0.16793200610252426,0,0,null,0.16680092910645522]
[{"$f":"A205+Model!$C$48","v":0.19300000000000014},0.82182642067655332,null,0.82182642067655332,null,0.67539866572203522,null,{"$f":"0.5*(F206+F205)*(A206-A205)+H205","v":0.16860833080925641},0.16815791102670108,1,null,0.16815791102670108]
[{"$f":"A206+Model!$C$48","v":0.19400000000000014},0.82070384139554897,null,0.82070384139554897,null,0.67355479528141038,null,0.16928280753975813,0,{"$f":"IF(J206=1,0,1)","v":0},null,0.16815791102670108]
[{"$f":"A207+Model!$C$48","v":0.19500000000000015},{"$f":"ERF($B$10/SQRT(A208))","v":0.81958471851007153},null,{"$f":"ERF($B$11/SQRT(A208))","v":0.81958471851007153},null,0.67171911081523317,null,0.16995544449280645,0.16950747911118474,1,null,0.16950747911118474]
[{"$f":"A208+Model!$C$48","v":0.19600000000000015},0.81846905018681404,null,0.81846905018681404,null,0.66989158611370547,null,0.17062624984127092,{"$f":"(I207+((A209-A208)/3)*(4*F207+2*F208))*J209","v":0},0,null,{"$f":"IF(J209=1,I209,I208)","v":0.16950747911118474}]
[{"$f":"A209+Model!$C$48","v":0.19700000000000015},0.8173568693213018,null,0.8173568693213018,null,0.66807225182671959,null,0.17129523176024114,0.17084969898301419,1,null,0.17084969898301419]
[{"$f":"A210+Model!$C$48","v":0.19800000000000015},0.81624810446563933,null,0.81624810446563933,null,0.66626096804374924,null,0.17196239837017638,0,0,null,0.17084969898301419]
[{"$f":"A211+Model!$C$48","v":0.19900000000000015},0.81514278633836612,null,0.81514278633836612,null,0.66445776211947516,null,0.17262775773525799,0.17218463596414565,1,null,0.17218463596414565]
[{"$f":"A212+Model!$C$48","v":0.20000000000000015},0.81404091156483727,null,0.81404091156483727,null,0.66266260570131119,null,0.17329131791916838,0,0,null,0.17218463596414565]
[{"$f":"A213+Model!$C$48","v":0.20100000000000015},0.81294247641796669,null,0.81294247641796669,null,0.66087546996457636,null,0.17395308695700132,0.17351235471743917,1,null,0.17351235471743917]
[{"$f":"A214+Model!$C$48","v":0.20200000000000015},0.8118474768306998,null,0.8118474768306998,null,0.65909632563637366,null,0.17461307285480179,0,0,null,0.17351235471743917]
[{"$f":"A215+Model!$C$48","v":0.20300000000000015},0.81075590840811018,null,0.81075590840811018,null,0.65732514301865996,null,0.1752712835891293,0.17483291956114952,1,null,0.17483291956114952]
[{"$f":"A216+Model!$C$48","v":0.20400000000000015},0.80966776643912897,null,0.80966776643912897,null,0.65556189201052795,null,0.17592772710664389,0,0,null,0.17483291956114952]
[{"$f":"A217+Model!$C$48","v":0.20500000000000015},0.80858304590792285,null,0.80858304590792285,null,0.6538065421297341,null,0.17658241132371402,0.17614639434651475,1,null,0.17614639434651475]
[{"$f":"A218+Model!$C$48","v":0.20600000000000016},0.8075017415049246,null,0.8075017415049246,null,0.65205906253348611,null,0.17723534412604564,0,0,null,0.17614639434651475]
[{"$f":"A219+Model!$C$48","v":0.20700000000000016},0.80642384763753405,null,0.80642384763753405,null,0.65031942203852477,null,0.17788653336833163,0.17745284244437673,1,null,0.17745284244437673]
[{"$f":"A220+Model!$C$48","v":0.20800000000000016},0.80534935844049416,null,0.80534935844049416,null,0.64858758914051551,null,0.17853598687392114,0,0,null,0.17745284244437673]
[{"$f":"A221+Model!$C$48","v":0.20900000000000016},0.80427826778595235,null,0.80427826778595235,null,0.64686353203277203,null,0.17918371243450779,0.17875232673318844,1,null,0.17875232673318844]
[{"$f":"A222+Model!$C$48","v":0.21000000000000016},0.80321056929322032,null,0.80321056929322032,null,0.6451472186243391,null,0.17982971780983634,0,0,null,0.17875232673318844]
[{"$f":"A223+Model!$C$48","v":0.21100000000000016},0.80214629584112573,null,0.80214629584112573,null,0.64343867993163884,null,0.18047401075911432,0.18004490958831504,1,null,0.18004490958831504]
[{"$f":"A224+Model!$C$48","v":0.21200000000000016},0.80108536307301614,null,0.80108536307301614,null,0.6417377589298261,null,0.18111659897854504,0,0,null,0.18004490958831504]
[{"$f":"A225+Model!$C$48","v":0.21300000000000016},0.80002780194685652,null,0.80002780194685652,null,0.64004448388791868,null,0.1817574900999539,0.18133065300084378,1,null,0.18133065300084378]
[{"$f":"A226+Model!$C$48","v":0.21400000000000016},0.79897360516346072,null,0.79897360516346072,null,0.6383588217478976,null,0.18239669175277182,0,0,null,0.18133065300084378]
[{"$f":"A227+Model!$C$48","v":0.21500000000000016},0.79792276521536176,null,0.79792276521536176,null,0.63668073924892932,null,0.18303421153327024,0.1826096181938596,1,null,0.1826096181938596]
[{"$f":"A228+Model!$C$48","v":0.21600000000000016},0.79687527439492856,null,0.79687527439492856,null,0.63501020294199273,null,0.1836700570043657,0,0,null,0.1826096181938596]
[{"$f":"A229+Model!$C$48","v":0.21700000000000016},0.79583112480223839,null,0.79583112480223839,null,0.63334717920399597,null,0.18430423569543869,0.18388186598148618,1,null,0.18388186598148618]
[{"$f":"A230+Model!$C$48","v":0.21800000000000017},0.79479030835270736,null,0.79479030835270736,null,0.63169163425139163,null,0.18493675510216639,0,0,null,0.18388186598148618]
[{"$f":"A231+Model!$C$48","v":0.21900000000000017},0.79375281678449405,null,0.79375281678449405,null,0.6300435341533186,null,0.18556762268636876,0.1851474566432591,1,null,0.1851474566432591]
[{"$f":"A232+Model!$C$48","v":0.22000000000000017},0.79271864166567529,null,0.79271864166567529,null,0.62840284484427333,null,0.18619684587586754,0,0,null,0.1851474566432591]
[{"$f":"A233+Model!$C$48","v":0.22100000000000017},0.79168777440120741,null,0.79168777440120741,null,0.62676953213633713,null,0.18682443206435784,0.18640644991869304,1,null,0.18640644991869304]
[{"$f":"A234+Model!$C$48","v":0.22200000000000017},0.79066020623967292,null,0.79066020623967292,null,0.62514356173096208,null,0.18745038861129149,0,0,null,0.18640644991869304]
[{"$f":"A235+Model!$C$48","v":0.22300000000000017},0.78963592827982565,null,0.78963592827982565,null,0.62352489923034193,null,0.18807472284177212,0.18765890500269547,1,null,0.18765890500269547]
[{"$f":"A236+Model!$C$48","v":0.22400000000000017},0.78861493147693573,null,0.78861493147693573,null,0.62191351014837204,null,0.18869744204646149,0,0,null,0.18765890500269547]
[{"$f":"A237+Model!$C$48","v":0.22500000000000017},0.78759725030452765,null,0.78759725030452765,null,0.62030942868725281,null,0.18931855351587931,0.18890488054176818,1,null,0.18890488054176818]
[{"$f":"A238+Model!$C$48","v":0.22600000000000017},0.78658278968263029,null,0.78658278968263029,null,0.61871248502490894,null,0.1899380644727354,0,0,null,0.18890488054176818]
[{"$f":"A239+Model!$C$48","v":0.22700000000000017},0.78557158232681701,null,0.78557158232681701,null,0.61712271095945903,null,0.19055598207072758,0.19014443477003445,1,null,0.19014443477003445]
[{"$f":"A240+Model!$C$48","v":0.22800000000000017},0.78456361867899904,null,0.78456361867899904,null,0.61554007175468584,null,0.19117231346208466,0,0,null,0.19014443477003445]
[{"$f":"A241+Model!$C$48","v":0.22900000000000018},0.78355888906655846,null,0.78355888906655846,null,0.61396453263521922,null,0.19178706576427962,0.19137762509915018,1,null,0.19137762509915018]
[{"$f":"A242+Model!$C$48","v":0.23000000000000018},0.78255738370761974,null,0.78255738370761974,null,0.61239605879531478,null,0.19240024605999489,0,0,null,0.19137762509915018]
[{"$f":"A243+Model!$C$48","v":0.23100000000000018},0.78155909271615875,null,0.78155909271615875,null,0.61083461540730521,null,0.1930118613970962,0.19260450851519403,1,null,0.19260450851519403]
[{"$f":"A244+Model!$C$48","v":0.23200000000000018},0.78056400610695775,null,0.78056400610695775,null,0.6092801676297428,null,0.19362191878861473,0,0,null,0.19260450851519403]
[{"$f":"A245+Model!$C$48","v":0.23300000000000018},0.77957211380040514,null,0.77957211380040514,null,0.60773268061523178,null,0.19423042521273723,0.19382514144749027,1,null,0.19382514144749027]
[{"$f":"A246+Model!$C$48","v":0.23400000000000018},0.77858340562715145,null,0.77858340562715145,null,0.60619211951797347,null,0.19483738761280384,0,0,null,0.19382514144749027]
[{"$f":"A247+Model!$C$48","v":0.23500000000000018},0.77759787133262137,null,0.77759787133262137,null,0.60465844950102399,null,0.19544281289731333,0.19503957976798925,1,null,0.19503957976798925]
[{"$f":"A248+Model!$C$48","v":0.23600000000000018},0.77661550058138706,null,0.77661550058138706,null,0.60313163574327844,null,0.19604670793993548,0,0,null,0.19503957976798925]
[{"$f":"A249+Model!$C$48","v":0.23700000000000018},0.77563628296140685,null,0.77563628296140685,null,0.60161164344618756,null,0.19664907957953021,0.1962478787911528,1,null,0.1962478787911528]
[{"$f":"A250+Model!$C$48","v":0.23800000000000018},0.7746602079881334,null,0.7746602079881334,null,0.6000984378402181,null,0.1972499346201734,0,0,null,0.1962478787911528]
[{"$f":"A251+Model!$C$48","v":0.23900000000000018},0.77368731267503843,null,0.77368731267503843,null,0.59859205779432267,null,0.19784927986799067,0.19745009327430785,1,null,0.19745009327430785]
[{"$f":"A252+Model!$C$48","v":0.24000000000000019},0.77271749283980451,null,0.77271749283980451,null,0.59709232374063337,null,0.19844712205875814,0,0,null,0.19745009327430785]
[{"$f":"A253+Model!$C$48","v":0.24100000000000019},0.77175078384302731,null,0.77175078384302731,null,0.59559927236232701,null,0.19904346785680962,0.19864627756719402,1,null,0.19864627756719402]
[{"$f":"A254+Model!$C$48","v":0.24200000000000019},0.77078717494952964,null,0.77078717494952964,null,0.59411286906667682,null,0.19963832392752412,0,0,null,0.19864627756719402]
[{"$f":"A255+Model!$C$48","v":0.24300000000000019},0.76982665537035289,null,0.76982665537035289,null,0.59263307931870413,null,0.2002316969017168,0.19983648517638825,1,null,0.19983648517638825]
[{"$f":"A256+Model!$C$48","v":0.24400000000000019},0.76886921426615706,null,0.76886921426615706,null,0.59115986864625769,null,0.20082359337569927,0,0,null,0.19983648517638825]
[{"$f":"A257+Model!$C$48","v":0.24500000000000019},0.76791484075051741,null,0.76791484075051741,null,0.58969320264489256,null,0.20141401991134486,0.20102076919457737,1,null,0.20102076919457737]
[{"$f":"A258+Model!$C$48","v":0.24600000000000019},0.76696352389311806,null,0.76696352389311806,null,0.58823304698254952,null,0.20200298303615857,0,0,null,0.20102076919457737]
[{"$f":"A259+Model!$C$48","v":0.24700000000000019},0.76601525272284321,null,0.76601525272284321,null,0.58677936740404135,null,0.20259048924335188,0.20219918216275892,1,null,0.20219918216275892]
[{"$f":"A260+Model!$C$48","v":0.24800000000000019},0.76507001623077497,null,0.76507001623077497,null,0.58533212973535831,null,0.20317654499192159,0,0,null,0.20219918216275892]
[{"$f":"A261+Model!$C$48","v":0.24900000000000019},0.76412780337309605,null,0.76412780337309605,null,0.58389129988779298,null,0.20376115670673317,0.20337177607245455,1,null,0.20337177607245455]
[{"$f":"A262+Model!$C$48","v":0.25000000000000017},0.76318860307389702,null,0.76318860307389702,null,0.58245684386188634,null,0.204344330778608,0,0,null,0.20337177607245455]
[{"$f":"A263+Model!$C$48","v":0.25100000000000017},0.76225240422790241,null,0.76225240422790241,null,0.5810287277512175,null,0.20492607356441456,0.20453860236821286,1,null,0.20453860236821286]
[{"$f":"A264+Model!$C$48","v":0.25200000000000017},0.7613191957031038,null,0.7613191957031038,null,0.57960691774602091,null,0.20550639138716317,0,0,null,0.20453860236821286]
[{"$f":"A265+Model!$C$48","v":0.25300000000000017},0.76038901756478583,null,0.76038901756478583,null,0.5781914580331402,null,0.20608529057505276,0.20569971195037851,1,null,0.20569971195037851]
[{"$f":"A266+Model!$C$48","v":0.25400000000000017},0.7594617577732431,null,0.7594617577732431,null,0.57678216152002415,null,0.20666277738482935,0,0,null,0.20569971195037851]
[{"$f":"A267+Model!$C$48","v":0.25500000000000017},0.75853745481042834,null,0.75853745481042834,null,0.57537907035028257,null,0.2072388580007645,0.20685515533543605,1,null,0.20685515533543605]
[{"$f":"A268+Model!$C$48","v":0.25600000000000017},0.75761609746281666,null,0.75761609746281666,null,{"$f":"B269*D269","v":0.57398215113478812},null,0.20781353861150703,0,0,null,0.20685515533543605]
[{"$f":"A269+Model!$C$48","v":0.25700000000000017},0.75669767450213044,null,0.75669767450213044,null,0.5725913705969321,null,{"$f":"0.5*(F270+F269)*(A270-A269)+H269","v":0.20838682537237288},0.20800498219665961,1,null,0.20800498219665961]
[{"$f":"A270+Model!$C$48","v":0.25800000000000017},0.75578217468750775,null,0.75578217468750775,null,0.57120669557537851,null,0.20895872440545904,0,{"$f":"IF(J270=1,0,1)","v":0},null,0.20800498219665961]
[{"$f":"A271+Model!$C$48","v":0.25900000000000017},{"$f":"ERF($B$10/SQRT(A272))","v":0.75486958676760307},null,{"$f":"ERF($B$11/SQRT(A272))","v":0.75486958676760307},null,0.5698280930266918,null,0.20952924179976007,0.20914924182117245,1,null,0.20914924182117245]
[{"$f":"A272+Model!$C$48","v":0.26000000000000018},0.75395989948261666,null,0.75395989948261666,null,0.56845553002783744,null,0.21009838361128733,{"$f":"(I271+((A273-A272)/3)*(4*F271+2*F272))*J273","v":0},0,null,{"$f":"IF(J273=1,I273,I272)","v":0.20914924182117245}]
[{"$f":"A273+Model!$C$48","v":0.26100000000000018},0.75305310156626093,null,0.75305310156626093,null,0.56708897377856526,null,0.21066615586319054,0.21028798296522661,1,null,0.21028798296522661]
[{"$f":"A274+Model!$C$48","v":0.26200000000000018},0.7521491817476611,null,0.7521491817476611,null,0.56572839160367616,null,0.21123256454588166,0,0,null,0.21028798296522661]
[{"$f":"A275+Model!$C$48","v":0.26300000000000018},0.7512481287531938,null,0.7512481287531938,null,0.56437375095517528,null,0.21179761561716109,0.21142125385800048,1,null,0.21142125385800048]
[{"$f":"A276+Model!$C$48","v":0.26400000000000018},0.75034993130826488,null,0.75034993130826488,null,0.56302501941431782,null,0.21236131500234584,0,0,null,0.21142125385800048]
[{"$f":"A277+Model!$C$48","v":0.26500000000000018},0.74945457813902983,null,0.74945457813902983,null,0.56168216469355114,null,0.21292366859439976,0.21254910220555026,1,null,0.21254910220555026]
[{"$f":"A278+Model!$C$48","v":0.26600000000000018},0.74856205797405573,null,0.74856205797405573,null,0.56034515463835355,null,0.21348468225406572,0,0,null,0.21254910220555026]
[{"$f":"A279+Model!$C$48","v":0.26700000000000018},0.74767241416126362,null,0.74767241416126362,null,0.55901403889773216,null,0.21404436185083375,0.21367157519490057,1,null,0.21367157519490057]
[{"$f":"A280+Model!$C$48","v":0.26800000000000018},0.74678552779258389,null,0.74678552779258389,null,0.5576886245204481,null,0.21460271318254284,0,0,null,0.21367157519490057]
[{"$f":"A281+Model!$C$48","v":0.26900000000000018},0.74590144068065678,null,0.74590144068065678,null,0.55636895920947937,null,0.21515974197440782,0.21478871966311117,1,null,0.21478871966311117]
[{"$f":"A282+Model!$C$48","v":0.27000000000000018},0.74502014157984553,null,0.74502014157984553,null,0.55505501135965307,null,0.21571545395969238,0,0,null,0.21478871966311117]
[{"$f":"A283+Model!$C$48","v":0.27100000000000019},0.744141619254444,null,0.744141619254444,null,0.55374674950662595,null,0.21626985484012554,0.21590058161629691,1,null,0.21590058161629691]
[{"$f":"A284+Model!$C$48","v":0.27200000000000019},0.7432658624800299,null,0.7432658624800299,null,0.55244414232818273,null,0.21682295028604295,0,0,null,0.21590058161629691]
[{"$f":"A285+Model!$C$48","v":0.27300000000000019},0.74239286004477412,null,0.74239286004477412,null,0.5511471586454596,null,0.21737474593652978,0.21700720671052454,1,null,0.21700720671052454]
[{"$f":"A286+Model!$C$48","v":0.27400000000000019},0.74152260075070053,null,0.74152260075070053,null,0.54985576742408282,null,0.21792524739956454,0,0,null,0.21700720671052454]
[{"$f":"A287+Model!$C$48","v":0.27500000000000019},0.74065507341490422,null,0.74065507341490422,null,0.5485699377752371,null,0.21847446025216419,0.21810864010033454,1,null,0.21810864010033454]
[{"$f":"A288+Model!$C$48","v":0.27600000000000019},0.73979026687073035,null,0.73979026687073035,null,0.54728963895666638,null,0.21902239004053015,0,0,null,0.21810864010033454]
[{"$f":"A289+Model!$C$48","v":0.27700000000000019},0.73892816996890387,null,0.73892816996890387,null,0.54601484037359327,null,0.21956904228019528,0.2192049264433393,1,null,0.2192049264433393]
[{"$f":"A290+Model!$C$48","v":0.27800000000000019},0.73806877157862893,null,0.73806877157862893,null,0.54474551157958628,null,0.22011442245617185,0,0,null,0.2192049264433393]
[{"$f":"A291+Model!$C$48","v":0.27900000000000019},0.73721206058864097,null,0.73721206058864097,null,0.54348162227735008,null,0.22065853602310032,0.22029610990489049,1,null,0.22029610990489049]
[{"$f":"A292+Model!$C$48","v":0.28000000000000019},0.7363580259082263,null,0.7363580259082263,null,0.54222314231946012,null,0.22120138840539871,0,0,null,0.22029610990489049]
[{"$f":"A293+Model!$C$48","v":0.28100000000000019},0.73550671421796165,null,0.73550671421796165,null,0.54097012665970234,null,0.22174298503988829,0.22138223416280658,1,null,0.22138223416280658]
[{"$f":"A294+Model!$C$48","v":0.28200000000000019},0.73465800055169839,null,0.73465800055169839,null,0.53972237777461929,null,0.22228333129210545,0,0,null,0.22138223416280658]
[{"$f":"A295+Model!$C$48","v":0.2830000000000002},0.73381193009009915,null,0.73381193009009915,null,0.53847994874255656,null,0.22282243245536404,0.22246334258353592,1,null,0.22246334258353592]
[{"$f":"A296+Model!$C$48","v":0.2840000000000002},0.7329684918346463,null,0.7329684918346463,null,0.53724281002235597,null,0.22336029383474651,0,0,null,0.22246334258353592]
[{"$f":"A297+Model!$C$48","v":0.2850000000000002},0.73212767481193752,null,0.73212767481193752,null,0.53601093222553409,null,0.22389692070587044,0.22353947772187424,1,null,0.22353947772187424]
[{"$f":"A298+Model!$C$48","v":0.2860000000000002},0.73128946807449768,null,0.73128946807449768,null,0.53478428611668172,null,0.22443231831504154,0,0,null,0.22353947772187424]
[{"$f":"A299+Model!$C$48","v":0.2870000000000002},0.73045386070156171,null,0.73045386070156171,null,0.53356284261381648,null,0.22496649187940679,0.22461068182225274,1,null,0.22461068182225274]
[{"$f":"A300+Model!$C$48","v":0.2880000000000002},0.72962084179982678,null,0.72962084179982678,null,0.53234657278868791,null,0.22549944658710805,0,0,null,0.22461068182225274]
[{"$f":"A301+Model!$C$48","v":0.2890000000000002},0.72879040050417632,null,0.72879040050417632,null,0.5311354478670377,null,0.2260311875974359,0.2256769966609303,1,null,0.2256769966609303]
[{"$f":"A302+Model!$C$48","v":0.2900000000000002},0.72796252597837408,null,0.72796252597837408,null,0.52992943922881497,null,0.22656172004098382,0,0,null,0.2256769966609303]
[{"$f":"A303+Model!$C$48","v":0.2910000000000002},0.72713720741573429,null,0.72713720741573429,null,0.52872851840835255,null,0.2270910490198024,0.22673846355090557,1,null,0.22673846355090557]
[{"$f":"A304+Model!$C$48","v":0.2920000000000002},0.72631443403976048,null,0.72631443403976048,null,0.52753265709449759,null,0.22761917960755382,0,0,null,0.22673846355090557]
[{"$f":"A305+Model!$C$48","v":0.2930000000000002},0.72549419510476432,null,0.72549419510476432,null,0.52634182713070987,null,0.22814611684966643,0.22779512334684637,1,null,0.22779512334684637]
[{"$f":"A306+Model!$C$48","v":0.29400000000000021},0.72467647989645312,null,0.72467647989645312,null,0.52515600051511446,null,0.22867186576348933,0,0,null,0.22779512334684637]
[{"$f":"A307+Model!$C$48","v":0.29500000000000021},0.72386133836355881,null,0.72386133836355881,null,0.52397523717748262,null,0.22919643138233564,0.22884701645003072,1,null,0.22884701645003072]
[{"$f":"A308+Model!$C$48","v":0.29600000000000021},0.72304864016360293,null,0.72304864016360293,null,0.52279933604243534,null,0.22971981866894561,0,0,null,0.22884701645003072]
[{"$f":"A309+Model!$C$48","v":0.29700000000000021},0.72223843377357477,null,0.72223843377357477,null,0.52162835521970641,null,0.23024203251457667,0.22989418299029565,1,null,0.22989418299029565]
[{"$f":"A310+Model!$C$48","v":0.29800000000000021},0.72143070861067704,null,0.72143070861067704,null,0.52046226732650358,null,0.23076307782584979,0,0,null,0.22989418299029565]
[{"$f":"A311+Model!$C$48","v":0.29900000000000021},0.72062545412611723,null,0.72062545412611723,null,0.51930104513447273,null,0.23128295948208027,0.23093666230880627,1,null,0.23093666230880627]
[{"$f":"A312+Model!$C$48","v":0.30000000000000021},0.7198226598055627,null,0.7198226598055627,null,0.51814466156955485,null,0.2318016823354323,0,0,null,0.23093666230880627]
[{"$f":"A313+Model!$C$48","v":0.30100000000000021},0.71902231516957582,null,0.71902231516957582,null,0.51699308971181679,null,0.232319251211073,0.2319744934766986,1,null,0.2319744934766986]
[{"$f":"A314+Model!$C$48","v":0.30200000000000021},0.71822440977402935,null,0.71822440977402935,null,0.51584630279525279,null,0.23283567090732654,0,0,null,0.2319744934766986]
[{"$f":"A315+Model!$C$48","v":0.30300000000000021},0.71742893321050227,null,0.71742893321050227,null,0.51470427420755938,null,0.23335094619582794,0.23300771513151119,1,null,0.23300771513151119]
[{"$f":"A316+Model!$C$48","v":0.30400000000000021},0.71663587510665838,null,0.71663587510665838,null,0.51356697748988611,null,0.23386508182167667,0,0,null,0.23300771513151119]
[{"$f":"A317+Model!$C$48","v":0.30500000000000022},0.71584522512660587,null,0.71584522512660587,null,0.51243438633656102,null,0.23437808250358991,0.23403636548211454,1,null,0.23403636548211454]
[{"$f":"A318+Model!$C$48","v":0.30600000000000022},0.71505697297123816,null,0.71505697297123816,null,0.51130647459479006,null,0.2348899529340556,0,0,null,0.23403636548211454]
[{"$f":"A319+Model!$C$48","v":0.30700000000000022},0.71427110837856045,null,0.71427110837856045,null,0.51018321626433727,null,0.23540069777948516,0.23506048231362647,1,null,0.23506048231362647]
[{"$f":"A320+Model!$C$48","v":0.30800000000000022},0.71348762112399788,null,0.71348762112399788,null,0.50906458549718159,null,0.23591032168036594,0,0,null,0.23506048231362647]
[{"$f":"A321+Model!$C$48","v":0.30900000000000022},0.71270650102068811,null,0.71270650102068811,null,0.50795055659715205,null,0.23641882925141311,0.23608010299231039,1,null,0.23608010299231039]
[{"$f":"A322+Model!$C$48","v":0.31000000000000022},0.71192780274229139,null,0.71192780274229139,null,0.50684119631746694,null,0.23692622512787043,0,0,null,0.23608010299231039]
[{"$f":"A323+Model!$C$48","v":0.31100000000000022},0.71115138811713829,null,0.71115138811713829,null,0.50573629682093268,null,0.23743251387443962,0.2370952645319849,1,null,0.2370952645319849]
[{"$f":"A324+Model!$C$48","v":0.31200000000000022},0.71037731034224461,null,0.71037731034224461,null,0.50463592304908167,null,0.23793769998437461,0,0,null,0.2370952645319849]
[{"$f":"A325+Model!$C$48","v":0.31300000000000022},0.70960555938464731,null,0.70960555938464731,null,0.50354004990959822,null,0.23844178797085394,0.2381060035431122,1,null,0.2381060035431122]
[{"$f":"A326+Model!$C$48","v":0.31400000000000022},0.70883612525033957,null,0.70883612525033957,null,0.5024486524599151,null,0.2389447823220387,0,0,null,0.2381060035431122]
[{"$f":"A327+Model!$C$48","v":0.31500000000000022},0.70806899798447742,null,0.70806899798447742,null,0.50136170590674189,null,0.23944668750122203,0.2391123560446316,1,null,0.2391123560446316]
[{"$f":"A328+Model!$C$48","v":0.31600000000000023},0.70730416767157434,null,0.70730416767157434,null,0.50027918560557849,null,0.23994750794697819,0,0,null,0.2391123560446316]
[{"$f":"A329+Model!$C$48","v":0.31700000000000023},0.70654162443568014,null,0.70654162443568014,null,0.49920106706020967,null,0.24044724807331108,0.24011435777624432,1,null,0.24011435777624432]
[{"$f":"A330+Model!$C$48","v":0.31800000000000023},0.70578135844055168,null,0.70578135844055168,null,0.4981273259221905,null,0.24094591226980228,0,0,null,0.24011435777624432]
[{"$f":"A331+Model!$C$48","v":0.31900000000000023},0.70502335988980902,null,0.70502335988980902,null,0.49705793799031517,null,0.24144350490175853,0.2411120440829394,1,null,0.2411120440829394]
[{"$f":"A332+Model!$C$48","v":0.32000000000000023},0.7042676190270819,null,0.7042676190270819,null,{"$f":"B333*D333","v":0.49599287921007496},null,0.24194003031035874,0,0,null,0.2411120440829394]
[{"$f":"A333+Model!$C$48","v":0.32100000000000023},0.70351412613614295,null,0.70351412613614295,null,0.49493212567310085,null,{"$f":"0.5*(F334+F333)*(A334-A333)+H333","v":0.24243549281280033},0.24210544991973321,1,null,0.24210544991973321]
[{"$f":"A334+Model!$C$48","v":0.32200000000000023},0.70276287154103412,null,0.70276287154103412,null,0.49387565361660002,null,0.24292989670244519,0,{"$f":"IF(J334=1,0,1)","v":0},null,0.24210544991973321]
[{"$f":"A335+Model!$C$48","v":0.32300000000000023},{"$f":"ERF($B$10/SQRT(A336))","v":0.7020138456061773},null,{"$f":"ERF($B$11/SQRT(A336))","v":0.7020138456061773},null,0.49282343942277373,null,0.24342324624896489,0.24309460985637507,1,null,0.24309460985637507]
[{"$f":"A336+Model!$C$48","v":0.32400000000000023},0.70126710594487052,null,0.70126710594487052,null,0.49177555388029426,null,0.24391554574561641,{"$f":"(I335+((A337-A336)/3)*(4*F335+2*F336))*J337","v":0},0,null,{"$f":"IF(J337=1,I337,I336)","v":0.24309460985637507}]
[{"$f":"A337+Model!$C$48","v":0.32500000000000023},0.7005225101483008,null,0.7005225101483008,null,0.49073178722447619,null,0.2444067994161688,0.24407955814485896,1,null,0.24407955814485896]
[{"$f":"A338+Model!$C$48","v":0.32600000000000023},0.69978011437722409,null,0.69978011437722409,null,0.48969220847780082,null,0.24489701141401993,0,0,null,0.24407955814485896]
[{"$f":"A339+Model!$C$48","v":0.32700000000000023},0.69903990915890146,null,0.69903990915890146,null,0.48865679459688521,null,0.24538618591555728,0.24506032866681013,1,null,0.24506032866681013]
[{"$f":"A340+Model!$C$48","v":0.32800000000000024},0.69830188506139979,null,0.69830188506139979,null,0.4876255226803044,null,0.24587432707419588,0,0,null,0.24506032866681013]
[{"$f":"A341+Model!$C$48","v":0.32900000000000024},0.69756603269364947,null,0.69756603269364947,null,0.48659836996795763,null,0.24636143902052002,0.24603695474139284,1,null,0.24603695474139284]
[{"$f":"A342+Model!$C$48","v":0.33000000000000024},0.6968323427054941,null,0.6968323427054941,null,0.48557531384042718,null,0.2468475258624242,0,0,null,0.24603695474139284]
[{"$f":"A343+Model!$C$48","v":0.33100000000000024},0.69610080578773192,null,0.69610080578773192,null,0.48455633181832969,null,0.24733259168525357,0.24700946944391039,1,null,0.24700946944391039]
[{"$f":"A344+Model!$C$48","v":0.33200000000000024},0.69537141267214664,null,0.69537141267214664,null,0.48354140156165687,null,0.24781664055194355,0,0,null,0.24700946944391039]
[{"$f":"A345+Model!$C$48","v":0.33300000000000024},0.69464415413153557,null,0.69464415413153557,null,0.48253050086911653,null,0.24829967650315893,0.24797790548737594,1,null,0.24797790548737594]
[{"$f":"A346+Model!$C$48","v":0.33400000000000024},0.69391902097972735,null,0.69391902097972735,null,0.48152360767746327,null,0.24878170355743223,0,0,null,0.24797790548737594]
[{"$f":"A347+Model!$C$48","v":0.33500000000000024},0.69319600407159321,null,0.69319600407159321,null,0.48052070006082426,null,0.24926272571130137,0.24894229522698641,1,null,0.24894229522698641]
[{"$f":"A348+Model!$C$48","v":0.33600000000000024},0.69247509430305021,null,0.69247509430305021,null,0.4795217562300183,null,0.24974274693944679,0,0,null,0.24894229522698641]
[{"$f":"A349+Model!$C$48","v":0.33700000000000024},0.6917562826110607,null,0.6917562826110607,null,0.47852675453187371,null,0.25022177119482775,0.24990267066455418,1,null,0.24990267066455418]
[{"$f":"A350+Model!$C$48","v":0.33800000000000024},0.69103955997362188,null,0.69103955997362188,null,0.47753567344853692,null,0.25069980240881795,0,0,null,0.24990267066455418]
[{"$f":"A351+Model!$C$48","v":0.33900000000000025},0.69032498831932565,null,0.69032498831932565,null,0.4765485894980771,null,0.25117684454029127,0.25085906345289571,1,null,0.25085906345289571]
[{"$f":"A352+Model!$C$48","v":0.34000000000000025},0.68961241845387555,null,0.68961241845387555,null,0.47556528768580314,null,0.2516529014788832,0,0,null,0.25085906345289571]
[{"$f":"A353+Model!$C$48","v":0.34100000000000025},0.6889019108502491,null,0.6889019108502491,null,0.47458584277312454,null,0.25212797704411266,0.25181150509735034,1,null,0.25181150509735034]
[{"$f":"A354+Model!$C$48","v":0.34200000000000025},0.6881934566507143,null,0.6881934566507143,null,0.47361023377685857,null,0.25260207508238763,0,0,null,0.25181150509735034]
[{"$f":"A355+Model!$C$48","v":0.34300000000000025},0.68748704703844488,null,0.68748704703844488,null,0.47263843984564091,null,0.25307519941919887,0.25276002637689909,1,null,0.25276002637689909]
[{"$f":"A356+Model!$C$48","v":0.34400000000000025},0.68678267323747377,null,0.68678267323747377,null,0.47167044025921068,null,0.25354735385925131,0,0,null,0.25276002637689909]
[{"$f":"A357+Model!$C$48","v":0.34500000000000025},0.68608032651265005,null,0.68608032651265005,null,0.47070621442770449,null,0.25401854218659475,0.25370465792353275,1,null,0.25370465792353275]
[{"$f":"A358+Model!$C$48","v":0.34600000000000025},0.68537999816958062,null,0.68537999816958062,null,0.46974574189093432,null,0.25448876816475408,0,0,null,0.25370465792353275]
[{"$f":"A359+Model!$C$48","v":0.34700000000000025},0.68468167955457615,null,0.68468167955457615,null,0.46878900231767529,null,0.25495803553685836,0.25464543003736367,1,null,0.25464543003736367]
[{"$f":"A360+Model!$C$48","v":0.34800000000000025},0.68398536205458638,null,0.68398536205458638,null,0.4678359755049436,null,0.25542634802576969,0,0,null,0.25464543003736367]
[{"$f":"A361+Model!$C$48","v":0.34900000000000025},0.68329103709713235,null,0.68329103709713235,null,0.4668866413772747,null,0.25589370933421079,0.25558237269079054,1,null,0.25558237269079054]
[{"$f":"A362+Model!$C$48","v":0.35000000000000026},0.682599001465651,null,0.682599001465651,null,0.46594139680190383,null,0.25636012335330038,0,0,null,0.25558237269079054]
[{"$f":"A363+Model!$C$48","v":0.35100000000000026},0.68190864299266341,null,0.68190864299266341,null,0.46499939738809565,null,0.25682559375039538,0.25651551581049487,1,null,0.25651551581049487]
[{"$f":"A364+Model!$C$48","v":0.35200000000000026},0.68122025171340606,null,0.68122025171340606,null,0.46406103134447629,null,0.25729012396476164,0,0,null,0.25651551581049487]
[{"$f":"A365+Model!$C$48","v":0.35300000000000026},0.68053381921866529,null,0.68053381921866529,null,0.46312627910034304,null,0.25775371761998406,0.25744488902790863,1,null,0.25744488902790863]
[{"$f":"A366+Model!$C$48","v":0.35400000000000026},0.67984933713941709,null,0.67984933713941709,null,0.46219512120890482,null,0.25821637832013866,0,0,null,0.25744488902790863]
[{"$f":"A367+Model!$C$48","v":0.35500000000000026},0.67916679714673889,null,0.67916679714673889,null,0.46126753834655959,null,0.25867810964991639,0.25837052081418171,1,null,0.25837052081418171]
[{"$f":"A368+Model!$C$48","v":0.35600000000000026},0.67848619095171148,null,0.67848619095171148,null,0.46034351131216228,null,0.25913891517474574,0,0,null,0.25837052081418171]
[{"$f":"A369+Model!$C$48","v":0.35700000000000026},0.67780751030532704,null,0.67780751030532704,null,0.459423021026306,null,0.25959879844091499,0.25929243987285189,1,null,0.25929243987285189]
[{"$f":"A370+Model!$C$48","v":0.35800000000000026},0.6771307469983846,null,0.6771307469983846,null,0.45850604853059035,null,0.26005776297569344,0,0,null,0.25929243987285189]
[{"$f":"A371+Model!$C$48","v":0.35900000000000026},0.67645588143516266,null,0.67645588143516266,null,0.45759255952822286,null,0.26051581227972287,0.26021067459990738,1,null,0.26021067459990738]
[{"$f":"A372+Model!$C$48","v":0.36000000000000026},0.67578292859009348,null,0.67578292859009348,null,0.45668256657380341,null,0.26097294984277386,0,0,null,0.26021067459990738]
[{"$f":"A373+Model!$C$48","v":0.36100000000000027},0.67511186868847872,null,0.67511186868847872,null,0.45577603524404975,null,0.2614291791436828,0.26112525305699419,1,null,0.26112525305699419]
[{"$f":"A374+Model!$C$48","v":0.36200000000000027},0.6744426936794552,null,0.6744426936794552,null,0.45487294705759945,null,0.26188450363483362,0,0,null,0.26112525305699419]
[{"$f":"A375+Model!$C$48","v":0.36300000000000027},0.67377539555141819,null,0.67377539555141819,null,0.45397328365047002,null,0.26233892675018766,0.2620362030686913,1,null,0.2620362030686913]
[{"$f":"A376+Model!$C$48","v":0.36400000000000027},0.67310996633190279,null,0.67310996633190279,null,0.45307702677533529,null,0.26279245190540057,0,0,null,0.2620362030686913]
[{"$f":"A377+Model!$C$48","v":0.36500000000000027},0.67244639808746676,null,0.67244639808746676,null,0.45218415830080783,null,0.26324508249793865,0.2629435521314088,1,null,0.2629435521314088]
[{"$f":"A378+Model!$C$48","v":0.36600000000000027},0.67178468292356552,null,0.67178468292356552,null,0.45129466021071546,null,0.2636968219071944,0,0,null,0.2629435521314088]
[{"$f":"A379+Model!$C$48","v":0.36700000000000027},0.67112481298443249,null,0.67112481298443249,null,0.45040851460338949,null,0.26414767349460144,0.26384732744928369,1,null,0.26384732744928369]
[{"$f":"A380+Model!$C$48","v":0.36800000000000027},0.67046678045294839,null,0.67046678045294839,null,0.44952570369094208,null,0.26459764060374863,0,0,null,0.26384732744928369]
[{"$f":"A381+Model!$C$48","v":0.36900000000000027},0.66981057755051598,null,0.66981057755051598,null,0.4486462097985558,null,0.26504672656049338,0.26474755593788218,1,null,0.26474755593788218]
[{"$f":"A382+Model!$C$48","v":0.37000000000000027},0.66915619653693015,null,0.66915619653693015,null,0.4477700153637707,null,0.26549493467307456,0,0,null,0.26474755593788218]
[{"$f":"A383+Model!$C$48","v":0.37100000000000027},0.66850362971024313,null,0.66850362971024313,null,0.44689710293576984,null,0.26594226823222433,0.26564426422785609,1,null,0.26564426422785609]
[{"$f":"A384+Model!$C$48","v":0.37200000000000027},0.66785286940663247,null,0.66785286940663247,null,0.44602745517467246,null,0.26638873051127954,0,0,null,0.26564426422785609]
[{"$f":"A385+Model!$C$48","v":0.37300000000000028},0.66720390800026697,null,0.66720390800026697,null,0.44516105485082869,null,0.26683432476629226,0.26653747866855354,1,null,0.26653747866855354]
[{"$f":"A386+Model!$C$48","v":0.37400000000000028},0.66655673790316528,null,0.66655673790316528,null,0.44429788484410898,null,0.26727905423613973,0,0,null,0.26653747866855354]
[{"$f":"A387+Model!$C$48","v":0.37500000000000028},0.66591135156506065,null,0.66591135156506065,null,0.44343792814320582,null,0.26772292214263338,0.26742722533158403,1,null,0.26742722533158403]
[{"$f":"A388+Model!$C$48","v":0.37600000000000028},0.66526774147325984,null,0.66526774147325984,null,0.44258116784493212,null,0.26816593169062747,0,0,null,0.26742722533158403]
[{"$f":"A389+Model!$C$48","v":0.37700000000000028},0.66462590015249978,null,0.66462590015249978,null,0.44172758715352062,null,0.26860808606812669,0.26831353001433828,1,null,0.26831353001433828]
[{"$f":"A390+Model!$C$48","v":0.37800000000000028},0.66398582016480689,null,0.66398582016480689,null,0.44087716937993127,null,0.26904938844639342,0,0,null,0.26831353001433828]
[{"$f":"A391+Model!$C$48","v":0.37900000000000028},0.66334749410934979,null,0.66334749410934979,null,0.44002989794115388,null,0.26948984198005399,0.26919641824346291,1,null,0.26919641824346291]
[{"$f":"A392+Model!$C$48","v":0.38000000000000028},0.6627109146222967,null,0.6627109146222967,null,0.43918575635952101,null,0.26992944980720435,0,0,null,0.26919641824346291]
[{"$f":"A393+Model!$C$48","v":0.38100000000000028},0.66207607437666627,null,0.66207607437666627,null,0.43834472826201692,null,0.27036821504951514,0.27007591527829078,1,null,0.27007591527829078]
[{"$f":"A394+Model!$C$48","v":0.38200000000000028},0.66144296608218112,null,0.66144296608218112,null,0.43750679737959342,null,0.27080614081233595,0,0,null,0.27007591527829078]
[{"$f":"A395+Model!$C$48","v":0.38300000000000028},0.66081158248511729,null,0.66081158248511729,null,0.43667194754648497,null,0.27124323018479901,0.27095204611422652,1,null,0.27095204611422652]
[{"$f":"A396+Model!$C$48","v":0.38400000000000029},0.66018191636815671,null,0.66018191636815671,null,{"$f":"B397*D397","v":0.43584016269953185},null,0.271679486239922,0,0,null,0.27095204611422652]
[{"$f":"A397+Model!$C$48","v":0.38500000000000029},0.65955396055023374,null,0.65955396055023374,null,0.43501142687749927,null,{"$f":"0.5*(F398+F397)*(A398-A397)+H397","v":0.2721149120347105},0.27182483548608821,1,null,0.27182483548608821]
[{"$f":"A398+Model!$C$48","v":0.38600000000000029},0.65892770788638533,null,0.65892770788638533,null,0.43418572422040558,null,0.27254951061025945,0,{"$f":"IF(J398=1,0,1)","v":0},null,0.27182483548608821]
[{"$f":"A399+Model!$C$48","v":0.38700000000000029},{"$f":"ERF($B$10/SQRT(A400))","v":0.65830315126759731},null,{"$f":"ERF($B$11/SQRT(A400))","v":0.65830315126759731},null,0.43336303896884909,null,0.27298328499185409,0.27269430787140514,1,null,0.27269430787140514]
[{"$f":"A400+Model!$C$48","v":0.38800000000000029},0.6576802836206509,null,0.6576802836206509,null,0.43254335546333983,null,0.27341623818907018,{"$f":"(I399+((A401-A400)/3)*(4*F399+2*F400))*J401","v":0},0,null,{"$f":"IF(J401=1,I401,I400)","v":0.27269430787140514}]
[{"$f":"A401+Model!$C$48","v":0.38900000000000029},0.65705909790797012,null,0.65705909790797012,null,0.43172665814363548,null,0.27384837319587368,0.27356048749367251,1,null,0.27356048749367251]
[{"$f":"A402+Model!$C$48","v":0.39000000000000029},0.65643958712746575,null,0.65643958712746575,null,0.43091293154807769,null,0.27427969299071953,0,0,null,0.27356048749367251]
[{"$f":"A403+Model!$C$48","v":0.39100000000000029},0.65582174431237961,null,0.65582174431237961,null,0.43010216031293219,null,0.27471020053665002,0.27442339832556273,1,null,0.27442339832556273]
[{"$f":"A404+Model!$C$48","v":0.39200000000000029},0.65520556253113016,null,0.65520556253113016,null,0.42929432917173471,null,0.27513989878139233,0,0,null,0.27442339832556273]
[{"$f":"A405+Model!$C$48","v":0.39300000000000029},0.65459103488715409,null,0.65459103488715409,null,0.42848942295463538,null,0.27556879065745554,0.27528306409209446,1,null,0.27528306409209446]
[{"$f":"A406+Model!$C$48","v":0.39400000000000029},0.65397815451875141,null,0.65397815451875141,null,0.42768742658775188,null,0.27599687908222675,0,0,null,0.27528306409209446]
[{"$f":"A407+Model!$C$48","v":0.3950000000000003},0.65336691459892615,null,0.65336691459892615,null,0.42688832509252045,null,0.27642416695806687,0.27613950827375916,1,null,0.27613950827375916]
[{"$f":"A408+Model!$C$48","v":0.3960000000000003},0.65275730833522938,null,0.65275730833522938,null,0.42609210358505373,null,0.27685065717240565,0,0,null,0.27613950827375916]
[{"$f":"A409+Model!$C$48","v":0.3970000000000003},0.65214932896960054,null,0.65214932896960054,null,0.42529874727550027,null,0.2772763525978359,0.27699275410960589,1,null,0.27699275410960589]
[{"$f":"A410+Model!$C$48","v":0.3980000000000003},0.65154296977821025,null,0.65154296977821025,null,0.42450824146740979,null,0.27770125609220736,0,0,null,0.27699275410960589]
[{"$f":"A411+Model!$C$48","v":0.3990000000000003},0.65093822407129909,null,0.65093822407129909,null,0.4237205715570968,null,0.2781253704987196,0.27784282460028481,1,null,0.27784282460028481]
[{"$f":"A412+Model!$C$48","v":0.4000000000000003},0.65033508519302052,null,0.65033508519302052,null,0.42293572303301324,null,0.27854869864601467,0,0,null,0.27784282460028481]
[{"$f":"A413+Model!$C$48","v":0.4010000000000003},0.64973354652128024,null,0.64973354652128024,null,0.42215368147512061,null,0.27897124334826873,0.27868974251104961,1,null,0.27868974251104961]
[{"$f":"A414+Model!$C$48","v":0.4020000000000003},0.6491336014675777,null,0.6491336014675777,null,0.42137443255426799,null,0.27939300740528344,0,0,null,0.27868974251104961]
[{"$f":"A415+Model!$C$48","v":0.4030000000000003},0.64853524347684521,null,0.64853524347684521,null,0.4205979620315709,null,0.27981399360257636,0.27953353037471929,1,null,0.27953353037471929]
[{"$f":"A416+Model!$C$48","v":0.4040000000000003},0.647938466027289,null,0.647938466027289,null,0.41982425575779636,null,0.28023420471147104,0,0,null,0.27953353037471929]
[{"$f":"A417+Model!$C$48","v":0.4050000000000003},0.64734326263022901,null,0.64734326263022901,null,0.41905329967274962,null,0.28065364348918631,0.28037421049459993,1,null,0.28037421049459993]
[{"$f":"A418+Model!$C$48","v":0.40600000000000031},0.64674962682993875,null,0.64674962682993875,null,0.41828507980466501,null,0.28107231267892502,0,0,null,0.28037421049459993]
[{"$f":"A419+Model!$C$48","v":0.40700000000000031},0.64615755220348481,null,0.64615755220348481,null,0.41751958226959918,null,0.28149021500996213,0.28121180494736669,1,null,0.28121180494736669]
[{"$f":"A420+Model!$C$48","v":0.40800000000000031},0.64556703236056823,null,0.64556703236056823,null,0.41675679327083093,null,0.28190735319773236,0,0,null,0.28121180494736669]
[{"$f":"A421+Model!$C$48","v":0.40900000000000031},0.6449780609433623,null,0.6449780609433623,null,0.41599669909825959,null,0.28232372994391691,0.28204633558590669,1,null,0.28204633558590669]
[{"$f":"A422+Model!$C$48","v":0.41000000000000031},0.64439063162635446,null,0.64439063162635446,null,0.41523928612781208,null,0.28273934793652994,0,0,null,0.28204633558590669]
[{"$f":"A423+Model!$C$48","v":0.41100000000000031},0.64380473811618522,null,0.64380473811618522,null,0.41448454082084984,null,0.28315420985000428,0.28287782404212292,1,null,0.28287782404212292]
[{"$f":"A424+Model!$C$48","v":0.41200000000000031},0.64322037415148903,null,0.64322037415148903,null,0.41373244972358153,null,0.28356831834527652,0,0,null,0.28287782404212292]
[{"$f":"A425+Model!$C$48","v":0.41300000000000031},0.64263753350273378,null,0.64263753350273378,null,0.41298299946647726,null,0.28398167606987157,0.28370629172969974,1,null,0.28370629172969974]
[{"$f":"A426+Model!$C$48","v":0.41400000000000031},0.64205620997206081,null,0.64205620997206081,null,0.41223617676368701,null,0.28439428565798663,0,0,null,0.28370629172969974]
[{"$f":"A427+Model!$C$48","v":0.41500000000000031},0.64147639739312734,null,0.64147639739312734,null,0.41149196841246544,null,0.28480614973057472,0.28453175984683082,1,null,0.28453175984683082]
[{"$f":"A428+Model!$C$48","v":0.41600000000000031},0.64089808963094463,null,0.64089808963094463,null,0.41075036129259435,null,0.28521727089542726,0,0,null,0.28453175984683082]
[{"$f":"A429+Model!$C$48","v":0.41700000000000031},0.64032128058172111,null,0.64032128058172111,null,0.41001134236581521,null,0.28562765174725646,0.28535424937890919,1,null,0.28535424937890919]
[{"$f":"A430+Model!$C$48","v":0.41800000000000032},0.63974596417270191,null,0.63974596417270191,null,0.40927489867526001,null,0.28603729486777701,0,0,null,0.28535424937890919]
[{"$f":"A431+Model!$C$48","v":0.41900000000000032},0.63917213436201115,null,0.63917213436201115,null,0.40854101734488885,null,0.28644620282578709,0.28617378110118047,1,null,0.28617378110118047]
[{"$f":"A432+Model!$C$48","v":0.42000000000000032},0.63859978513849347,null,0.63859978513849347,null,0.40780968557893005,null,0.28685437817724901,0,0,null,0.28617378110118047]
[{"$f":"A433+Model!$C$48","v":0.42100000000000032},0.6380289105215543,null,0.6380289105215543,null,0.40708089066132153,null,0.28726182346536916,0.28699037558135959,1,null,0.28699037558135959]
[{"$f":"A434+Model!$C$48","v":0.42200000000000032},0.63745950456100509,null,0.63745950456100509,null,0.40635461995516209,null,0.28766854122067742,0,0,null,0.28699037558135959]
[{"$f":"A435+Model!$C$48","v":0.42300000000000032},0.63689156133690294,null,0.63689156133690294,null,0.405630860902158,null,0.28807453396110611,0.28780405318221147,1,null,0.28780405318221147]
[{"$f":"A436+Model!$C$48","v":0.42400000000000032},0.63632507495939439,null,0.63632507495939439,null,0.4049096010220789,null,0.2884798041920682,0,0,null,0.28780405318221147]
[{"$f":"A437+Model!$C$48","v":0.42500000000000032},0.63576003956855953,null,0.63576003956855953,null,0.40419082791221639,null,0.28888435440653537,0.28861483406409572,1,null,0.28861483406409572]
[{"$f":"A438+Model!$C$48","v":0.42600000000000032},0.63519644933425423,null,0.63519644933425423,null,0.40347452924684379,null,0.28928818708511489,0,0,null,0.28861483406409572]
[{"$f":"A439+Model!$C$48","v":0.42700000000000032},0.63463429845595365,null,0.63463429845595365,null,0.40276069277668047,null,0.28969130469612664,0.28942273818747655,1,null,0.28942273818747655]
[{"$f":"A440+Model!$C$48","v":0.42800000000000032},0.63407358116259882,null,0.63407358116259882,null,0.40204930632836278,null,0.29009370969567916,0,0,null,0.28942273818747655]
[{"$f":"A441+Model!$C$48","v":0.42900000000000033},0.63351429171243767,null,0.63351429171243767,null,0.40134035780391158,null,0.2904954045277453,0.29022778531539772,1,null,0.29022778531539772]
[{"$f":"A442+Model!$C$48","v":0.43000000000000033},0.63295642439287381,null,0.63295642439287381,null,0.40063383518021178,null,0.29089639162423736,0,0,null,0.29022778531539772]
[{"$f":"A443+Model!$C$48","v":0.43100000000000033},0.63239997352030908,null,0.63239997352030908,null,0.39992972650848763,null,0.2912966734050817,0.29102999501592308,1,null,0.29102999501592308]
[{"$f":"A444+Model!$C$48","v":0.43200000000000033},0.63184493343999149,null,0.63184493343999149,null,0.39922801991378726,null,0.29169625227829282,0,0,null,0.29102999501592308]
[{"$f":"A445+Model!$C$48","v":0.43300000000000033},0.63129129852586052,null,0.63129129852586052,null,0.39852870359446713,null,0.29209513064004694,0.29182938666454361,1,null,0.29182938666454361]
[{"$f":"A446+Model!$C$48","v":0.43400000000000033},0.6307390631803933,null,0.6307390631803933,null,0.39783176582168017,null,0.292493310874755,0,0,null,0.29182938666454361]
[{"$f":"A447+Model!$C$48","v":0.43500000000000033},0.63018822183445344,null,0.63018822183445344,null,0.39713719493887029,null,0.29289079535513529,0.29262597944655067,1,null,0.29262597944655067]
[{"$f":"A448+Model!$C$48","v":0.43600000000000033},0.62963876894713822,null,0.62963876894713822,null,0.39644497936126771,null,0.29328758644228536,0,0,null,0.29262597944655067]
[{"$f":"A449+Model!$C$48","v":0.43700000000000033},0.62909069900562686,null,0.62909069900562686,null,0.39575510757538823,null,0.29368368648575371,0.29341979235937665,1,null,0.29341979235937665]
[{"$f":"A450+Model!$C$48","v":0.43800000000000033},0.6285440065250274,null,0.6285440065250274,null,0.39506756813853366,null,0.29407909782361069,0,0,null,0.29341979235937665]
[{"$f":"A451+Model!$C$48","v":0.43900000000000033},0.6279986860482295,null,0.6279986860482295,null,0.39438234967830271,null,0.2944738227825191,0.29421084421490284,1,null,0.29421084421490284]
[{"$f":"A452+Model!$C$48","v":0.44000000000000034},0.62745473214575109,null,0.62745473214575109,null,0.39369944089209624,null,0.29486786367780432,0,0,null,0.29421084421490284]
[{"$f":"A453+Model!$C$48","v":0.44100000000000034},0.62691213941559087,null,0.62691213941559087,null,0.39301883054663322,null,0.29526122281352368,0.29499915364173529,1,null,0.29499915364173529]
[{"$f":"A454+Model!$C$48","v":0.44200000000000034},0.6263709024830767,null,0.6263709024830767,null,0.39234050747746396,null,0.29565390248253576,0,0,null,0.29499915364173529]
[{"$f":"A455+Model!$C$48","v":0.44300000000000034},0.62583101600071978,null,0.62583101600071978,null,0.39166446058849319,null,0.29604590496656874,0.29578473908744912,1,null,0.29578473908744912]
[{"$f":"A456+Model!$C$48","v":0.44400000000000034},0.62529247464806381,null,0.62529247464806381,null,0.39099067885149952,null,0.29643723253628873,0,0,null,0.29578473908744912]
[{"$f":"A457+Model!$C$48","v":0.44500000000000034},0.62475527313154011,null,0.62475527313154011,null,0.3903191513056653,null,0.29682788745136729,0.29656761882080146,1,null,0.29656761882080146]
[{"$f":"A458+Model!$C$48","v":0.44600000000000034},0.62421940618431793,null,0.62421940618431793,null,0.38964986705710247,null,0.29721787196054866,0,0,null,0.29656761882080146]
[{"$f":"A459+Model!$C$48","v":0.44700000000000034},0.62368486856616046,null,0.62368486856616046,null,0.38898281527838885,null,0.2976071883017164,0.29734781093391377,1,null,0.29734781093391377]
[{"$f":"A460+Model!$C$48","v":0.44800000000000034},0.62315165506327685,null,0.62315165506327685,null,{"$f":"B461*D461","v":0.38831798520810118},null,0.29799583870195961,0,0,null,0.29734781093391377]
[{"$f":"A461+Model!$C$48","v":0.44900000000000034},0.62261976048817924,null,0.62261976048817924,null,0.38765536615035767,null,{"$f":"0.5*(F462+F461)*(A462-A461)+H461","v":0.29838382537763886},0.2981253333444237,1,null,0.2981253333444237]
[{"$f":"A462+Model!$C$48","v":0.45000000000000034},0.6220891796795357,null,0.6220891796795357,null,0.38699494747435764,null,0.29877115053445119,0,{"$f":"IF(J462=1,0,1)","v":0},null,0.2981253333444237]
[{"$f":"A463+Model!$C$48","v":0.45100000000000035},{"$f":"ERF($B$10/SQRT(A464))","v":0.62155990750202705},null,{"$f":"ERF($B$11/SQRT(A464))","v":0.62155990750202705},null,0.38633671861392843,null,0.29915781636749533,0.29890020379760707,1,null,0.29890020379760707]
[{"$f":"A464+Model!$C$48","v":0.45200000000000035},0.62103193884620578,null,0.62103193884620578,null,0.38568066906707749,null,0.29954382506133581,{"$f":"(I463+((A465-A464)/3)*(4*F463+2*F464))*J465","v":0},0,null,{"$f":"IF(J465=1,I465,I464)","v":0.29890020379760707}]
[{"$f":"A465+Model!$C$48","v":0.45300000000000035},0.62050526862834798,null,0.62050526862834798,null,0.38502678839553828,null,0.29992917879006714,0.29967243986847036,1,null,0.29967243986847036]
[{"$f":"A466+Model!$C$48","v":0.45400000000000035},0.61997989179031554,null,0.61997989179031554,null,0.38437506622433137,null,0.30031387971737705,0,0,null,0.29967243986847036]
[{"$f":"A467+Model!$C$48","v":0.45500000000000035},0.61945580329941363,null,0.61945580329941363,null,0.38372549224132185,null,0.30069792999660988,0.30044205896381398,1,null,0.30044205896381398]
[{"$f":"A468+Model!$C$48","v":0.45600000000000035},0.61893299814824709,null,0.61893299814824709,null,0.38307805619677804,null,0.30108133177082891,0,0,null,0.30044205896381398]
[{"$f":"A469+Model!$C$48","v":0.45700000000000035},0.61841147135458341,null,0.61841147135458341,null,0.38243274790294074,null,0.30146408717287876,0.30120907832426691,1,null,0.30120907832426691]
[{"$f":"A470+Model!$C$48","v":0.45800000000000035},0.6178912179612106,null,0.6178912179612106,null,0.38178955723358826,null,0.30184619832544701,0,0,null,0.30120907832426691]
[{"$f":"A471+Model!$C$48","v":0.45900000000000035},0.61737223303579847,null,0.61737223303579847,null,0.38114847412360825,null,0.30222766734112561,0.30197351502629322,1,null,0.30197351502629322]
[{"$f":"A472+Model!$C$48","v":0.46000000000000035},0.61685451167076089,null,0.61685451167076089,null,0.38050948856857286,null,0.30260849632247172,0,0,null,0.30197351502629322]
[{"$f":"A473+Model!$C$48","v":0.46100000000000035},0.6163380489831165,null,0.6163380489831165,null,0.3798725906243145,null,0.30298868736206819,0.30273538598417044,1,null,0.30273538598417044]
[{"$f":"A474+Model!$C$48","v":0.46200000000000035},0.61582284011435207,null,0.61582284011435207,null,0.3792377704065068,null,0.3033682425425836,0,0,null,0.30273538598417044]
[{"$f":"A475+Model!$C$48","v":0.46300000000000036},0.61530888023028696,null,0.61530888023028696,null,0.3786050180902496,null,0.30374716393683199,0.3034947079519405,1,null,0.3034947079519405]
[{"$f":"A476+Model!$C$48","v":0.46400000000000036},0.61479616452093444,null,0.61479616452093444,null,0.37797432390965191,null,0.30412545360783194,0,0,null,0.3034947079519405]
[{"$f":"A477+Model!$C$48","v":0.46500000000000036},0.61428468820036874,null,0.61428468820036874,null,0.37734567815742426,null,0.30450311360886551,0.30425149752533392,1,null,0.30425149752533392]
[{"$f":"A478+Model!$C$48","v":0.46600000000000036},0.6137744465065883,null,0.6137744465065883,null,0.37671907118446885,null,0.30488014598353647,0,0,null,0.30425149752533392]
[{"$f":"A479+Model!$C$48","v":0.46700000000000036},0.61326543470138417,null,0.61326543470138417,null,0.3760944933994777,null,0.30525655276582842,0.30500577114366678,1,null,0.30500577114366678]
[{"$f":"A480+Model!$C$48","v":0.46800000000000036},0.61275764807020372,null,0.61275764807020372,null,0.37547193526852762,null,0.30563233598016243,0,0,null,0.30500577114366678]
[{"$f":"A481+Model!$C$48","v":0.46900000000000036},0.61225108192201894,null,0.61225108192201894,null,0.37485138731468276,null,0.30600749764145402,0.30575754509171177,1,null,0.30575754509171177]
[{"$f":"A482+Model!$C$48","v":0.47000000000000036},0.61174573158919554,null,0.61174573158919554,null,0.37423284011760005,null,0.30638203975517014,0,0,null,0.30575754509171177]
[{"$f":"A483+Model!$C$48","v":0.47100000000000036},0.61124159242735931,null,0.61124159242735931,null,0.37361628431313404,null,0.3067559643173855,0.30650683550154306,1,null,0.30650683550154306]
[{"$f":"A484+Model!$C$48","v":0.47200000000000036},0.61073865981526609,null,0.61073865981526609,null,0.37300171059294734,null,0.30712927331483852,0,0,null,0.30650683550154306]
[{"$f":"A485+Model!$C$48","v":0.47300000000000036},0.61023692915467231,null,0.61023692915467231,null,0.37238910970412453,null,0.30750196872498708,0.30725365835435586,1,null,0.30725365835435586]
[{"$f":"A486+Model!$C$48","v":0.47400000000000037},0.60973639587020401,null,0.60973639587020401,null,0.37177847244878615,null,0.30787405251606353,0,0,null,0.30725365835435586]
[{"$f":"A487+Model!$C$48","v":0.47500000000000037},0.60923705540922868,null,0.60923705540922868,null,0.37116978968370756,null,0.30824552664712979,0.30799802948226057,1,null,0.30799802948226057]
[{"$f":"A488+Model!$C$48","v":0.47600000000000037},0.60873890324172786,null,0.60873890324172786,null,0.37056305231994169,null,0.3086163930681316,0,0,null,0.30799802948226057]
[{"$f":"A489+Model!$C$48","v":0.47700000000000037},0.60824193486016698,null,0.60824193486016698,null,0.36995825132243959,null,0.30898665371995276,0.30873996457005215,1,null,0.30873996457005215]
[{"$f":"A490+Model!$C$48","v":0.47800000000000037},0.60774614577937069,null,0.60774614577937069,null,0.36935537770968008,null,0.30935631053446883,0,0,null,0.30873996457005215]
[{"$f":"A491+Model!$C$48","v":0.47900000000000037},0.60725153153639611,null,0.60725153153639611,null,0.36875442255329866,null,0.30972536543460033,0.30947947915695517,1,null,0.30947947915695517]
[{"$f":"A492+Model!$C$48","v":0.48000000000000037},0.60675808769040618,null,0.60675808769040618,null,0.36815537697771861,null,0.31009382033436583,0,0,null,0.30947947915695517]
[{"$f":"A493+Model!$C$48","v":0.48100000000000037},0.60626580982254552,null,0.60626580982254552,null,0.36755823215978695,null,0.31046167713893458,0.31021658863834473,1,null,0.31021658863834473]
[{"$f":"A494+Model!$C$48","v":0.48200000000000037},0.60577469353581581,null,0.60577469353581581,null,0.36696297932841154,null,0.31082893774467868,0,0,null,0.31021658863834473]
[{"$f":"A495+Model!$C$48","v":0.48300000000000037},0.60528473445495279,null,0.60528473445495279,null,0.36636960976420269,null,0.31119560403922497,0.31095130826744338,1,null,0.31095130826744338]
[{"$f":"A496+Model!$C$48","v":0.48400000000000037},0.60479592822630091,null,0.60479592822630091,null,0.36577811479911293,null,0.31156167790150663,0,0,null,0.31095130826744338]
[{"$f":"A497+Model!$C$48","v":0.48500000000000038},0.6043082705176942,null,0.6043082705176942,null,0.36518848581608665,null,0.31192716120181424,0.31168365315699509,1,null,0.31168365315699509]
[{"$f":"A498+Model!$C$48","v":0.48600000000000038},0.60382175701833185,null,0.60382175701833185,null,0.36460071424870538,null,0.31229205580184666,0,0,null,0.31168365315699509]
[{"$f":"A499+Model!$C$48","v":0.48700000000000038},0.60333638343865825,null,0.60333638343865825,null,0.36401479158083966,null,0.31265636355476145,0.31241363828091567,1,null,0.31241363828091567]
[{"$f":"A500+Model!$C$48","v":0.48800000000000038},0.60285214551024269,null,0.60285214551024269,null,0.36343070934630284,null,0.31302008630522504,0,0,null,0.31241363828091567]
[{"$f":"A501+Model!$C$48","v":0.48900000000000038},0.60236903898565908,null,0.60236903898565908,null,0.36284845912850644,null,0.31338322588946244,0.31314127847592099,1,null,0.31314127847592099]
[{"$f":"A502+Model!$C$48","v":0.49000000000000038},0.60188705963836731,null,0.60188705963836731,null,0.36226803256011952,null,0.31374578413530674,0,0,null,0.31314127847592099]
[{"$f":"A503+Model!$C$48","v":0.49100000000000038},0.6014062032625932,null,0.6014062032625932,null,0.36168942132272758,null,0.31410776286224817,0.31386658844313242,1,null,0.31386658844313242]
[{"$f":"A504+Model!$C$48","v":0.49200000000000038},0.60092646567321306,null,0.60092646567321306,null,0.36111261714649934,null,0.31446916388148277,0,0,null,0.31386658844313242]
[{"$f":"A505+Model!$C$48","v":0.49300000000000038},0.60044784270563545,null,0.60044784270563545,null,0.36053761180985155,null,0.31482998899596093,0.31458958274966037,1,null,0.31458958274966037]
[{"$f":"A506+Model!$C$48","v":0.49400000000000038},0.59997033021568325,null,0.59997033021568325,null,0.35996439713911599,null,0.31519024000043544,0,0,null,0.31458958274966037]
[{"$f":"A507+Model!$C$48","v":0.49500000000000038},0.5994939240794791,null,0.5994939240794791,null,0.35939296500821227,null,0.31554991868150911,0.31531027583016624,1,null,0.31531027583016624]
[{"$f":"A508+Model!$C$48","v":0.49600000000000039},0.59901862019333119,null,0.59901862019333119,null,0.35882330733832235,null,0.3159090268176824,0,0,null,0.31531027583016624]
[{"$f":"A509+Model!$C$48","v":0.49700000000000039},0.5985444144736155,null,0.5985444144736155,null,0.35825541609756323,null,0.31626756617940033,0.31602868198840273,1,null,0.31602868198840273]
[{"$f":"A510+Model!$C$48","v":0.49800000000000039},0.5980713028566651,null,0.5980713028566651,null,0.35768928330066885,null,0.31662553852909947,0,0,null,0.31602868198840273]
[{"$f":"A511+Model!$C$48","v":0.49900000000000039},0.59759928129865425,null,0.59759928129865425,null,0.35712490100866812,null,0.31698294562125412,0.31674481539873328,1,null,0.31674481539873328]
[{"$f":"A512+Model!$C$48","v":0.50000000000000033},0.59712834577548746,null,0.59712834577548746,null,0.35656226132857011,null,0.31733978920242273,0,0,null,0.31674481539873328]
[{"$f":"A513+Model!$C$48","v":0.50100000000000033},0.5966584922826863,null,0.5966584922826863,null,0.35600135641304842,null,0.31769607101129355,0.31745869010763056,1,null,0.31745869010763056]
[{"$f":"A514+Model!$C$48","v":0.50200000000000033},0.59618971683527777,null,0.59618971683527777,null,0.35544217846012871,null,0.31805179277873014,0,0,null,0.31745869010763056]
[{"$f":"A515+Model!$C$48","v":0.50300000000000034},0.59572201546768433,null,0.59572201546768433,null,0.35488471971287994,null,0.31840695622781662,0.31817032003515472,1,null,0.31817032003515472]
[{"$f":"A516+Model!$C$48","v":0.50400000000000034},0.59525538423361413,null,0.59525538423361413,null,0.35432897245910761,null,0.31876156307390263,0,0,null,0.31817032003515472]
[{"$f":"A517+Model!$C$48","v":0.50500000000000034},0.59478981920594876,null,0.59478981920594876,null,0.35377492903104518,null,0.31911561502464769,0.31887971897641132,1,null,0.31887971897641132]
[{"$f":"A518+Model!$C$48","v":0.50600000000000034},0.59432531647663756,null,0.59432531647663756,null,0.35322258180505539,null,0.31946911378006576,0,0,null,0.31887971897641132]
[{"$f":"A519+Model!$C$48","v":0.50700000000000034},0.59386187215658714,null,0.59386187215658714,null,0.35267192320132668,null,0.31982206103256894,0.31958690060298944,1,null,0.31958690060298944]
[{"$f":"A520+Model!$C$48","v":0.50800000000000034},0.59339948237555462,null,0.59339948237555462,null,0.35212294568357616,null,0.32017445846701137,0,0,null,0.31958690060298944]
[{"$f":"A521+Model!$C$48","v":0.50900000000000034},0.5929381432820402,null,0.5929381432820402,null,0.35157564175875322,null,0.32052630776073254,0.32029187846438029,1,null,0.32029187846438029]
[{"$f":"A522+Model!$C$48","v":0.51000000000000034},0.59247785104318007,null,0.59247785104318007,null,0.35103000397674466,null,0.32087761058360031,0,0,null,0.32029187846438029]
[{"$f":"A523+Model!$C$48","v":0.51100000000000034},0.59201860184464228,null,0.59201860184464228,null,0.35048602493008507,null,0.3212283685980537,0.32099466598937648,1,null,0.32099466598937648]
[{"$f":"A524+Model!$C$48","v":0.51200000000000034},0.59156039189051957,null,0.59156039189051957,null,{"$f":"B525*D525","v":0.34994369725366509},null,0.32157858345914558,0,0,null,0.32099466598937648]
[{"$f":"A525+Model!$C$48","v":0.51300000000000034},0.59110321740322525,null,0.59110321740322525,null,0.34940301362444459,null,{"$f":"0.5*(F526+F525)*(A526-A525)+H525","v":0.32192825681458465},0.32169527648745239,1,null,0.32169527648745239]
[{"$f":"A526+Model!$C$48","v":0.51400000000000035},0.59064707462339028,null,0.59064707462339028,null,0.34886396676116876,null,0.32227739030477748,0,{"$f":"IF(J526=1,0,1)","v":0},null,0.32169527648745239]
[{"$f":"A527+Model!$C$48","v":0.51500000000000035},{"$f":"ERF($B$10/SQRT(A528))","v":0.59019195980975836},null,{"$f":"ERF($B$11/SQRT(A528))","v":0.59019195980975836},null,0.34832654942408342,null,0.32262598556287009,0.32239372315012577,1,null,0.32239372315012577]
[{"$f":"A528+Model!$C$48","v":0.51600000000000035},0.58973786923908356,null,0.58973786923908356,null,0.3477907544146544,null,0.32297404421478948,{"$f":"(I527+((A529-A528)/3)*(4*F527+2*F528))*J529","v":0},0,null,{"$f":"IF(J529=1,I529,I528)","v":0.32239372315012577}]
[{"$f":"A529+Model!$C$48","v":0.51700000000000035},0.58928479920602872,null,0.58928479920602872,null,0.34725657457528958,null,0.32332156787928445,0.323090019052301,1,null,0.323090019052301]
[{"$f":"A530+Model!$C$48","v":0.51800000000000035},0.58883274602306268,null,0.58883274602306268,null,0.34672400278906063,null,0.32366855816796664,0,0,null,0.323090019052301]
[{"$f":"A531+Model!$C$48","v":0.51900000000000035},0.58838170602036044,null,0.58838170602036044,null,0.34619303197942985,null,0.32401501668535088,0.32378417715359409,1,null,0.32378417715359409]
[{"$f":"A532+Model!$C$48","v":0.52000000000000035},0.58793167554570125,null,0.58793167554570125,null,0.34566365510997571,null,0.32436094502889556,0,0,null,0.32378417715359409]
[{"$f":"A533+Model!$C$48","v":0.52100000000000035},0.58748265096437047,null,0.58748265096437047,null,0.34513586518412431,null,0.32470634478904259,0.32447621029963997,1,null,0.32447621029963997]
[{"$f":"A534+Model!$C$48","v":0.52200000000000035},0.58703462865905909,null,0.58703462865905909,null,0.34460965524487941,null,0.32505121754925709,0,0,null,0.32447621029963997]
[{"$f":"A535+Model!$C$48","v":0.52300000000000035},0.58658760502976504,null,0.58658760502976504,null,0.34408501837455563,null,0.3253955648860668,0.32516613122338206,1,null,0.32516613122338206]
[{"$f":"A536+Model!$C$48","v":0.52400000000000035},0.5861415764936958,null,0.5861415764936958,null,0.34356194769451504,null,0.32573938836910132,0,0,null,0.32516613122338206]
[{"$f":"A537+Model!$C$48","v":0.52500000000000036},0.58569653948517042,null,0.58569653948517042,null,0.34304043636490378,null,0.32608268956113101,0.32585395254634447,1,null,0.32585395254634447]
[{"$f":"A538+Model!$C$48","v":0.52600000000000036},0.58525249045552274,null,0.58525249045552274,null,0.34252047758439175,null,0.32642547001810568,0,0,null,0.32585395254634447]
[{"$f":"A539+Model!$C$48","v":0.52700000000000036},0.58480942587300422,null,0.58480942587300422,null,0.34200206458991284,null,0.32676773128919284,0.32653968677988726,1,null,0.32653968677988726]
[{"$f":"A540+Model!$C$48","v":0.52800000000000036},0.5843673422226896,null,0.5843673422226896,null,0.34148519065641003,null,0.32710947491681602,0,0,null,0.32653968677988726]
[{"$f":"A541+Model!$C$48","v":0.52900000000000036},0.58392623600638072,null,0.58392623600638072,null,0.34096984909657946,null,0.3274507024366925,0.32722334632644473,1,null,0.32722334632644473]
[{"$f":"A542+Model!$C$48","v":0.53000000000000036},0.58348610374251197,null,0.58348610374251197,null,0.34045603326061746,null,0.3277914153778711,0,0,null,0.32722334632644473]
[{"$f":"A543+Model!$C$48","v":0.53100000000000036},0.58304694196605578,null,0.58304694196605578,null,0.33994373653596921,null,0.3281316152627694,0.32790494348074722,1,null,0.32790494348074722]
[{"$f":"A544+Model!$C$48","v":0.53200000000000036},0.58260874722843048,null,0.58260874722843048,null,0.33943295234708121,null,0.32847130360721094,0,0,null,0.32790494348074722]
[{"$f":"A545+Model!$C$48","v":0.53300000000000036},0.58217151609740614,null,0.58217151609740614,null,0.3389236741551524,null,0.32881048192046208,0.32858449043102655,1,null,0.32858449043102655]
[{"$f":"A546+Model!$C$48","v":0.53400000000000036},0.58173524515701147,null,0.58173524515701147,null,0.33841589545788825,null,0.32914915170526859,0,0,null,0.32858449043102655]
[{"$f":"A547+Model!$C$48","v":0.53500000000000036},0.58129993100744359,null,0.58129993100744359,null,0.33790960978925866,null,0.32948731445789214,0.32926199926020533,1,null,0.32926199926020533]
[{"$f":"A548+Model!$C$48","v":0.53600000000000037},0.58086557026497665,null,0.58086557026497665,null,0.33740481071925654,null,0.32982497166814639,0,0,null,0.32926199926020533]
[{"$f":"A549+Model!$C$48","v":0.53700000000000037},0.58043215956187011,null,0.58043215956187011,null,0.33690149185365625,null,0.33016212481943286,0.32993748194707051,1,null,0.32993748194707051]
[{"$f":"A550+Model!$C$48","v":0.53800000000000037},0.57999969554627751,null,0.57999969554627751,null,0.3363996468337746,null,0.33049877538877659,0,0,null,0.32993748194707051]
[{"$f":"A551+Model!$C$48","v":0.53900000000000037},0.57956817488215995,null,0.57956817488215995,null,0.33589926933623793,null,0.33083492484686161,0.33061095036743121,1,null,0.33061095036743121]
[{"$f":"A552+Model!$C$48","v":0.54000000000000037},0.57913759424919431,null,0.57913759424919431,null,0.33540035307274441,null,0.3311705746580661,0,0,null,0.33061095036743121]
[{"$f":"A553+Model!$C$48","v":0.54100000000000037},0.57870795034268563,null,0.57870795034268563,null,0.33490289178983229,null,0.3315057262804974,0.33128241629526134,1,null,0.33128241629526134]
[{"$f":"A554+Model!$C$48","v":0.54200000000000037},0.57827923987347862,null,0.57827923987347862,null,0.33440687926864821,null,0.33184038116602665,0,0,null,0.33128241629526134]
[{"$f":"A555+Model!$C$48","v":0.54300000000000037},0.57785145956787098,null,0.57785145956787098,null,0.33391230932471883,null,0.33217454076032332,0.33195189140382686,1,null,0.33195189140382686]
[{"$f":"A556+Model!$C$48","v":0.54400000000000037},0.57742460616752533,null,0.57742460616752533,null,0.33341917580772173,null,0.33250820650288954,0,0,null,0.33195189140382686]
[{"$f":"A557+Model!$C$48","v":0.54500000000000037},0.57699867642938363,null,0.57699867642938363,null,0.33292747260126054,null,0.33284137982709405,0.33261938726679829,1,null,0.33261938726679829]
[{"$f":"A558+Model!$C$48","v":0.54600000000000037},0.57657366712558067,null,0.57657366712558067,null,0.3324371936226399,null,0.33317406216020601,0,0,null,0.33261938726679829]
[{"$f":"A559+Model!$C$48","v":0.54700000000000037},0.57614957504335873,null,0.57614957504335873,null,0.33194833282264286,null,0.33350625492342867,0.3332849153593484,1,null,0.3332849153593484]
[{"$f":"A560+Model!$C$48","v":0.54800000000000038},0.57572639698498307,null,0.57572639698498307,null,0.33146088418531033,null,0.33383795953193263,0,0,null,0.3332849153593484]
[{"$f":"A561+Model!$C$48","v":0.54900000000000038},0.57530412976765699,null,0.57530412976765699,null,0.33097484172772113,null,0.33416917739488916,0.33394848705923547,1,null,0.33394848705923547]
[{"$f":"A562+Model!$C$48","v":0.55000000000000038},0.57488277022343859,null,0.57488277022343859,null,0.33049019949977487,null,0.33449990991550294,0,0,null,0.33394848705923547]
[{"$f":"A563+Model!$C$48","v":0.55100000000000038},0.57446231519915625,null,0.57446231519915625,null,0.33000695158397475,null,0.3348301584910448,0.3346101136478723,1,null,0.3346101136478723]
[{"$f":"A564+Model!$C$48","v":0.55200000000000038},0.57404276155632739,null,0.57404276155632739,null,0.32952509209521452,null,0.3351599245128844,0,0,null,0.3346101136478723]
[{"$f":"A565+Model!$C$48","v":0.55300000000000038},0.57362410617107473,null,0.57362410617107473,null,0.32904461518056444,null,0.33548920936652227,0.33526980631138109,1,null,0.33526980631138109]
[{"$f":"A566+Model!$C$48","v":0.55400000000000038},0.57320634593404551,null,0.57320634593404551,null,0.32856551501906067,null,0.33581801443162207,0,0,null,0.33526980631138109]
[{"$f":"A567+Model!$C$48","v":0.55500000000000038},0.57278947775032896,null,0.57278947775032896,null,0.32808778582149462,null,0.33614634108204233,0.33592757614163454,1,null,0.33592757614163454]
[{"$f":"A568+Model!$C$48","v":0.55600000000000038},0.57237349853937669,null,0.57237349853937669,null,0.32761142183020586,null,0.3364741906858682,0,0,null,0.33592757614163454]
[{"$f":"A569+Model!$C$48","v":0.55700000000000038},0.57195840523492136,null,0.57195840523492136,null,0.3271364173188745,null,0.33680156460544275,0.33658343413728337,1,null,0.33658343413728337]
[{"$f":"A570+Model!$C$48","v":0.55800000000000038},0.57154419478489726,null,0.57154419478489726,null,0.32666276659231658,null,0.33712846419739834,0,0,null,0.33658343413728337]
[{"$f":"A571+Model!$C$48","v":0.55900000000000039},0.57113086415136061,null,0.57113086415136061,null,0.32619046398627993,null,0.33745489081268765,0.33723739120477009,1,null,0.33723739120477009]
[{"$f":"A572+Model!$C$48","v":0.56000000000000039},0.57071841031041193,null,0.57071841031041193,null,0.32571950386724369,null,0.33778084579661438,0,0,null,0.33723739120477009]
[{"$f":"A573+Model!$C$48","v":0.56100000000000039},0.57030683025211526,null,0.57030683025211526,null,0.32524988063221499,null,0.33810633048886413,0.33788945815932997,1,null,0.33788945815932997]
[{"$f":"A574+Model!$C$48","v":0.56200000000000039},0.5698961209804223,null,0.5698961209804223,null,0.32478158870853213,null,0.33843134622353449,0,0,null,0.33788945815932997]
[{"$f":"A575+Model!$C$48","v":0.56300000000000039},0.56948627951309438,null,0.56948627951309438,null,0.32431462255366628,null,0.33875589432916559,0.33853964572597861,1,null,0.33853964572597861]
[{"$f":"A576+Model!$C$48","v":0.56400000000000039},0.56907730288162461,null,0.56907730288162461,null,0.32384897665502432,null,0.33907997612876994,0,0,null,0.33853964572597861]
[{"$f":"A577+Model!$C$48","v":0.56500000000000039},0.56866918813116341,null,0.56866918813116341,null,0.32338464552975654,null,0.33940359293986233,0.33918796454048683,1,null,0.33918796454048683]
[{"$f":"A578+Model!$C$48","v":0.56600000000000039},0.56826193232043953,null,0.56826193232043953,null,0.32292162372455979,null,0.33972674607448949,0,0,null,0.33918796454048683]
[{"$f":"A579+Model!$C$48","v":0.56700000000000039},0.56785553252168741,null,0.56785553252168741,null,0.32245990581548917,null,0.34004943683925953,0.3398344251503429,1,null,0.3398344251503429]
[{"$f":"A580+Model!$C$48","v":0.56800000000000039},0.56744998582056982,null,0.56744998582056982,null,0.32199948640776488,null,0.34037166653537115,0,0,null,0.3398344251503429]
[{"$f":"A581+Model!$C$48","v":0.56900000000000039},0.56704528931610487,null,0.56704528931610487,null,0.32154036013558507,null,0.34069343645864281,0.34047903801570206,1,null,0.34047903801570206]
[{"$f":"A582+Model!$C$48","v":0.5700000000000004},0.56664144012059092,null,0.56664144012059092,null,0.32108252166193724,null,0.34101474789954156,0,0,null,0.34047903801570206]
[{"$f":"A583+Model!$C$48","v":0.5710000000000004},0.56623843535953278,null,0.56623843535953278,null,0.32062596567841178,null,0.34133560214321174,0.34112181351032411,1,null,0.34112181351032411]
[{"$f":"A584+Model!$C$48","v":0.5720000000000004},0.56583627217156918,null,0.56583627217156918,null,0.3201706869050181,null,0.34165600046950345,0,0,null,0.34112181351032411]
[{"$f":"A585+Model!$C$48","v":0.5730000000000004},0.56543494770839897,null,0.56543494770839897,null,0.31971668008999987,null,0.34197594415300098,0.34176276192249866,1,null,0.34176276192249866]
[{"$f":"A586+Model!$C$48","v":0.5740000000000004},0.56503445913470962,null,0.56503445913470962,null,0.31926394000965386,null,0.34229543446305083,0,0,null,0.34176276192249866]
[{"$f":"A587+Model!$C$48","v":0.5750000000000004},0.5646348036281047,null,0.5646348036281047,null,0.31881246146814834,null,0.34261447266378975,0.34240189345595845,1,null,0.34240189345595845]
[{"$f":"A588+Model!$C$48","v":0.5760000000000004},0.56423597837903217,null,0.56423597837903217,null,{"$f":"B589*D589","v":0.31836223929734364},null,0.34293306001417251,0,0,null,0.34240189345595845]
[{"$f":"A589+Model!$C$48","v":0.5770000000000004},0.56383797376912814,null,0.56383797376912814,null,0.31791326066407605,null,{"$f":"0.5*(F590+F589)*(A590-A589)+H589","v":0.34325119776415319},0.34303921823078087,1,null,0.34303921823078087]
[{"$f":"A590+Model!$C$48","v":0.5780000000000004},0.56344080074197744,null,0.56344080074197744,null,0.31746553594076071,null,0.34356888716245559,0,{"$f":"IF(J590=1,0,1)","v":0},null,0.34303921823078087]
[{"$f":"A591+Model!$C$48","v":0.5790000000000004},{"$f":"ERF($B$10/SQRT(A592))","v":0.56304444961888145},null,{"$f":"ERF($B$11/SQRT(A592))","v":0.56304444961888145},null,0.31701905224662913,null,0.34388612945654928,0.34367474626896016,1,null,0.34367474626896016]
[{"$f":"A592+Model!$C$48","v":0.5800000000000004},0.56264891764098079,null,0.56264891764098079,null,0.31657380452256717,null,0.3442029258849339,{"$f":"(I591+((A593-A592)/3)*(4*F591+2*F592))*J593","v":0},0,null,{"$f":"IF(J593=1,I593,I592)","v":0.34367474626896016}]
[{"$f":"A593+Model!$C$48","v":0.58100000000000041},0.56225420206190824,null,0.56225420206190824,null,0.31612978773627315,null,0.34451927768106333,0.3443084875416374,1,null,0.3443084875416374]
[{"$f":"A594+Model!$C$48","v":0.58200000000000041},0.56186030014772204,null,0.56186030014772204,null,0.31568699688208829,null,0.34483518607337249,0,0,null,0.3443084875416374]
[{"$f":"A595+Model!$C$48","v":0.58300000000000041},0.56146720917683723,null,0.56146720917683723,null,0.3152454269808263,null,0.34515065228530395,0.34494045192320716,1,null,0.34494045192320716]
[{"$f":"A596+Model!$C$48","v":0.58400000000000041},0.56107492643995627,null,0.56107492643995627,null,0.31480507307960232,null,0.34546567753533414,0,0,null,0.34494045192320716]
[{"$f":"A597+Model!$C$48","v":0.58500000000000041},0.56068344924000224,null,0.56068344924000224,null,0.31436593025166615,null,0.34578026303699977,0.34557064920790131,1,null,0.34557064920790131]
[{"$f":"A598+Model!$C$48","v":0.58600000000000041},0.56029277489205209,null,0.56029277489205209,null,0.31392799359623574,null,0.34609440999892371,0,0,null,0.34557064920790131]
[{"$f":"A599+Model!$C$48","v":0.58700000000000041},0.55990290072326887,null,0.55990290072326887,null,0.31349125823833068,null,0.34640811962484097,0.34619908911063435,1,null,0.34619908911063435]
[{"$f":"A600+Model!$C$48","v":0.58800000000000041},0.55951382407283579,null,0.55951382407283579,null,0.31305571932860826,null,0.34672139311362443,0,0,null,0.34619908911063435]
[{"$f":"A601+Model!$C$48","v":0.58900000000000041},0.55912554229189071,null,0.55912554229189071,null,0.31262137204320084,null,0.34703423165931035,0.34682578126783786,1,null,0.34682578126783786]
[{"$f":"A602+Model!$C$48","v":0.59000000000000041},0.55873805274346011,null,0.55873805274346011,null,0.31218821158355359,null,0.34734663645112374,0,0,null,0.34682578126783786]
[{"$f":"A603+Model!$C$48","v":0.59100000000000041},0.55835135280239345,null,0.55835135280239345,null,0.31175623317626283,null,0.34765860867350362,0.34745073523828451,1,null,0.34745073523828451]
[{"$f":"A604+Model!$C$48","v":0.59200000000000041},0.55796543985529945,null,0.55796543985529945,null,0.3113254320729178,null,0.3479701495061282,0,0,null,0.34745073523828451]
[{"$f":"A605+Model!$C$48","v":0.59300000000000042},0.55758031130048125,null,0.55758031130048125,null,0.31089580354994156,null,0.34828126012393962,0.34807396050390149,1,null,0.34807396050390149]
[{"$f":"A606+Model!$C$48","v":0.59400000000000042},0.5571959645478719,null,0.5571959645478719,null,0.31046734290843331,null,0.34859194169716878,0,0,null,0.34807396050390149]
[{"$f":"A607+Model!$C$48","v":0.59500000000000042},0.55681239701897212,null,0.55681239701897212,null,0.31004004547401343,null,0.34890219539136003,0.3486954664705737,1,null,0.3486954664705737]
[{"$f":"A608+Model!$C$48","v":0.59600000000000042},0.55642960614678572,null,0.55642960614678572,null,0.3096139065966671,null,0.34921202236739535,0,0,null,0.3486954664705737]
[{"$f":"A609+Model!$C$48","v":0.59700000000000042},0.55604758937575749,null,0.55604758937575749,null,0.30918892165059103,null,0.34952142378151896,0.34931526246893685,1,null,0.34931526246893685]
[{"$f":"A610+Model!$C$48","v":0.59800000000000042},0.5556663441617109,null,0.5556663441617109,null,0.30876508603404096,null,0.34983040078536126,0,0,null,0.34931526246893685]
[{"$f":"A611+Model!$C$48","v":0.59900000000000042},0.55528586797178592,null,0.55528586797178592,null,0.30834239516917966,null,0.35013895452596289,0.34993335775516032,1,null,0.34993335775516032]
[{"$f":"A612+Model!$C$48","v":0.60000000000000042},0.55490615828437706,null,0.55490615828437706,null,0.30792084450192614,null,0.35044708614579845,0,0,null,0.34993335775516032]
[{"$f":"A613+Model!$C$48","v":0.60100000000000042},0.55452721258907278,null,0.55452721258907278,null,0.30750042950180673,null,0.3507547967828003,0.35054976151172051,1,null,0.35054976151172051]
[{"$f":"A614+Model!$C$48","v":0.60200000000000042},0.55414902838659408,null,0.55414902838659408,null,0.30708114566180628,null,0.3510620875703821,0,0,null,0.35054976151172051]
[{"$f":"A615+Model!$C$48","v":0.60300000000000042},0.5537716031887342,null,0.5537716031887342,null,0.30666298849822088,null,0.35136895963746212,0.35116448284816415,1,null,0.35116448284816415]
[{"$f":"A616+Model!$C$48","v":0.60400000000000043},0.55339493451829846,null,0.55339493451829846,null,0.30624595355051182,null,0.35167541410848646,0,0,null,0.35116448284816415]
[{"$f":"A617+Model!$C$48","v":0.60500000000000043},0.55301901990904512,null,0.55301901990904512,null,0.30583003638116085,null,0.35198145210345227,0.35177753080186214,1,null,0.35177753080186214]
[{"$f":"A618+Model!$C$48","v":0.60600000000000043},0.55264385690562412,null,0.55264385690562412,null,0.30541523257552394,null,0.35228707473793064,0,0,null,0.35177753080186214]
[{"$f":"A619+Model!$C$48","v":0.60700000000000043},0.55226944306352044,null,0.55226944306352044,null,0.30500153774169103,null,0.35259228312308927,0.35238891433875402,1,null,0.35238891433875402]
[{"$f":"A620+Model!$C$48","v":0.60800000000000043},0.55189577594899375,null,0.55189577594899375,null,0.30458894751034193,null,0.35289707836571527,0,0,null,0.35238891433875402]
[{"$f":"A621+Model!$C$48","v":0.60900000000000043},0.5515228531390205,null,0.5515228531390205,null,0.30417745753460557,null,0.35320146156823773,0.35299864235408318,1,null,0.35299864235408318]
[{"$f":"A622+Model!$C$48","v":0.61000000000000043},0.55115067222123681,null,0.55115067222123681,null,0.30376706348992122,null,0.35350543382874999,0,0,null,0.35299864235408318]
[{"$f":"A623+Model!$C$48","v":0.61100000000000043},0.5507792307938798,null,0.5507792307938798,null,0.30335776107389789,null,0.3538089962410319,0.35360672367312262,1,null,0.35360672367312262]
[{"$f":"A624+Model!$C$48","v":0.61200000000000043},0.55040852646573035,null,0.55040852646573035,null,0.30294954600617657,null,0.35411214989457196,0,0,null,0.35360672367312262]
[{"$f":"A625+Model!$C$48","v":0.61300000000000043},0.55003855685605807,null,0.55003855685605807,null,0.30254241402829501,null,0.35441489587458919,0.35421316705189193,1,null,0.35421316705189193]
[{"$f":"A626+Model!$C$48","v":0.61400000000000043},0.54966931959456145,null,0.54966931959456145,null,0.30213636090354812,null,0.35471723526205512,0,0,null,0.35421316705189193]
[{"$f":"A627+Model!$C$48","v":0.61500000000000044},0.54930081232131467,null,0.54930081232131467,null,0.30173138241685615,null,0.35501916913371534,0.35481798117786534,1,null,0.35481798117786534]
[{"$f":"A628+Model!$C$48","v":0.61600000000000044},0.54893303268671001,null,0.54893303268671001,null,0.30132747437462865,null,0.35532069856211107,0,0,null,0.35481798117786534]
[{"$f":"A629+Model!$C$48","v":0.61700000000000044},0.5485659783514043,null,0.5485659783514043,null,0.30092463260463337,null,0.35562182461560071,0.35542117467067091,1,null,0.35542117467067091]
[{"$f":"A630+Model!$C$48","v":0.61800000000000044},0.54819964698626078,null,0.54819964698626078,null,0.30052285295586095,null,0.35592254835838094,0,0,null,0.35542117467067091]
[{"$f":"A631+Model!$C$48","v":0.61900000000000044},0.54783403627229743,null,0.54783403627229743,null,0.30012213129839688,null,0.35622287085050808,0.356022756082781,1,null,0.356022756082781]
[{"$f":"A632+Model!$C$48","v":0.62000000000000044},0.54746914390062973,null,0.54746914390062973,null,0.29972246352328841,null,0.3565227931479189,0,0,null,0.356022756082781]
[{"$f":"A633+Model!$C$48","v":0.62100000000000044},0.54710496757241833,null,0.54710496757241833,null,0.29932384554241692,null,0.35682231630245176,0.35662273390019439,1,null,0.35662273390019439]
[{"$f":"A634+Model!$C$48","v":0.62200000000000044},0.5467415049988148,null,0.5467415049988148,null,0.29892627328836902,null,0.35712144136186713,0,0,null,0.35662273390019439]
[{"$f":"A635+Model!$C$48","v":0.62300000000000044},0.5463787539009084,null,0.5463787539009084,null,0.29852974271430943,null,0.35742016936986848,0.35722111654310984,1,null,0.35722111654310984]
[{"$f":"A636+Model!$C$48","v":0.62400000000000044},0.54601671200967106,null,0.54601671200967106,null,0.29813424979385206,null,0.35771850136612254,0,0,null,0.35722111654310984]
[{"$f":"A637+Model!$C$48","v":0.62500000000000044},0.54565537706590828,null,0.54565537706590828,null,0.29773979052093852,null,0.35801643838627994,0.3578179123665915,1,null,0.3578179123665915]
[{"$f":"A638+Model!$C$48","v":0.62600000000000044},0.54529474682020207,null,0.54529474682020207,null,0.29734636090970828,null,0.35831398146199528,0,0,null,0.3578179123665915]
[{"$f":"A639+Model!$C$48","v":0.62700000000000045},0.544934819032863,null,0.544934819032863,null,0.29695395699437915,null,0.35861113162094732,0.3584131296612259,1,null,0.3584131296612259]
[{"$f":"A640+Model!$C$48","v":0.62800000000000045},0.54457559147387502,null,0.54457559147387502,null,0.2965625748291208,null,0.35890788988685907,0,0,null,0.3584131296612259]
[{"$f":"A641+Model!$C$48","v":0.62900000000000045},0.54421706192284613,null,0.54421706192284613,null,0.29617221048793496,null,0.3592042572795176,0.35900677665377118,1,null,0.35900677665377118]
[{"$f":"A642+Model!$C$48","v":0.63000000000000045},0.54385922816895582,null,0.54385922816895582,null,0.29578286006453236,null,0.35950023481479382,0,0,null,0.35900677665377118]
[{"$f":"A643+Model!$C$48","v":0.63100000000000045},0.54350208801090494,null,0.54350208801090494,null,0.29539451967221347,null,0.35979582350466222,0.35959886150779813,1,null,0.35959886150779813]
[{"$f":"A644+Model!$C$48","v":0.63200000000000045},0.54314563925686432,null,0.54314563925686432,null,0.29500718544374777,null,0.36009102435722018,0,0,null,0.35959886150779813]
[{"$f":"A645+Model!$C$48","v":0.63300000000000045},0.54278987972442572,null,0.54278987972442572,null,0.29462085353125655,null,0.36038583837670768,0.36018939232432357,1,null,0.36018939232432357]
[{"$f":"A646+Model!$C$48","v":0.63400000000000045},0.5424348072405506,null,0.5424348072405506,null,0.29423552010609327,null,0.36068026656352636,0,0,null,0.36018939232432357]
[{"$f":"A647+Model!$C$48","v":0.63500000000000045},0.54208041964151998,null,0.54208041964151998,null,0.2938511813587264,null,0.36097430991425877,0.36077837714243599,1,null,0.36077837714243599]
[{"$f":"A648+Model!$C$48","v":0.63600000000000045},0.54172671477288759,null,0.54172671477288759,null,0.29346783349862549,null,0.36126796942168743,0,0,null,0.36077837714243599]
[{"$f":"A649+Model!$C$48","v":0.63700000000000045},0.54137369048942785,null,0.54137369048942785,null,0.29308547275414282,null,0.36156124607481382,0.3613658239399134,1,null,0.3613658239399134]
[{"$f":"A650+Model!$C$48","v":0.63800000000000046},0.54102134465508933,null,0.54102134465508933,null,0.29270409537240094,null,0.36185414085887707,0,0,null,0.3613658239399134]
[{"$f":"A651+Model!$C$48","v":0.63900000000000046},0.54066967514294417,null,0.54066967514294417,null,0.29232369761917676,null,0.36214665475537289,0.36195174063383384,1,null,0.36195174063383384]
[{"$f":"A652+Model!$C$48","v":0.64000000000000046},0.5403186798351417,null,0.5403186798351417,null,{"$f":"B653*D653","v":0.29194427577879034},null,0.36243878874207186,0,0,null,0.36195174063383384]
[{"$f":"A653+Model!$C$48","v":0.64100000000000046},0.53996835662286025,null,0.53996835662286025,null,0.2915658261539924,null,{"$f":"0.5*(F654+F653)*(A654-A653)+H653","v":0.36273054379303826},0.3625361350811786,1,null,0.3625361350811786]
[{"$f":"A654+Model!$C$48","v":0.64200000000000046},0.53961870340625806,null,0.53961870340625806,null,0.29118834506585112,null,0.36302192087864821,0,{"$f":"IF(J654=1,0,1)","v":0},null,0.3625361350811786]
[{"$f":"A655+Model!$C$48","v":0.64300000000000046},{"$f":"ERF($B$10/SQRT(A656))","v":0.5392697180944277},null,{"$f":"ERF($B$11/SQRT(A656))","v":0.5392697180944277},null,0.29081182885364354,null,0.36331292096560797,0.36311901507942784,1,null,0.36311901507942784]
[{"$f":"A656+Model!$C$48","v":0.64400000000000046},0.53892139860534849,null,0.53892139860534849,null,0.29043627387474491,null,0.36360354501697217,{"$f":"(I655+((A657-A656)/3)*(4*F655+2*F656))*J657","v":0},0,null,{"$f":"IF(J657=1,I657,I656)","v":0.36311901507942784}]
[{"$f":"A657+Model!$C$48","v":0.64500000000000046},0.53857374286583903,null,0.53857374286583903,null,0.29006167650451892,null,0.36389379399216182,0.36370038836714919,1,null,0.36370038836714919]
[{"$f":"A658+Model!$C$48","v":0.64600000000000046},0.53822674881151211,null,0.53822674881151211,null,0.28968803313621055,null,0.36418366884698217,0,0,null,0.36370038836714919]
[{"$f":"A659+Model!$C$48","v":0.64700000000000046},0.53788041438672696,null,0.53788041438672696,null,0.2893153401808371,null,0.3644731705336407,0.36428026262457935,1,null,0.36428026262457935]
[{"$f":"A660+Model!$C$48","v":0.64800000000000046},0.53753473754454451,null,0.53753473754454451,null,0.28894359406708237,null,0.36476230000076465,0,0,null,0.36428026262457935]
[{"$f":"A661+Model!$C$48","v":0.64900000000000047},0.53718971624668155,null,0.53718971624668155,null,0.28857279124119023,null,0.36505105819341876,0.36485864547419855,1,null,0.36485864547419855]
[{"$f":"A662+Model!$C$48","v":0.65000000000000047},0.53684534846346488,null,0.53684534846346488,null,0.28820292816685905,null,0.3653394460531228,0,0,null,0.36485864547419855]
[{"$f":"A663+Model!$C$48","v":0.65100000000000047},0.53650163217378743,null,0.53650163217378743,null,0.28783400132513792,null,0.36562746451786882,0.36543554448129806,1,null,0.36543554448129806]
[{"$f":"A664+Model!$C$48","v":0.65200000000000047},0.53615856536506135,null,0.53615856536506135,null,0.28746600721432075,null,0.36591511452213854,0,0,null,0.36543554448129806]
[{"$f":"A665+Model!$C$48","v":0.65300000000000047},0.5358161460331754,null,0.5358161460331754,null,0.28709894234984512,null,0.36620239699692064,0.36601096715454112,1,null,0.36601096715454112]
[{"$f":"A666+Model!$C$48","v":0.65400000000000047},0.53547437218245053,null,0.53547437218245053,null,0.28673280326418954,null,0.36648931286972763,0,0,null,0.36601096715454112]
[{"$f":"A667+Model!$C$48","v":0.65500000000000047},0.53513324182559441,null,0.53513324182559441,null,0.28636758650677008,null,0.36677586306461313,0.36658492094651707,1,null,0.36658492094651707]
[{"$f":"A668+Model!$C$48","v":0.65600000000000047},0.53479275298365958,null,0.53479275298365958,null,0.28600328864384156,null,0.36706204850218843,0,0,null,0.36658492094651707]
[{"$f":"A669+Model!$C$48","v":0.65700000000000047},0.53445290368599874,null,0.53445290368599874,null,0.28563990625839542,null,0.36734787009963954,0.36715741325428863,1,null,0.36715741325428863]
[{"$f":"A670+Model!$C$48","v":0.65800000000000047},0.53411369197022174,null,0.53411369197022174,null,0.28527743595006089,null,0.36763332877074378,0,0,null,0.36715741325428863]
[{"$f":"A671+Model!$C$48","v":0.65900000000000047},0.53377511588215343,null,0.53377511588215343,null,0.28491587433500631,null,0.36791842542588632,0.36772845141993321,1,null,0.36772845141993321]
[{"$f":"A672+Model!$C$48","v":0.66000000000000048},0.53343717347578978,null,0.53343717347578978,null,0.28455521804583983,null,0.36820316097207673,0,0,null,0.36772845141993321]
[{"$f":"A673+Model!$C$48","v":0.66100000000000048},0.53309986281325594,null,0.53309986281325594,null,0.28419546373151233,null,0.36848753631296538,0.36829804273107714,1,null,0.36829804273107714]
[{"$f":"A674+Model!$C$48","v":0.66200000000000048},0.53276318196476524,null,0.53276318196476524,null,0.28383660805722155,null,0.36877155234885972,0,0,null,0.36829804273107714]
[{"$f":"A675+Model!$C$48","v":0.66300000000000048},0.53242712900857536,null,0.53242712900857536,null,0.28347864770431414,null,0.36905520997674052,0.36886619442142399,1,null,0.36886619442142399]
[{"$f":"A676+Model!$C$48","v":0.66400000000000048},0.53209170203094758,null,0.53209170203094758,null,0.28312157937019072,null,0.36933851009027779,0,0,null,0.36886619442142399]
[{"$f":"A677+Model!$C$48","v":0.66500000000000048},0.53175689912610524,null,0.53175689912610524,null,0.28276539976821086,null,0.36962145357984699,0.36943291367127651,1,null,0.36943291367127651]
[{"$f":"A678+Model!$C$48","v":0.66600000000000048},0.53142271839619382,null,0.53142271839619382,null,0.28241010562760033,null,0.3699040413325449,0,0,null,0.36943291367127651]
[{"$f":"A679+Model!$C$48","v":0.66700000000000048},0.53108915795123757,null,0.53108915795123757,null,0.28205569369335459,null,0.37018627423220535,0.36999820760805252,1,null,0.36999820760805252]
[{"$f":"A680+Model!$C$48","v":0.66800000000000048},0.53075621590910083,null,0.53075621590910083,null,0.28170216072614807,null,0.37046815315941511,0,0,null,0.36999820760805252]
[{"$f":"A681+Model!$C$48","v":0.66900000000000048},0.53042389039544657,null,0.53042389039544657,null,0.28134950350224069,null,0.37074967899152933,0.37056208330679441,1,null,0.37056208330679441]
[{"$f":"A682+Model!$C$48","v":0.67000000000000048},0.53009217954369703,null,0.53009217954369703,null,0.28099771881338714,null,0.37103085260268714,0,0,null,0.37056208330679441]
[{"$f":"A683+Model!$C$48","v":0.67100000000000048},0.5297610814949929,null,0.5297610814949929,null,0.28064680346674453,null,0.37131167486382721,0.371124547790673,1,null,0.371124547790673]
[{"$f":"A684+Model!$C$48","v":0.67200000000000049},0.52943059439815532,null,0.52943059439815532,null,0.28029675428478407,null,0.37159214664270296,0,0,null,0.371124547790673]
[{"$f":"A685+Model!$C$48","v":0.67300000000000049},0.52910071640964251,null,0.52910071640964251,null,0.27994756810519694,null,0.37187226880389795,0.3716856080314852,1,null,0.3716856080314852]
[{"$f":"A686+Model!$C$48","v":0.67400000000000049},0.5287714456935162,null,0.5287714456935162,null,0.27959924178081114,null,0.37215204220884096,0,0,null,0.3716856080314852]
[{"$f":"A687+Model!$C$48","v":0.67500000000000049},0.52844278042139781,null,0.52844278042139781,null,0.27925177217949765,null,0.37243146771582114,0.37224527095014603,1,null,0.37224527095014603]
[{"$f":"A688+Model!$C$48","v":0.67600000000000049},0.52811471877243221,null,0.52811471877243221,null,0.27890515618408518,null,0.37271054618000293,0,0,null,0.37224527095014603]
[{"$f":"A689+Model!$C$48","v":0.67700000000000049},0.52778725893324852,null,0.52778725893324852,null,0.27855939069227192,null,0.3729892784534411,0.37280354341717475,1,null,0.37280354341717475]
[{"$f":"A690+Model!$C$48","v":0.67800000000000049},0.52746039909792142,null,0.52746039909792142,null,0.27821447261653853,null,0.37326766538509548,0,0,null,0.37280354341717475]
[{"$f":"A691+Model!$C$48","v":0.67900000000000049},0.52713413746793358,null,0.52713413746793358,null,0.27787039888406229,null,0.37354570782084578,0.3733604322531755,1,null,0.3733604322531755]
[{"$f":"A692+Model!$C$48","v":0.68000000000000049},0.52680847225213845,null,0.52680847225213845,null,0.27752716643663211,null,0.37382340660350616,0,0,null,0.3733604322531755]
[{"$f":"A693+Model!$C$48","v":0.68100000000000049},0.52648340166672103,null,0.52648340166672103,null,0.27718477223056193,null,0.37410076257283975,0.37391594422931201,1,null,0.37391594422931201]
[{"$f":"A694+Model!$C$48","v":0.68200000000000049},0.52615892393516139,null,0.52615892393516139,null,0.27684321323660693,null,0.37437777656557336,0,0,null,0.37391594422931201]
[{"$f":"A695+Model!$C$48","v":0.6830000000000005},0.52583503728819847,null,0.52583503728819847,null,0.27650248643988107,null,0.37465444941541159,0.37447008606777715,1,null,0.37447008606777715]
[{"$f":"A696+Model!$C$48","v":0.6840000000000005},0.52551173996379108,null,0.52551173996379108,null,0.27616258883977118,null,0.37493078195305141,0,0,null,0.37447008606777715]
[{"$f":"A697+Model!$C$48","v":0.6850000000000005},0.5251890302070823,null,0.5251890302070823,null,0.27582351744985562,null,0.3752067750061962,0.37502286444225685,1,null,0.37502286444225685]
[{"$f":"A698+Model!$C$48","v":0.6860000000000005},0.52486690627036392,null,0.52486690627036392,null,0.27548526929782297,null,0.37548242939957005,0,0,null,0.37502286444225685]
[{"$f":"A699+Model!$C$48","v":0.6870000000000005},0.52454536641303817,null,0.52454536641303817,null,0.27514784142538845,null,0.37575774595493167,0.37557428597838854,1,null,0.37557428597838854]
[{"$f":"A700+Model!$C$48","v":0.6880000000000005},0.52422440890158328,null,0.52422440890158328,null,0.27481123088821441,null,0.37603272549108846,0,0,null,0.37557428597838854]
[{"$f":"A701+Model!$C$48","v":0.6890000000000005},0.52390403200951619,null,0.52390403200951619,null,0.27447543475582814,null,0.37630736882391047,0.37612435725421456,1,null,0.37612435725421456]
[{"$f":"A702+Model!$C$48","v":0.6900000000000005},0.52358423401735876,null,0.52358423401735876,null,0.27414045011154431,null,0.37658167676634413,0,0,null,0.37612435725421456]
[{"$f":"A703+Model!$C$48","v":0.6910000000000005},0.52326501321260011,null,0.52326501321260011,null,0.27380627405238256,null,0.37685565012842609,0.37667308480063005,1,null,0.37667308480063005]
[{"$f":"A704+Model!$C$48","v":0.6920000000000005},0.52294636788966342,null,0.52294636788966342,null,0.27347290368899119,null,0.37712928971729676,0,0,null,0.37667308480063005]
[{"$f":"A705+Model!$C$48","v":0.6930000000000005},0.5226282963498694,null,0.5226282963498694,null,0.27314033614556693,null,0.37740259633721401,0.37722047510182588,1,null,0.37722047510182588]
[{"$f":"A706+Model!$C$48","v":0.69400000000000051},0.52231079690140314,null,0.52231079690140314,null,0.27280856855977881,null,0.37767557078956671,0,0,null,0.37722047510182588]
[{"$f":"A707+Model!$C$48","v":0.69500000000000051},0.52199386785927682,null,0.52199386785927682,null,0.27247759808268812,null,0.37794821387288796,0.37776653459572651,1,null,0.37776653459572651]
[{"$f":"A708+Model!$C$48","v":0.69600000000000051},0.52167750754529851,null,0.52167750754529851,null,0.27214742187867497,null,0.37822052638286863,0,0,null,0.37776653459572651]
[{"$f":"A709+Model!$C$48","v":0.69700000000000051},0.52136171428803568,null,0.52136171428803568,null,0.27181803712535935,null,0.37849250911237065,0.37831126967442252,1,null,0.37831126967442252]
[{"$f":"A710+Model!$C$48","v":0.69800000000000051},0.52104648642278217,null,0.52104648642278217,null,0.27148944101352651,null,0.3787641628514401,0,0,null,0.37831126967442252]
[{"$f":"A711+Model!$C$48","v":0.69900000000000051},0.52073182229152437,null,0.52073182229152437,null,0.27116163074705174,null,0.37903548838732037,0.37885468668459871,1,null,0.37885468668459871]
[{"$f":"A712+Model!$C$48","v":0.70000000000000051},0.52041772024290656,null,0.52041772024290656,null,0.27083460354282413,null,0.3793064865044653,0,0,null,0.37885468668459871]
[{"$f":"A713+Model!$C$48","v":0.70100000000000051},0.52010417863219971,null,0.52010417863219971,null,0.27050835663067513,null,0.37957715798455205,0.37939679192795667,1,null,0.37939679192795667]
[{"$f":"A714+Model!$C$48","v":0.70200000000000051},0.51979119582126598,null,0.51979119582126598,null,0.2701828872533017,null,0.37984750360649405,0,0,null,0.37939679192795667]
[{"$f":"A715+Model!$C$48","v":0.70300000000000051},0.51947877017852706,null,0.51947877017852706,null,0.26985819266619493,null,0.38011752414645378,0.3799375916616331,1,null,0.3799375916616331]
[{"$f":"A716+Model!$C$48","v":0.70400000000000051},0.51916690007893085,null,0.51916690007893085,null,{"$f":"B717*D717","v":0.26953427013756659},null,0.38038722037785566,0,0,null,0.3799375916616331]
[{"$f":"A717+Model!$C$48","v":0.70500000000000052},0.51885558390391928,null,0.51885558390391928,null,0.26921111694827704,null,{"$f":"0.5*(F718+F717)*(A718-A717)+H717","v":0.3806565930713986},0.38047709209861308,1,null,0.38047709209861308]
[{"$f":"A718+Model!$C$48","v":0.70600000000000052},0.51854482004139513,null,0.51854482004139513,null,0.26888873039176286,null,0.38092564299506859,0,{"$f":"IF(J718=1,0,1)","v":0},null,0.38047709209861308]
[{"$f":"A719+Model!$C$48","v":0.70700000000000052},{"$f":"ERF($B$10/SQRT(A720))","v":0.51823460688569067},null,{"$f":"ERF($B$11/SQRT(A720))","v":0.51823460688569067},null,0.26856710777396636,null,0.38119437091415148,0.38101529940813861,1,null,0.38101529940813861]
[{"$f":"A720+Model!$C$48","v":0.70800000000000052},0.5179249428375351,null,0.5179249428375351,null,0.268246246413264,null,0.38146277759124508,{"$f":"(I719+((A721-A720)/3)*(4*F719+2*F720))*J721","v":0},0,null,{"$f":"IF(J721=1,I721,I720)","v":0.38101529940813861}]
[{"$f":"A721+Model!$C$48","v":0.70900000000000052},0.51761582630402247,null,0.51761582630402247,null,0.26792614364039596,null,0.38173086378627191,0.38155221971611275,1,null,0.38155221971611275]
[{"$f":"A722+Model!$C$48","v":0.71000000000000052},0.51730725569858094,null,0.51730725569858094,null,0.267606796798397,null,0.38199863025649133,0,0,null,0.38155221971611275]
[{"$f":"A723+Model!$C$48","v":0.71100000000000052},0.51699922944093968,null,0.51699922944093968,null,0.26728820324252539,null,0.38226607775651178,0.38208785910549886,1,null,0.38208785910549886]
[{"$f":"A724+Model!$C$48","v":0.71200000000000052},0.51669174595709966,null,0.51669174595709966,null,0.266970360340196,null,0.38253320703830312,0,0,null,0.38208785910549886]
[{"$f":"A725+Model!$C$48","v":0.71300000000000052},0.51638480367930073,null,0.51638480367930073,null,0.26665326547090995,null,0.38280001885120868,0.38262222361671572,1,null,0.38262222361671572]
[{"$f":"A726+Model!$C$48","v":0.71400000000000052},0.51607840104599156,null,0.51607840104599156,null,0.26633691602618731,null,0.38306651394195723,0,0,null,0.38262222361671572]
[{"$f":"A727+Model!$C$48","v":0.71500000000000052},0.51577253650179899,null,0.51577253650179899,null,0.26602130940949958,null,0.3833326930546751,0.3831553192480277,1,null,0.3831553192480277]
[{"$f":"A728+Model!$C$48","v":0.71600000000000052},0.51546720849749617,null,0.51546720849749617,null,0.26570644303620117,null,0.38359855693089795,0,0,null,0.3831553192480277]
[{"$f":"A729+Model!$C$48","v":0.71700000000000053},0.51516241548997432,null,0.51516241548997432,null,0.26539231433346494,null,0.38386410630958279,0.38368715195593117,1,null,0.38368715195593117]
[{"$f":"A730+Model!$C$48","v":0.71800000000000053},0.51485815594221096,null,0.51485815594221096,null,0.265078920740214,null,0.38412934192711962,0,0,null,0.38368715195593117]
[{"$f":"A731+Model!$C$48","v":0.71900000000000053},0.51455442832323983,null,0.51455442832323983,null,0.26476625970705614,null,0.38439426451734326,0.38421772765553591,1,null,0.38421772765553591]
[{"$f":"A732+Model!$C$48","v":0.72000000000000053},0.51425123110812165,null,0.51425123110812165,null,0.26445432869621877,null,0.38465887481154493,0,0,null,0.38421772765553591]
[{"$f":"A733+Model!$C$48","v":0.72100000000000053},0.51394856277791423,null,0.51394856277791423,null,0.26414312518148364,null,0.38492317353848376,0.3847470522209428,1,null,0.3847470522209428]
[{"$f":"A734+Model!$C$48","v":0.72200000000000053},0.51364642181964315,null,0.51364642181964315,null,0.26383264664812278,null,0.38518716142439857,0,0,null,0.3847470522209428]
[{"$f":"A735+Model!$C$48","v":0.72300000000000053},0.51334480672627136,null,0.51334480672627136,null,0.2635228905928329,null,0.38545083919301903,0.38527513148561687,1,null,0.38527513148561687]
[{"$f":"A736+Model!$C$48","v":0.72400000000000053},0.51304371599667187,null,0.51304371599667187,null,0.26321385452367368,null,0.38571420756557728,0,0,null,0.38527513148561687]
[{"$f":"A737+Model!$C$48","v":0.72500000000000053},0.5127431481355964,null,0.5127431481355964,null,0.26290553596000216,null,0.3859772672608191,0.38580197124275645,1,null,0.38580197124275645]
[{"$f":"A738+Model!$C$48","v":0.72600000000000053},0.51244310165364904,null,0.51244310165364904,null,0.26259793243241208,null,0.38624001899501531,0,0,null,0.38580197124275645]
[{"$f":"A739+Model!$C$48","v":0.72700000000000053},0.51214357506725539,null,0.51214357506725539,null,0.26229104148266946,null,0.38650246348197287,0.38632757724565808,1,null,0.38632757724565808]
[{"$f":"A740+Model!$C$48","v":0.72800000000000054},0.51184456689863533,null,0.51184456689863533,null,0.26198486066365156,null,0.38676460143304603,0,0,null,0.38632757724565808]
[{"$f":"A741+Model!$C$48","v":0.72900000000000054},0.51154607567577404,null,0.51154607567577404,null,0.26167938753928471,null,0.3870264335571475,0.38685195520807741,1,null,0.38685195520807741]
[{"$f":"A742+Model!$C$48","v":0.73000000000000054},0.51124809993239428,null,0.51124809993239428,null,0.26137461968448339,null,0.38728796056075937,0,0,null,0.38685195520807741]
[{"$f":"A743+Model!$C$48","v":0.73100000000000054},0.51095063820792852,null,0.51095063820792852,null,0.26107055468508944,null,0.38754918314794418,0.38737511080458614,1,null,0.38737511080458614]
[{"$f":"A744+Model!$C$48","v":0.73200000000000054},0.51065368904748987,null,0.51065368904748987,null,0.26076719013781047,null,0.38781010202035565,0,0,null,0.38737511080458614]
[{"$f":"A745+Model!$C$48","v":0.73300000000000054},0.51035725100184537,null,0.51035725100184537,null,0.2604645236501606,null,0.38807071787724962,0.38789704967092481,1,null,0.38789704967092481]
[{"$f":"A746+Model!$C$48","v":0.73400000000000054},0.51006132262738901,null,0.51006132262738901,null,0.26016255284040141,null,0.38833103141549491,0,0,null,0.38789704967092481]
[{"$f":"A747+Model!$C$48","v":0.73500000000000054},0.50976590248611298,null,0.50976590248611298,null,0.25986127533748127,null,0.38859104332958383,0.38841777740435196,1,null,0.38841777740435196]
[{"$f":"A748+Model!$C$48","v":0.73600000000000054},0.5094709891455812,null,0.5094709891455812,null,0.25956068878097693,null,0.38885075431164307,0,0,null,0.38841777740435196]
[{"$f":"A749+Model!$C$48","v":0.73700000000000054},0.50917658117890197,null,0.50917658117890197,null,0.25926079082103493,null,0.38911016505144408,0.38893729956398926,1,null,0.38893729956398926]
[{"$f":"A750+Model!$C$48","v":0.73800000000000054},0.5088826771647017,null,0.5088826771647017,null,0.25896157911831402,null,0.38936927623641376,0,0,null,0.38893729956398926]
[{"$f":"A751+Model!$C$48","v":0.73900000000000055},0.50858927568709744,null,0.50858927568709744,null,0.25866305134392642,null,0.38962808855164488,0.38945562167116282,1,null,0.38945562167116282]
[{"$f":"A752+Model!$C$48","v":0.74000000000000055},0.50829637533566996,null,0.50829637533566996,null,0.25836520517938028,null,0.38988660267990655,0,0,null,0.38945562167116282]
[{"$f":"A753+Model!$C$48","v":0.74100000000000055},0.50800397470543857,null,0.50800397470543857,null,0.25806803831652386,null,0.39014481930165451,0.38997274920974095,1,null,0.38997274920974095]
[{"$f":"A754+Model!$C$48","v":0.74200000000000055},0.50771207239683402,null,0.50771207239683402,null,0.25777154845748801,null,0.39040273909504153,0,0,null,0.38997274920974095]
[{"$f":"A755+Model!$C$48","v":0.74300000000000055},0.50742066701567168,null,0.50742066701567168,null,0.25747573331462914,null,0.39066036273592758,0.39048868762646799,1,null,0.39048868762646799]
[{"$f":"A756+Model!$C$48","v":0.74400000000000055},0.50712975717312692,null,0.50712975717312692,null,0.25718059061047466,null,0.39091769089789014,0,0,null,0.39048868762646799]
[{"$f":"A757+Model!$C$48","v":0.74500000000000055},0.50683934148570819,null,0.50683934148570819,null,0.25688611807766631,null,0.39117472425223421,0.39100344233129447,1,null,0.39100344233129447]
[{"$f":"A758+Model!$C$48","v":0.74600000000000055},0.50654941857523228,null,0.50654941857523228,null,0.25659231345890587,null,0.39143146346800251,0,0,null,0.39100344233129447]
[{"$f":"A759+Model!$C$48","v":0.74700000000000055},0.50625998706879771,null,0.50625998706879771,null,0.25629917450689921,null,0.39168790921198543,0.39151701869770394,1,null,0.39151701869770394]
[{"$f":"A760+Model!$C$48","v":0.74800000000000055},0.50597104559875972,null,0.50597104559875972,null,0.25600669898430217,null,0.39194406214873101,0,0,null,0.39151701869770394]
[{"$f":"A761+Model!$C$48","v":0.74900000000000055},0.50568259280270511,null,0.50568259280270511,null,0.25571488466366649,null,0.392199922940555,0.39202942206303604,1,null,0.39202942206303604]
[{"$f":"A762+Model!$C$48","v":0.75000000000000056},0.50539462732342766,null,0.50539462732342766,null,0.25542372932738633,null,0.39245549224755055,0,0,null,0.39202942206303604]
[{"$f":"A763+Model!$C$48","v":0.75100000000000056},0.50510714780890187,null,0.50510714780890187,null,0.25513323076764383,null,0.39271077072759808,0.39254065772880586,1,null,0.39254065772880586]
[{"$f":"A764+Model!$C$48","v":0.75200000000000056},0.50482015291225868,null,0.50482015291225868,null,0.25484338678635626,null,0.3929657590363751,0,0,null,0.39254065772880586]
[{"$f":"A765+Model!$C$48","v":0.75300000000000056},0.50453364129176159,null,0.50453364129176159,null,0.25455419519512396,null,0.39322045782736581,0.39305073096102028,1,null,0.39305073096102028]
[{"$f":"A766+Model!$C$48","v":0.75400000000000056},0.50424761161078113,null,0.50424761161078113,null,0.25426565381517718,null,0.39347486775187096,0,0,null,0.39305073096102028]
[{"$f":"A767+Model!$C$48","v":0.75500000000000056},0.50396206253777021,null,0.50396206253777021,null,0.2539777604773234,null,0.39372898945901719,0.39355964699049056,1,null,0.39355964699049056]
[{"$f":"A768+Model!$C$48","v":0.75600000000000056},0.503676992746241,null,0.503676992746241,null,0.25369051302189694,null,0.39398282359576681,0,0,null,0.39355964699049056]
[{"$f":"A769+Model!$C$48","v":0.75700000000000056},0.50339240091473969,null,0.50339240091473969,null,0.25340390929870604,null,0.39423637080692708,0.39406741101314158,1,null,0.39406741101314158]
[{"$f":"A770+Model!$C$48","v":0.75800000000000056},0.50310828572682331,null,0.50310828572682331,null,0.25311794716698288,null,0.39448963173515994,0,0,null,0.39406741101314158]
[{"$f":"A771+Model!$C$48","v":0.75900000000000056},0.50282464587103493,null,0.50282464587103493,null,0.25283262449533167,null,0.39474260702099112,0.39457402819031784,1,null,0.39457402819031784]
[{"$f":"A772+Model!$C$48","v":0.76000000000000056},0.50254148004088062,null,0.50254148004088062,null,0.25254793916167884,null,0.39499529730281963,0,0,null,0.39457402819031784]
[{"$f":"A773+Model!$C$48","v":0.76100000000000056},0.50225878693480597,null,0.50225878693480597,null,0.25226388905322283,null,0.39524770321692709,0.39507950364908606,1,null,0.39507950364908606]
[{"$f":"A774+Model!$C$48","v":0.76200000000000057},0.50197656525617229,null,0.50197656525617229,null,0.25198047206638419,null,0.3954998253974869,0,0,null,0.39507950364908606]
[{"$f":"A775+Model!$C$48","v":0.76300000000000057},0.50169481371323243,null,0.50169481371323243,null,0.25169768610675497,null,0.39575166447657345,0.39558384248253464,1,null,0.39558384248253464]
[{"$f":"A776+Model!$C$48","v":0.76400000000000057},0.5014135310191099,null,0.5014135310191099,null,0.2514155290890519,null,0.39600322108417135,0,0,null,0.39558384248253464]
[{"$f":"A777+Model!$C$48","v":0.76500000000000057},0.50113271589177288,null,0.50113271589177288,null,0.25113399893706434,null,0.3962544958481844,0.3960870497500697,1,null,0.3960870497500697]
[{"$f":"A778+Model!$C$48","v":0.76600000000000057},0.50085236705401426,null,0.50085236705401426,null,0.25085309358360902,null,0.39650548939444474,0,0,null,0.3960870497500697]
[{"$f":"A779+Model!$C$48","v":0.76700000000000057},0.50057248323342518,null,0.50057248323342518,null,0.25057281097047773,null,0.39675620234672176,0.39658913047770816,1,null,0.39658913047770816]
[{"$f":"A780+Model!$C$48","v":0.76800000000000057},0.50029306316237632,null,0.50029306316237632,null,{"$f":"B781*D781","v":0.25029314904839345},null,0.39700663532673119,0,0,null,0.39658913047770816]
[{"$f":"A781+Model!$C$48","v":0.76900000000000057},0.50001410557799275,null,0.50001410557799275,null,0.25001410577696009,null,{"$f":"0.5*(F782+F781)*(A782-A781)+H781","v":0.39725678895414385},0.39709008965836773,1,null,0.39709008965836773]
[{"$f":"A782+Model!$C$48","v":0.77000000000000057},0.49973560922213217,null,0.49973560922213217,null,0.24973567912461558,null,0.39750666384659461,0,{"$f":"IF(J782=1,0,1)","v":0},null,0.39709008965836773]
[{"$f":"A783+Model!$C$48","v":0.77100000000000057},{"$f":"ERF($B$10/SQRT(A784))","v":0.499457572841363},null,{"$f":"ERF($B$11/SQRT(A784))","v":0.499457572841363},null,0.24945786706858541,null,0.39775626061969122,0.39758993225215344,1,null,0.39758993225215344]
[{"$f":"A784+Model!$C$48","v":0.77200000000000057},0.49917999518694101,null,0.49917999518694101,null,0.24918066759483445,null,0.3980055798870229,{"$f":"(I783+((A785-A784)/3)*(4*F783+2*F784))*J785","v":0},0,null,{"$f":"IF(J785=1,I785,I784)","v":0.39758993225215344}]
[{"$f":"A785+Model!$C$48","v":0.77300000000000058},0.49890287501478864,null,0.49890287501478864,null,0.24890407869802181,null,0.39825462226016933,0.39808866318664143,1,null,0.39808866318664143]
[{"$f":"A786+Model!$C$48","v":0.77400000000000058},0.49862621108547245,null,0.49862621108547245,null,0.24862809838145414,null,0.39850338834870908,0,0,null,0.39808866318664143]
[{"$f":"A787+Model!$C$48","v":0.77500000000000058},0.49835000216418174,null,0.49835000216418174,null,0.24835272465703995,null,0.39875187876022833,0.39858628735715979,1,null,0.39858628735715979]
[{"$f":"A788+Model!$C$48","v":0.77600000000000058},0.49807424702070552,null,0.49807424702070552,null,0.24807795554524278,null,0.39900009410032949,0,0,null,0.39858628735715979]
[{"$f":"A789+Model!$C$48","v":0.77700000000000058},0.4977989444294128,null,0.4977989444294128,null,0.24780378907503761,null,0.39924803497263961,0.39908280962706599,1,null,0.39908280962706599]
[{"$f":"A790+Model!$C$48","v":0.77800000000000058},0.49752409316922935,null,0.49752409316922935,null,0.24753022328386401,null,0.39949570197881906,0,0,null,0.39908280962706599]
[{"$f":"A791+Model!$C$48","v":0.77900000000000058},0.49724969202361774,null,0.49724969202361774,null,0.24725725621758268,null,0.39974309571856981,0.39957823482802196,1,null,0.39957823482802196]
[{"$f":"A792+Model!$C$48","v":0.78000000000000058},0.49697573978055587,null,0.49697573978055587,null,0.24698488593043078,null,0.3999902167896438,0,0,null,0.39957823482802196]
[{"$f":"A793+Model!$C$48","v":0.78100000000000058},0.49670223523251483,null,0.49670223523251483,null,0.24671311048497649,null,0.40023706578785151,0.40007256776026567,1,null,0.40007256776026567]
[{"$f":"A794+Model!$C$48","v":0.78200000000000058},0.49642917717643964,null,0.49642917717643964,null,0.24644192795207689,null,0.40048364330707004,0,0,null,0.40007256776026567]
[{"$f":"A795+Model!$C$48","v":0.78300000000000058},0.49615656441372669,null,0.49615656441372669,null,0.24617133641083253,null,0.40072994993925148,0.40056581319288037,1,null,0.40056581319288037]
[{"$f":"A796+Model!$C$48","v":0.78400000000000059},0.49588439575020365,null,0.49588439575020365,null,0.2459013339485446,null,0.40097598627443115,0,0,null,0.40056581319288037]
[{"$f":"A797+Model!$C$48","v":0.78500000000000059},0.49561266999611003,null,0.49561266999611003,null,0.24563191866067308,null,0.40122175290073575,0.4010579758640605,1,null,0.4010579758640605]
[{"$f":"A798+Model!$C$48","v":0.78600000000000059},0.4953413859660743,null,0.4953413859660743,null,0.2453630886507914,null,0.40146725040439146,0,0,null,0.4010579758640605]
[{"$f":"A799+Model!$C$48","v":0.78700000000000059},0.49507054247909543,null,0.49507054247909543,null,0.24509484203054582,null,0.40171247936973214,0.40154906048137529,1,null,0.40154906048137529]
[{"$f":"A800+Model!$C$48","v":0.78800000000000059},0.49480013835852199,null,0.49480013835852199,null,0.2448271769196125,null,0.40195744037920722,0,0,null,0.40154906048137529]
[{"$f":"A801+Model!$C$48","v":0.78900000000000059},0.49453017243203146,null,0.49453017243203146,null,0.24456009144565477,null,0.40220213401338983,0.40203907172202907,1,null,0.40203907172202907]
[{"$f":"A802+Model!$C$48","v":0.79000000000000059},0.49426064353161087,null,0.49426064353161087,null,0.24429358374428212,null,0.40244656085098479,0,0,null,0.40203907172202907]
[{"$f":"A803+Model!$C$48","v":0.79100000000000059},0.49399155049353644,null,0.49399155049353644,null,0.24402765195900816,null,0.40269072146883644,0.40252801423311946,1,null,0.40252801423311946]
[{"$f":"A804+Model!$C$48","v":0.79200000000000059},0.49372289215835435,null,0.49372289215835435,null,0.24376229424121001,null,0.40293461644193657,0,0,null,0.40252801423311946]
[{"$f":"A805+Model!$C$48","v":0.79300000000000059},0.49345466737085969,null,0.49345466737085969,null,0.24349750875008577,null,0.40317824634343219,0.4030158926318923,1,null,0.4030158926318923]
[{"$f":"A806+Model!$C$48","v":0.79400000000000059},0.49318687498007835,null,0.49318687498007835,null,0.24323329365261542,null,0.40342161174463353,0,0,null,0.4030158926318923]
[{"$f":"A807+Model!$C$48","v":0.7950000000000006},0.49291951383924665,null,0.49291951383924665,null,0.24296964712351926,null,0.40366471321502162,0.40350271150599415,1,null,0.40350271150599415]
[{"$f":"A808+Model!$C$48","v":0.7960000000000006},0.49265258280579155,null,0.49265258280579155,null,0.24270656734521731,null,0.40390755132225598,0,0,null,0.40350271150599415]
[{"$f":"A809+Model!$C$48","v":0.7970000000000006},0.49238608074131263,null,0.49238608074131263,null,0.24244405250779044,null,0.40415012663218247,0.40398847541372235,1,null,0.40398847541372235]
[{"$f":"A810+Model!$C$48","v":0.7980000000000006},0.49212000651156174,null,0.49212000651156174,null,0.24218210080893957,null,0.40439243970884081,0,0,null,0.40398847541372235]
[{"$f":"A811+Model!$C$48","v":0.7990000000000006},0.49185435898642432,null,0.49185435898642432,null,0.24192071045394636,null,0.40463449111447225,0.40447318888427203,1,null,0.40447318888427203]
[{"$f":"A812+Model!$C$48","v":0.8000000000000006},0.49158913703990026,null,0.49158913703990026,null,0.24165987965563385,null,0.40487628140952703,0,0,null,0.40447318888427203]
[{"$f":"A813+Model!$C$48","v":0.8010000000000006},0.49132433955008536,null,0.49132433955008536,null,0.24139960663432758,null,0.40511781115267204,0.40495685641798107,1,null,0.40495685641798107]
[{"$f":"A814+Model!$C$48","v":0.8020000000000006},0.49105996539915248,null,0.49105996539915248,null,0.24113988961781682,null,0.40535908090079809,0,0,null,0.40495685641798107]
[{"$f":"A815+Model!$C$48","v":0.8030000000000006},0.49079601347333224,null,0.49079601347333224,null,0.24088072684131531,null,0.40560009120902762,0.40543948248657208,1,null,0.40543948248657208]
[{"$f":"A816+Model!$C$48","v":0.8040000000000006},0.49053248266289518,null,0.49053248266289518,null,0.24062211654742355,null,0.40584084263072201,0,0,null,0.40543948248657208]
[{"$f":"A817+Model!$C$48","v":0.8050000000000006},0.4902693718621326,null,0.4902693718621326,null,0.24036405698609006,null,0.40608133571748878,0.40592107153339213,1,null,0.40592107153339213]
[{"$f":"A818+Model!$C$48","v":0.8060000000000006},0.49000667996933905,null,0.49000667996933905,null,0.24010654641457427,null,0.40632157101918909,0,0,null,0.40592107153339213]
[{"$f":"A819+Model!$C$48","v":0.80700000000000061},0.48974440588679363,null,0.48974440588679363,null,0.23984958309740848,null,0.4065615490839451,0.40640162797364998,1,null,0.40640162797364998]
[{"$f":"A820+Model!$C$48","v":0.80800000000000061},0.48948254852074136,null,0.48948254852074136,null,0.23959316530635991,null,0.40680127045814696,0,0,null,0.40640162797364998]
[{"$f":"A821+Model!$C$48","v":0.80900000000000061},0.48922110678137565,null,0.48922110678137565,null,0.23933729132039416,null,0.40704073568646032,0.40688115619465076,1,null,0.40688115619465076]
[{"$f":"A822+Model!$C$48","v":0.81000000000000061},0.48896007958282006,null,0.48896007958282006,null,0.23908195942563773,null,0.40727994531183331,0,0,null,0.40688115619465076]
[{"$f":"A823+Model!$C$48","v":0.81100000000000061},0.48869946584311086,null,0.48869946584311086,null,0.23882716791534186,null,0.40751889987550383,0.4073596605560284,1,null,0.4073596605560284]
[{"$f":"A824+Model!$C$48","v":0.81200000000000061},0.48843926448417874,null,0.48843926448417874,null,0.23857291508984552,null,0.40775759991700644,0,0,null,0.4073596605560284]
[{"$f":"A825+Model!$C$48","v":0.81300000000000061},0.48817947443183102,null,0.48817947443183102,null,0.23831919925653874,null,0.40799604597417966,0.4078371453899754,1,null,0.4078371453899754]
[{"$f":"A826+Model!$C$48","v":0.81400000000000061},0.48792009461573466,null,0.48792009461573466,null,0.23806601872982747,null,0.40823423858317281,0,0,null,0.4078371453899754]
[{"$f":"A827+Model!$C$48","v":0.81500000000000061},0.48766112396939848,null,0.48766112396939848,null,0.23781337183109702,null,0.40847217827845328,0.40831361500147068,1,null,0.40831361500147068]
[{"$f":"A828+Model!$C$48","v":0.81600000000000061},0.48740256143015526,null,0.48740256143015526,null,0.23756125688867627,null,0.40870986559281319,0,0,null,0.40831361500147068]
[{"$f":"A829+Model!$C$48","v":0.81700000000000061},0.4871444059391451,null,0.4871444059391451,null,0.23730967223780258,null,0.40894730105737642,0.40878907366850459,1,null,0.40878907366850459]
[{"$f":"A830+Model!$C$48","v":0.81800000000000062},0.48688665644129825,null,0.48688665644129825,null,0.2370586162205868,null,0.40918448520160561,0,0,null,0.40878907366850459]
[{"$f":"A831+Model!$C$48","v":0.81900000000000062},0.48662931188531722,null,0.48662931188531722,null,0.23680808718597735,null,0.40942141855330888,0.40926352564230206,1,null,0.40926352564230206]
[{"$f":"A832+Model!$C$48","v":0.82000000000000062},0.48637237122366078,null,0.48637237122366078,null,0.23655808348972648,null,0.40965810163864674,0,0,null,0.40926352564230206]
[{"$f":"A833+Model!$C$48","v":0.82100000000000062},0.48611583341252601,null,0.48611583341252601,null,0.23630860349435473,null,0.40989453498213879,0.4097369751475432,1,null,0.4097369751475432]
[{"$f":"A834+Model!$C$48","v":0.82200000000000062},0.48585969741183177,null,0.48585969741183177,null,0.23605964556911674,null,0.41013071910667054,0,0,null,0.4097369751475432]
[{"$f":"A835+Model!$C$48","v":0.82300000000000062},0.48560396218520285,null,0.48560396218520285,null,0.23581120808996792,null,0.41036665453350007,0.41020942638258173,1,null,0.41020942638258173]
[{"$f":"A836+Model!$C$48","v":0.82400000000000062},0.48534862669995205,null,0.48534862669995205,null,0.23556328943952939,null,0.41060234178226485,0,0,null,0.41020942638258173]
[{"$f":"A837+Model!$C$48","v":0.82500000000000062},0.48509368992706392,null,0.48509368992706392,null,0.23531588800705444,null,0.41083778137098814,0.41068088351966137,1,null,0.41068088351966137]
[{"$f":"A838+Model!$C$48","v":0.82600000000000062},0.4848391508411789,null,0.4848391508411789,null,0.23506900218839544,null,0.41107297381608587,0,0,null,0.41068088351966137]
[{"$f":"A839+Model!$C$48","v":0.82700000000000062},0.48458500842057606,null,0.48458500842057606,null,0.23482263038596976,null,0.41130791963237306,0.4111513507051297,1,null,0.4111513507051297]
[{"$f":"A840+Model!$C$48","v":0.82800000000000062},0.4843312616471574,null,0.4843312616471574,null,0.23457677100872723,null,0.4115426193330704,0,0,null,0.4111513507051297]
[{"$f":"A841+Model!$C$48","v":0.82900000000000063},0.48407790950643137,null,0.48407790950643137,null,0.23433142247211675,null,0.41177707342981085,0.41162083205965017,1,null,0.41162083205965017]
[{"$f":"A842+Model!$C$48","v":0.83000000000000063},0.48382495098749689,null,0.48382495098749689,null,0.23408658319805378,null,0.41201128243264595,0,0,null,0.41162083205965017]
[{"$f":"A843+Model!$C$48","v":0.83100000000000063},0.4835723850830268,null,0.4835723850830268,null,0.23384225161488717,null,0.41224524685005243,0.41208933167841166,1,null,0.41208933167841166]
[{"$f":"A844+Model!$C$48","v":0.83200000000000063},0.4833202107892528,null,0.4833202107892528,null,{"$f":"B845*D845","v":0.23359842615736776},null,0.41247896718893856,0,0,null,0.41208933167841166]
[{"$f":"A845+Model!$C$48","v":0.83300000000000063},0.48306842710594894,null,0.48306842710594894,null,0.23335510526661551,null,{"$f":"0.5*(F846+F845)*(A846-A845)+H845","v":0.41271244395465057},0.41255685363133643,1,null,0.41255685363133643]
[{"$f":"A846+Model!$C$48","v":0.83400000000000063},0.48281703303641549,null,0.48281703303641549,null,0.23311228739008713,null,0.41294567765097889,0,{"$f":"IF(J846=1,0,1)","v":0},null,0.41255685363133643]
[{"$f":"A847+Model!$C$48","v":0.83500000000000063},{"$f":"ERF($B$10/SQRT(A848))","v":0.48256602758746409},null,{"$f":"ERF($B$11/SQRT(A848))","v":0.48256602758746409},null,0.23286997098154516,null,0.41317866878016468,0.4130234019632853,1,null,0.4130234019632853]
[{"$f":"A848+Model!$C$48","v":0.83600000000000063},0.4823154097694014,null,0.4823154097694014,null,0.23262815450102559,null,0.41341141784290597,{"$f":"(I847+((A849-A848)/3)*(4*F847+2*F848))*J849","v":0},0,null,{"$f":"IF(J849=1,I849,I848)","v":0.4130234019632853}]
[{"$f":"A849+Model!$C$48","v":0.83700000000000063},0.48206517859601428,null,0.48206517859601428,null,0.23238683641480715,null,0.41364392533836386,0.41348898069426138,1,null,0.41348898069426138]
[{"$f":"A850+Model!$C$48","v":0.83800000000000063},0.48181533308455365,null,0.48181533308455365,null,0.23214601519537939,null,0.41387619176416895,0,0,null,0.41348898069426138]
[{"$f":"A851+Model!$C$48","v":0.83900000000000063},0.48156587225571929,null,0.48156587225571929,null,0.23190568932141176,null,0.41410821761642735,0.41395359381961139,1,null,0.41395359381961139]
[{"$f":"A852+Model!$C$48","v":0.84000000000000064},0.481316795133645,null,0.481316795133645,null,0.23166585727772321,null,0.41434000338972693,0,0,null,0.41395359381961139]
[{"$f":"A853+Model!$C$48","v":0.84100000000000064},0.48106810074588224,null,0.48106810074588224,null,0.23142651755525032,null,0.41457154957714343,0.41441724531022511,1,null,0.41441724531022511]
[{"$f":"A854+Model!$C$48","v":0.84200000000000064},0.48081978812338599,null,0.48081978812338599,null,0.23118766865101781,null,0.41480285667024658,0,0,null,0.41441724531022511]
[{"$f":"A855+Model!$C$48","v":0.84300000000000064},0.48057185630050053,null,0.48057185630050053,null,0.23094930906810893,null,0.41503392515910614,0.4148799391127328,1,null,0.4148799391127328]
[{"$f":"A856+Model!$C$48","v":0.84400000000000064},0.48032430431494155,null,0.48032430431494155,null,0.23071143731563257,null,0.41526475553229802,0,0,null,0.4148799391127328]
[{"$f":"A857+Model!$C$48","v":0.84500000000000064},0.48007713120778478,null,0.48007713120778478,null,0.2304740519086966,null,0.4154953482769102,0.41534167914970072,1,null,0.41534167914970072]
[{"$f":"A858+Model!$C$48","v":0.84600000000000064},0.47983033602344816,null,0.47983033602344816,null,0.23023715136837516,null,0.41572570387854874,0,0,null,0.41534167914970072]
[{"$f":"A859+Model!$C$48","v":0.84700000000000064},0.47958391780967946,null,0.47958391780967946,null,0.23000073422168138,null,0.41595582282134375,0.41580246931982456,1,null,0.41580246931982456]
[{"$f":"A860+Model!$C$48","v":0.84800000000000064},0.47933787561753982,null,0.47933787561753982,null,0.22976479900153607,null,0.41618570558795537,0,0,null,0.41580246931982456]
[{"$f":"A861+Model!$C$48","v":0.84900000000000064},0.47909220850139012,null,0.47909220850139012,null,0.22952934424673946,null,0.41641535265957952,0.41626231349812115,1,null,0.41626231349812115]
[{"$f":"A862+Model!$C$48","v":0.85000000000000064},0.47884691551887693,null,0.47884691551887693,null,0.22929436850194246,null,0.41664476451595384,0,0,null,0.41626231349812115]
[{"$f":"A863+Model!$C$48","v":0.85100000000000064},0.478601995730916,null,0.478601995730916,null,0.22905987031761574,null,0.41687394163536362,0.41672121553611807,1,null,0.41672121553611807]
[{"$f":"A864+Model!$C$48","v":0.85200000000000065},0.47835744820168052,null,0.47835744820168052,null,0.22882584825002347,null,0.41710288449464744,0,0,null,0.41672121553611807]
[{"$f":"A865+Model!$C$48","v":0.85300000000000065},0.47811327199858517,null,0.47811327199858517,null,0.22859230086119309,null,0.41733159356920307,0.41717917926204157,1,null,0.41717917926204157]
[{"$f":"A866+Model!$C$48","v":0.85400000000000065},0.47786946619227261,null,0.47786946619227261,null,0.22835922671888756,null,0.41756006933299311,0,0,null,0.41717917926204157]
[{"$f":"A867+Model!$C$48","v":0.85500000000000065},0.47762602985659897,null,0.47762602985659897,null,0.22812662439657677,null,0.41778831225855084,0.41763620848100241,1,null,0.41763620848100241]
[{"$f":"A868+Model!$C$48","v":0.85600000000000065},0.47738296206861969,null,0.47738296206861969,null,0.22789449247340918,null,0.41801632281698581,0,0,null,0.41763620848100241]
[{"$f":"A869+Model!$C$48","v":0.85700000000000065},0.47714026190857606,null,0.47714026190857606,null,0.22766282953418457,null,0.41824410147798963,0.41809230697518013,1,null,0.41809230697518013]
[{"$f":"A870+Model!$C$48","v":0.85800000000000065},0.47689792845988133,null,0.47689792845988133,null,0.22743163416932607,null,0.41847164870984138,0,0,null,0.41809230697518013]
[{"$f":"A871+Model!$C$48","v":0.85900000000000065},0.47665596080910588,null,0.47665596080910588,null,0.22720090497485187,null,0.41869896497941345,0.41854747850400525,1,null,0.41854747850400525]
[{"$f":"A872+Model!$C$48","v":0.86000000000000065},0.4764143580459646,null,0.4764143580459646,null,0.22697064055234856,null,0.41892605075217704,0,0,null,0.41854747850400525]
[{"$f":"A873+Model!$C$48","v":0.86100000000000065},0.47617311926330252,null,0.47617311926330252,null,0.22674083950894333,null,0.41915290649220771,0.41900172680433995,1,null,0.41900172680433995]
[{"$f":"A874+Model!$C$48","v":0.86200000000000065},0.47593224355708175,null,0.47593224355708175,null,0.22651150045727739,null,0.4193795326621908,0,0,null,0.41900172680433995]
[{"$f":"A875+Model!$C$48","v":0.86300000000000066},0.47569173002636739,null,0.47569173002636739,null,0.22628262201547839,null,0.4196059297234272,0.41945505559065671,1,null,0.41945505559065671]
[{"$f":"A876+Model!$C$48","v":0.86400000000000066},0.47545157777331448,null,0.47545157777331448,null,0.22605420280713412,null,0.41983209813583849,0,0,null,0.41945505559065671]
[{"$f":"A877+Model!$C$48","v":0.86500000000000066},0.47521178590315344,null,0.47521178590315344,null,0.22582624146126454,null,0.42005803835797267,0.41990746855521544,1,null,0.41990746855521544]
[{"$f":"A878+Model!$C$48","v":0.86600000000000066},0.47497235352417871,null,0.47497235352417871,null,0.2255987366122974,null,0.42028375084700947,0,0,null,0.41990746855521544]
[{"$f":"A879+Model!$C$48","v":0.86700000000000066},0.47473327974773383,null,0.47473327974773383,null,0.22537168690004011,null,0.42050923605876567,0.42035896936823863,1,null,0.42035896936823863]
[{"$f":"A880+Model!$C$48","v":0.86800000000000066},0.47449456368819937,null,0.47449456368819937,null,0.22514509096965468,null,0.4207344944477005,0,0,null,0.42035896936823863]
[{"$f":"A881+Model!$C$48","v":0.86900000000000066},0.47425620446297867,null,0.47425620446297867,null,0.22491894747163063,null,0.42095952646692114,0.42080956167808514,1,null,0.42080956167808514]
[{"$f":"A882+Model!$C$48","v":0.87000000000000066},0.47401820119248578,null,0.47401820119248578,null,0.22469325506175991,null,0.42118433256818782,0,0,null,0.42080956167808514]
[{"$f":"A883+Model!$C$48","v":0.87100000000000066},0.47378055300013139,null,0.47378055300013139,null,0.22446801240111031,null,0.42140891320191926,0.42125924911142182,1,null,0.42125924911142182]
[{"$f":"A884+Model!$C$48","v":0.87200000000000066},0.47354325901231153,null,0.47354325901231153,null,0.22424321815600118,null,0.42163326881719781,0,0,null,0.42125924911142182]
[{"$f":"A885+Model!$C$48","v":0.87300000000000066},0.47330631835839293,null,0.47330631835839293,null,0.2240188709979764,null,0.42185739986177478,0.42170803527339396,1,null,0.42170803527339396]
[{"$f":"A886+Model!$C$48","v":0.87400000000000067},0.47306973017070081,null,0.47306973017070081,null,0.22379496960377968,null,0.42208130678207567,0,0,null,0.42170803527339396]
[{"$f":"A887+Model!$C$48","v":0.87500000000000067},0.4728334935845076,null,0.4728334935845076,null,0.2235715126553306,null,0.42230499002320521,0.42215592374779376,1,null,0.42215592374779376]
[{"$f":"A888+Model!$C$48","v":0.87600000000000067},0.47259760773801757,null,0.47259760773801757,null,0.22334849883969712,null,0.42252845002895273,0,0,null,0.42215592374779376]
[{"$f":"A889+Model!$C$48","v":0.87700000000000067},0.47236207177235667,null,0.47236207177235667,null,0.22312592684907304,null,0.42275168724179712,0.42260291809722733,1,null,0.42260291809722733]
[{"$f":"A890+Model!$C$48","v":0.87800000000000067},0.47212688483155851,null,0.47212688483155851,null,0.22290379538075172,null,0.42297470210291205,0,0,null,0.42260291809722733]
[{"$f":"A891+Model!$C$48","v":0.87900000000000067},0.47189204606255253,null,0.47189204606255253,null,0.22268210313710221,null,0.42319749505217097,0.42304902186327992,1,null,0.42304902186327992]
[{"$f":"A892+Model!$C$48","v":0.88000000000000067},0.47165755461515158,null,0.47165755461515158,null,0.2224608488255447,null,0.42342006652815228,0,0,null,0.42304902186327992]
[{"$f":"A893+Model!$C$48","v":0.88100000000000067},0.47142340964203905,null,0.47142340964203905,null,0.22224003115852575,null,0.42364241696814431,0.42349423856667973,1,null,0.42349423856667973]
[{"$f":"A894+Model!$C$48","v":0.88200000000000067},0.47118961029875772,null,0.47118961029875772,null,0.22201964885349518,null,0.42386454680815033,0,0,null,0.42349423856667973]
[{"$f":"A895+Model!$C$48","v":0.88300000000000067},0.47095615574369543,null,0.47095615574369543,null,0.2217997006328799,null,0.4240864564828935,0.42393857170746008,1,null,0.42393857170746008]
[{"$f":"A896+Model!$C$48","v":0.88400000000000067},0.47072304513807578,null,0.47072304513807578,null,0.22158018522406292,null,0.42430814642582199,0,0,null,0.42393857170746008]
[{"$f":"A897+Model!$C$48","v":0.88500000000000068},0.47049027764594409,null,0.47049027764594409,null,0.22136110135935755,null,0.42452961706911369,0.42438202476511994,1,null,0.42438202476511994]
[{"$f":"A898+Model!$C$48","v":0.88600000000000068},0.47025785243415591,null,0.47025785243415591,null,0.22114244777598435,null,0.42475086884368135,0,0,null,0.42438202476511994]
[{"$f":"A899+Model!$C$48","v":0.88700000000000068},0.47002576867236417,null,0.47002576867236417,null,0.22092422321604679,null,0.42497190217917735,0.42482460119878307,1,null,0.42482460119878307]
[{"$f":"A900+Model!$C$48","v":0.88800000000000068},0.46979402553300875,null,0.46979402553300875,null,0.22070642642650928,null,0.42519271750399862,0,0,null,0.42482460119878307]
[{"$f":"A901+Model!$C$48","v":0.88900000000000068},0.4695626221913044,null,0.4695626221913044,null,0.22048905615917369,null,0.42541331524529147,0.42526630444735547,1,null,0.42526630444735547]
[{"$f":"A902+Model!$C$48","v":0.89000000000000068},0.46933155782522784,null,0.46933155782522784,null,0.22027211117065518,null,0.42563369582895638,0,0,null,0.42526630444735547]
[{"$f":"A903+Model!$C$48","v":0.89100000000000068},0.46910083161550664,null,0.46910083161550664,null,0.2200555902223599,null,0.42585385967965289,0.42570713792968146,1,null,0.42570713792968146]
[{"$f":"A904+Model!$C$48","v":0.89200000000000068},0.46887044274560841,null,0.46887044274560841,null,0.21983949208046286,null,0.42607380722080429,0,0,null,0.42570713792968146]
[{"$f":"A905+Model!$C$48","v":0.89300000000000068},0.4686403904017275,null,0.4686403904017275,null,0.21962381551588356,null,0.42629353887460247,0.42614710504469827,1,null,0.42614710504469827]
[{"$f":"A906+Model!$C$48","v":0.89400000000000068},0.46841067377277501,null,0.46841067377277501,null,0.21940855930426506,null,0.42651305506201254,0,0,null,0.42614710504469827]
[{"$f":"A907+Model!$C$48","v":0.89500000000000068},0.46818129205036624,null,0.46818129205036624,null,0.21919372222595032,null,0.42673235620277766,0.42658620917158896,1,null,0.42658620917158896]
[{"$f":"A908+Model!$C$48","v":0.89600000000000068},0.46795224442880962,null,0.46795224442880962,null,{"$f":"B909*D909","v":0.21897930306596039},null,0.42695144271542362,0,0,null,0.42658620917158896]
[{"$f":"A909+Model!$C$48","v":0.89700000000000069},0.46772353010509604,null,0.46772353010509604,null,0.21876530061397267,null,{"$f":"0.5*(F910+F909)*(A910-A909)+H909","v":0.4271703150172636},0.42702445366993419,1,null,0.42702445366993419]
[{"$f":"A910+Model!$C$48","v":0.89800000000000069},0.46749514827888661,null,0.46749514827888661,null,0.21855171366429818,null,0.42738897352440275,0,{"$f":"IF(J910=1,0,1)","v":0},null,0.42702445366993419]
[{"$f":"A911+Model!$C$48","v":0.89900000000000069},{"$f":"ERF($B$10/SQRT(A912))","v":0.467267098152501},null,{"$f":"ERF($B$11/SQRT(A912))","v":0.467267098152501},null,0.21833854101585901,null,0.42760741865174284,0.42746184187986236,1,null,0.42746184187986236]
[{"$f":"A912+Model!$C$48","v":0.90000000000000069},0.46703937893090769,null,0.46703937893090769,null,0.21812578147216799,null,0.42782565081298685,{"$f":"(I911+((A913-A912)/3)*(4*F911+2*F912))*J913","v":0},0,null,{"$f":"IF(J913=1,I913,I912)","v":0.42746184187986236}]
[{"$f":"A913+Model!$C$48","v":0.90100000000000069},0.46681198982171179,null,0.46681198982171179,null,0.21791343384130596,null,0.42804367042064356,0.4278983771221983,1,null,0.4278983771221983]
[{"$f":"A914+Model!$C$48","v":0.90200000000000069},0.46658493003514395,null,0.46658493003514395,null,0.21770149693590019,null,0.42826147788603219,0,0,null,0.4278983771221983]
[{"$f":"A915+Model!$C$48","v":0.90300000000000069},0.46635819878405027,null,0.46635819878405027,null,0.21748996957310374,null,0.42847907361928672,0.42833406269861063,1,null,0.42833406269861063]
[{"$f":"A916+Model!$C$48","v":0.90400000000000069},0.46613179528387999,null,0.46613179528387999,null,0.217278850574573,null,0.42869645802936057,0,0,null,0.42833406269861063]
[{"$f":"A917+Model!$C$48","v":0.90500000000000069},0.4659057187526755,null,0.4659057187526755,null,0.21706813876644718,null,0.42891363152403106,0.42876890189175781,1,null,0.42876890189175781]
[{"$f":"A918+Model!$C$48","v":0.90600000000000069},0.46567996841106118,null,0.46567996841106118,null,0.21685783297932695,null,0.42913059450990393,0,0,null,0.42876890189175781]
[{"$f":"A919+Model!$C$48","v":0.90700000000000069},0.4654545434822327,null,0.4654545434822327,null,0.21664793204825364,null,0.4293473473924177,0.42920289796543265,1,null,0.42920289796543265]
[{"$f":"A920+Model!$C$48","v":0.9080000000000007},0.46522944319194598,null,0.46522944319194598,null,0.2164384348126881,null,0.42956389057584815,0,0,null,0.42920289796543265]
[{"$f":"A921+Model!$C$48","v":0.9090000000000007},0.46500466676850688,null,0.46500466676850688,null,0.21622934011649012,null,0.42978022446331277,0.42963605416470546,1,null,0.42963605416470546]
[{"$f":"A922+Model!$C$48","v":0.9100000000000007},0.46478021344275994,null,0.46478021344275994,null,0.21602064680789748,null,0.42999634945677495,0,0,null,0.42963605416470546]
[{"$f":"A923+Model!$C$48","v":0.9110000000000007},0.46455608244807894,null,0.46455608244807894,null,0.21581235373950633,null,0.43021226595704865,0.43006837371606604,1,null,0.43006837371606604]
[{"$f":"A924+Model!$C$48","v":0.9120000000000007},0.46433227302035462,null,0.46433227302035462,null,0.21560445976824916,null,0.43042797436380253,0,0,null,0.43006837371606604]
[{"$f":"A925+Model!$C$48","v":0.9130000000000007},0.46410878439798597,null,0.46410878439798597,null,0.21539696375537623,null,0.43064347507556433,0.43049985982756422,1,null,0.43049985982756422]
[{"$f":"A926+Model!$C$48","v":0.9140000000000007},0.46388561582186899,null,0.46388561582186899,null,0.21518986456643463,null,0.43085876848972526,0,0,null,0.43049985982756422]
[{"$f":"A927+Model!$C$48","v":0.9150000000000007},0.46366276653538591,null,0.46366276653538591,null,0.21498316107124776,null,0.43107385500254408,0.43093051568894902,1,null,0.43093051568894902]
[{"$f":"A928+Model!$C$48","v":0.9160000000000007},0.46344023578439536,null,0.46344023578439536,null,0.21477685214389597,null,0.43128873500915166,0,0,null,0.43093051568894902]
[{"$f":"A929+Model!$C$48","v":0.9170000000000007},0.46321802281722207,null,0.46321802281722207,null,0.21457093666269647,null,0.43150340890355493,0.4313603444718066,1,null,0.4313603444718066]
[{"$f":"A930+Model!$C$48","v":0.9180000000000007},0.46299612688464664,null,0.46299612688464664,null,0.21436541351018382,null,0.43171787707864134,0,0,null,0.4313603444718066]
[{"$f":"A931+Model!$C$48","v":0.91900000000000071},0.46277454723989531,null,0.46277454723989531,null,0.21416028157309008,null,0.43193213992618296,0.43178934932969698,1,null,0.43178934932969698]
[{"$f":"A932+Model!$C$48","v":0.92000000000000071},0.46255328313862959,null,0.46255328313862959,null,0.21395553974232523,null,0.43214619783684066,0,0,null,0.43178934932969698]
[{"$f":"A933+Model!$C$48","v":0.92100000000000071},0.46233233383893652,null,0.46233233383893652,null,0.21375118691295783,null,0.43236005120016829,0.43221753339828933,1,null,0.43221753339828933]
[{"$f":"A934+Model!$C$48","v":0.92200000000000071},0.46211169860131851,null,0.46211169860131851,null,0.21354722198419585,null,0.43257370040461685,0,0,null,0.43221753339828933]
[{"$f":"A935+Model!$C$48","v":0.92300000000000071},0.46189137668868357,null,0.46189137668868357,null,0.21334364385936738,null,0.43278714583753863,0.43264489979549609,1,null,0.43264489979549609]
[{"$f":"A936+Model!$C$48","v":0.92400000000000071},0.46167136736633502,null,0.46167136736633502,null,0.21314045144590146,null,0.4330003878851913,0,0,null,0.43264489979549609]
[{"$f":"A937+Model!$C$48","v":0.92500000000000071},0.46145166990196151,null,0.46145166990196151,null,0.21293764365530884,null,0.4332134269327419,0.43307145162160582,1,null,0.43307145162160582]
[{"$f":"A938+Model!$C$48","v":0.92600000000000071},0.46123228356562784,null,0.46123228356562784,null,0.21273521940316373,null,0.43342626336427115,0,0,null,0.43307145162160582]
[{"$f":"A939+Model!$C$48","v":0.92700000000000071},0.46101320762976505,null,0.46101320762976505,null,0.21253317760908486,null,0.43363889756277729,0.433497191959415,1,null,0.433497191959415]
[{"$f":"A940+Model!$C$48","v":0.92800000000000071},0.46079444136915948,null,0.46079444136915948,null,0.21233151719671575,null,0.43385132991018022,0,0,null,0.433497191959415]
[{"$f":"A941+Model!$C$48","v":0.92900000000000071},0.46057598406094524,null,0.46057598406094524,null,0.2121302370937081,null,0.43406356078732544,0.43392212387435825,1,null,0.43392212387435825]
[{"$f":"A942+Model!$C$48","v":0.93000000000000071},0.46035783498459204,null,0.46035783498459204,null,0.21192933623170088,null,0.43427559057398812,0,0,null,0.43392212387435825]
[{"$f":"A943+Model!$C$48","v":0.93100000000000072},0.46013999342189826,null,0.46013999342189826,null,0.21172881354630457,null,0.4344874196488771,0.43434625041463765,1,null,0.43434625041463765]
[{"$f":"A944+Model!$C$48","v":0.93200000000000072},0.45992245865697928,null,0.45992245865697928,null,0.21152866797708081,null,0.4346990483896388,0,0,null,0.43434625041463765]
[{"$f":"A945+Model!$C$48","v":0.93300000000000072},0.45970522997625907,null,0.45970522997625907,null,0.21132889846752523,null,0.43491047717286108,0.4347695746113508,1,null,0.4347695746113508]
[{"$f":"A946+Model!$C$48","v":0.93400000000000072},0.45948830666846008,null,0.45948830666846008,null,0.21112950396504881,null,0.43512170637407738,0,0,null,0.4347695746113508]
[{"$f":"A947+Model!$C$48","v":0.93500000000000072},0.45927168802459495,null,0.45927168802459495,null,0.21093048342096088,null,0.43533273636777037,0.43519209947861753,1,null,0.43519209947861753]
[{"$f":"A948+Model!$C$48","v":0.93600000000000072},0.45905537333795576,null,0.45905537333795576,null,0.21073183579044993,null,0.43554356752737605,0,0,null,0.43519209947861753]
[{"$f":"A949+Model!$C$48","v":0.93700000000000072},0.45883936190410568,null,0.45883936190410568,null,0.21053356003256687,null,0.43575420022528755,0.43561382801370579,1,null,0.43561382801370579]
[{"$f":"A950+Model!$C$48","v":0.93800000000000072},0.45862365302086905,null,0.45862365302086905,null,0.21033565511020649,null,0.43596463483285891,0,0,null,0.43561382801370579]
[{"$f":"A951+Model!$C$48","v":0.93900000000000072},0.45840824598832336,null,0.45840824598832336,null,0.21013811999009119,null,0.43617487172040909,0.43603476319715601,1,null,0.43603476319715601]
[{"$f":"A952+Model!$C$48","v":0.94000000000000072},0.45819314010878853,null,0.45819314010878853,null,0.20994095364275192,null,0.43638491125722551,0,0,null,0.43603476319715601]
[{"$f":"A953+Model!$C$48","v":0.94100000000000072},0.45797833468681826,null,0.45797833468681826,null,0.20974415504251132,null,0.43659475381156815,0.43645490799290465,1,null,0.43645490799290465]
[{"$f":"A954+Model!$C$48","v":0.94200000000000073},0.45776382902919194,null,0.45776382902919194,null,0.20954772316746725,null,0.43680439975067314,0,0,null,0.43645490799290465]
[{"$f":"A955+Model!$C$48","v":0.94300000000000073},0.4575496224449046,null,0.4575496224449046,null,0.20935165699947475,null,0.43701384944075661,0.43687426534840629,1,null,0.43687426534840629]
[{"$f":"A956+Model!$C$48","v":0.94400000000000073},0.45733571424515812,null,0.45733571424515812,null,0.20915595552412891,null,0.43722310324701841,0,0,null,0.43687426534840629]
[{"$f":"A957+Model!$C$48","v":0.94500000000000073},0.45712210374335194,null,0.45712210374335194,null,0.20896061773074781,null,0.43743216153364584,0.43729283819475501,1,null,0.43729283819475501]
[{"$f":"A958+Model!$C$48","v":0.94600000000000073},0.4569087902550748,null,0.4569087902550748,null,0.20876564261235594,null,0.43764102466381738,0,0,null,0.43729283819475501]
[{"$f":"A959+Model!$C$48","v":0.94700000000000073},0.45669577309809617,null,0.45669577309809617,null,0.20857102916566775,null,0.43784969299970639,0.43771062944680422,1,null,0.43771062944680422]
[{"$f":"A960+Model!$C$48","v":0.94800000000000073},0.45648305159235608,null,0.45648305159235608,null,0.20837677639106963,null,0.43805816690248478,0,0,null,0.43771062944680422]
[{"$f":"A961+Model!$C$48","v":0.94900000000000073},0.45627062505995752,null,0.45627062505995752,null,0.20818288329260434,null,0.43826644673232662,0.4381276420032858,1,null,0.4381276420032858]
[{"$f":"A962+Model!$C$48","v":0.95000000000000073},0.45605849282515754,null,0.45605849282515754,null,0.20798934887795426,null,0.43847453284841192,0,0,null,0.4381276420032858]
[{"$f":"A963+Model!$C$48","v":0.95100000000000073},0.45584665421435744,null,0.45584665421435744,null,0.20779617215842397,null,0.43868242560893012,0.43854387874692791,1,null,0.43854387874692791]
[{"$f":"A964+Model!$C$48","v":0.95200000000000073},0.45563510855609607,null,0.45563510855609607,null,0.20760335214892545,null,0.43889012537108379,0,0,null,0.43854387874692791]
[{"$f":"A965+Model!$C$48","v":0.95300000000000074},0.45542385518103989,null,0.45542385518103989,null,0.2074108878679608,null,0.43909763249109224,0.43895934254457175,1,null,0.43895934254457175]
[{"$f":"A966+Model!$C$48","v":0.95400000000000074},0.45521289342197419,null,0.45521289342197419,null,0.20721877833760563,null,0.43930494732419501,0,0,null,0.43895934254457175]
[{"$f":"A967+Model!$C$48","v":0.95500000000000074},0.45500222261379603,null,0.45500222261379603,null,0.2070270225834944,null,0.43951207022465555,0.43937403624728744,1,null,0.43937403624728744]
[{"$f":"A968+Model!$C$48","v":0.95600000000000074},0.45479184209350337,null,0.45479184209350337,null,0.2068356196348021,null,0.43971900154576471,0,0,null,0.43937403624728744]
[{"$f":"A969+Model!$C$48","v":0.95700000000000074},0.45458175120018973,null,0.45458175120018973,null,0.20664456852423119,null,0.43992574163984421,0.43978796269048864,1,null,0.43978796269048864]
[{"$f":"A970+Model!$C$48","v":0.95800000000000074},0.45437194927503255,null,0.45437194927503255,null,0.20645386828799275,null,0.44013229085825034,0,0,null,0.43978796269048864]
[{"$f":"A971+Model!$C$48","v":0.95900000000000074},0.45416243566128744,null,0.45416243566128744,null,0.20626351796579306,null,0.44033864955137725,0.44020112469404626,1,null,0.44020112469404626]
[{"$f":"A972+Model!$C$48","v":0.96000000000000074},0.45395320970427866,null,0.45395320970427866,null,{"$f":"B973*D973","v":0.2060735166008168},null,0.44054481806866053,0,0,null,0.44020112469404626]
[{"$f":"A973+Model!$C$48","v":0.96100000000000074},0.45374427075139045,null,0.45374427075139045,null,0.20588386323971114,null,{"$f":"0.5*(F974+F973)*(A974-A973)+H973","v":0.44075079675858081},0.4406135250624012,1,null,0.4406135250624012]
[{"$f":"A974+Model!$C$48","v":0.96200000000000074},0.45353561815206,null,0.45353561815206,null,0.20569455693257119,null,0.44095658596866694,0,{"$f":"IF(J974=1,0,1)","v":0},null,0.4406135250624012]
[{"$f":"A975+Model!$C$48","v":0.96300000000000074},{"$f":"ERF($B$10/SQRT(A976))","v":0.4533272512577679},null,{"$f":"ERF($B$11/SQRT(A976))","v":0.4533272512577679},null,0.20550559673292343,null,0.44116218604549967,0.44102516658467589,1,null,0.44102516658467589]
[{"$f":"A976+Model!$C$48","v":0.96400000000000075},0.45311916942203151,null,0.45311916942203151,null,0.2053169816977117,null,0.44136759733471498,{"$f":"(I975+((A977-A976)/3)*(4*F975+2*F976))*J977","v":0},0,null,{"$f":"IF(J977=1,I977,I976)","v":0.44102516658467589}]
[{"$f":"A977+Model!$C$48","v":0.96500000000000075},0.45291137200039489,null,0.45291137200039489,null,0.20512871088728007,null,0.44157282018100746,0.44143605203478492,1,null,0.44143605203478492]
[{"$f":"A978+Model!$C$48","v":0.96600000000000075},0.45270385835042304,null,0.45270385835042304,null,0.2049407833653599,null,0.44177785492813376,0,0,null,0.44143605203478492]
[{"$f":"A979+Model!$C$48","v":0.96700000000000075},0.45249662783169142,null,0.45249662783169142,null,0.20475319819905224,null,0.44198270191891598,0.44184618417154486,1,null,0.44184618417154486]
[{"$f":"A980+Model!$C$48","v":0.96800000000000075},0.45228967980578039,null,0.45228967980578039,null,0.20456595445881534,null,0.4421873614952449,0,0,null,0.44184618417154486]
[{"$f":"A981+Model!$C$48","v":0.96900000000000075},0.45208301363626519,null,0.45208301363626519,null,0.20437905121844754,null,0.44239183399808352,0.44225556573878283,1,null,0.44225556573878283]
[{"$f":"A982+Model!$C$48","v":0.97000000000000075},0.45187662868870826,null,0.45187662868870826,null,0.20419248755507272,null,0.44259611976747026,0,0,null,0.44225556573878283]
[{"$f":"A983+Model!$C$48","v":0.97100000000000075},0.45167052433065358,null,0.45167052433065358,null,0.20400626254912752,null,0.44280021914252238,0.44266419946544416,1,null,0.44266419946544416]
[{"$f":"A984+Model!$C$48","v":0.97200000000000075},0.45146469993161614,null,0.45146469993161614,null,0.20382037528434421,null,0.4430041324614391,0,0,null,0.44266419946544416]
[{"$f":"A985+Model!$C$48","v":0.97300000000000075},0.45125915486307466,null,0.45125915486307466,null,0.2036348248477364,null,0.44320786006150514,0.44307208806569925,1,null,0.44307208806569925]
[{"$f":"A986+Model!$C$48","v":0.97400000000000075},0.45105388849846578,null,0.45105388849846578,null,0.20344961032958642,null,0.44341140227909381,0,0,null,0.44307208806569925]
[{"$f":"A987+Model!$C$48","v":0.97500000000000075},0.45084890021317292,null,0.45084890021317292,null,0.20326473082342755,null,0.44361475944967033,0.44347923423904928,1,null,0.44347923423904928]
[{"$f":"A988+Model!$C$48","v":0.97600000000000076},0.45064418938452233,null,0.45064418938452233,null,0.20308018542603323,null,0.44381793190779506,0,0,null,0.44347923423904928]
[{"$f":"A989+Model!$C$48","v":0.97700000000000076},0.45043975539177217,null,0.45043975539177217,null,0.20289597323739955,null,0.44402091998712678,0.44388564067043118,1,null,0.44388564067043118]
[{"$f":"A990+Model!$C$48","v":0.97800000000000076},0.45023559761610737,null,0.45023559761610737,null,0.20271209336073334,null,0.44422372402042587,0,0,null,0.44388564067043118]
[{"$f":"A991+Model!$C$48","v":0.97900000000000076},0.45003171544062998,null,0.45003171544062998,null,0.20252854490243616,null,0.44442634433955747,0.44429131003032152,1,null,0.44429131003032152]
[{"$f":"A992+Model!$C$48","v":0.98000000000000076},0.44982810825035346,null,0.44982810825035346,null,0.2023453269720917,null,0.44462878127549471,0,0,null,0.44429131003032152]
[{"$f":"A993+Model!$C$48","v":0.98100000000000076},0.4496247754321937,null,0.4496247754321937,null,0.20216243868245062,null,0.44483103515832201,0.44469624497483951,1,null,0.44469624497483951]
[{"$f":"A994+Model!$C$48","v":0.98200000000000076},0.44942171637496242,null,0.44942171637496242,null,0.20197987914941717,null,0.44503310631723791,0,0,null,0.44469624497483951]
[{"$f":"A995+Model!$C$48","v":0.98300000000000076},0.44921893046935907,null,0.44921893046935907,null,0.20179764749203485,null,0.44523499508055864,0.44510044814584904,1,null,0.44510044814584904]
[{"$f":"A996+Model!$C$48","v":0.98400000000000076},0.44901641710796436,null,0.44901641710796436,null,0.20161574283247344,null,0.44543670177572087,0,0,null,0.44510044814584904]
[{"$f":"A997+Model!$C$48","v":0.98500000000000076},0.44881417568523158,null,0.44881417568523158,null,0.20143416429601391,null,0.4456382267292851,0.44550392217106005,1,null,0.44550392217106005]
[{"$f":"A998+Model!$C$48","v":0.98600000000000076},0.44861220559748055,null,0.44861220559748055,null,0.20125291101103615,null,0.4458395702669386,0,0,null,0.44550392217106005]
[{"$f":"A999+Model!$C$48","v":0.98700000000000077},0.44841050624288925,null,0.44841050624288925,null,0.20107198210900423,null,0.44604073271349864,0.44590666966412879,1,null,0.44590666966412879]
[{"$f":"A1000+Model!$C$48","v":0.98800000000000077},0.44820907702148743,null,0.44820907702148743,null,0.20089137672445365,null,0.44624171439291538,0,0,null,0.44590666966412879]
[{"$f":"A1001+Model!$C$48","v":0.98900000000000077},0.44800791733514828,null,0.44800791733514828,null,0.20071109399497705,null,0.44644251562827508,0.44630869322475708,1,null,0.44630869322475708]
[{"$f":"A1002+Model!$C$48","v":0.99000000000000077},0.44780702658758292,null,0.44780702658758292,null,0.2005311330612122,null,0.44664313674180317,0,0,null,0.44630869322475708]
[{"$f":"A1003+Model!$C$48","v":0.99100000000000077},0.44760640418433156,null,0.44760640418433156,null,0.2003514930668272,null,0.44684357805486719,0.4467099954387912,1,null,0.4467099954387912]
[{"$f":"A1004+Model!$C$48","v":0.99200000000000077},0.44740604953275687,null,0.44740604953275687,null,0.20017217315850769,null,0.44704383988797985,0,0,null,0.4467099954387912]
[{"$f":"A1005+Model!$C$48","v":0.99300000000000077},0.447205962042037,null,0.447205962042037,null,0.19999317248594384,null,0.44724392256080209,0.44711057887831929,1,null,0.44711057887831929]
[{"$f":"A1006+Model!$C$48","v":0.99400000000000077},0.44700614112315884,null,0.44700614112315884,null,0.19981449020181741,null,0.44744382639214597,0,0,null,0.44711057887831929]
[{"$f":"A1007+Model!$C$48","v":0.99500000000000077},0.44680658618891045,null,0.44680658618891045,null,0.19963612546178827,null,0.44764355169997777,0.44751044610176843,1,null,0.44751044610176843]
[{"$f":"A1008+Model!$C$48","v":0.99600000000000077},0.44660729665387455,null,0.44660729665387455,null,0.19945807742448191,null,0.44784309880142092,0,0,null,0.44751044610176843]
[{"$f":"A1009+Model!$C$48","v":0.99700000000000077},0.44640827193442051,null,0.44640827193442051,null,0.19928034525147553,null,0.44804246801275888,0.44790959965400046,1,null,0.44790959965400046]
[{"$f":"A1010+Model!$C$48","v":0.99800000000000078},0.44620951144869908,null,0.44620951144869908,null,0.19910292810728672,null,0.44824165964943824,0,0,null,0.44790959965400046]
[{"$f":"A1011+Model!$C$48","v":0.99900000000000078},0.44601101461663345,null,0.44601101461663345,null,0.1989258251593588,null,0.44844067402607157,0.44830804206640729,1,null,0.44830804206640729]
[{"$f":"A1012+Model!$C$48","v":1.0000000000000007},0.44581278085991477,null,0.44581278085991477,null,0.19874903557805038,null,0.44863951145644027,0,0,null,0.44830804206640729]
[null,null,null,null,null,null,null,null,{"$f":"(I1012+((A1013-A1012)/3)*(4*F1012+F1013))*J1014","v":0.44863952617847908},1,null,{"$f":"IF(J1014=1,I1014,I1013)","v":0.44863952617847908}]

{"sheet":"pS2","index":3,"n_rows":1014,"n_cols":12,"rows_kept":1014,"cut":false,"hidden":true,"merged":[]}
[]
[]
[]
[]
[]
[]
[]
[]
[]
["a",{"$f":"(Results!$A$10+Model!$G$48)/(SQRT(4*Model!$G$50*Results!A$12))","v":0.41825179908768717}]
["b",{"$f":"(Results!$A$11-Model!$G$49)/(SQRT(4*Model!$G$50*Results!A$12))","v":0.41825179908768717}]
["t","erf(a/sqrt(t))",null,"erf(b/sqrt(t))",null,"integrand",null,"trapezoidal integral O(h^2)","Simpson integral O(h^4)","kount",null,"Simpson total Sum"]
[0,1,null,1,null,{"$f":"B13*D13","v":1},null,0,0]
[{"$f":"Model!$C$48","v":1E-3},{"$f":"ERF($B$10/SQRT(A14))","v":1},null,{"$f":"IF($B$11>0,ERF($B$11/SQRT(A14)),-ERF(-$B$11/SQRT(A14)))","v":1},null,1,null,{"$f":"0.5*(F14+F13)*(A14-A13)+H13","v":1E-3},null,1]
[{"$f":"A14+Model!$C$48","v":2E-3},1,null,1,null,1,null,2E-3,null,{"$f":"IF(J14=1,0,1)","v":0}]
[{"$f":"A15+Model!$C$48","v":3.0000000000000001E-3},1,null,1,null,1,null,3.0000000000000001E-3,{"$f":"(I13+((A16-A15)/3)*(F13+4*F14+2*F15))*J16","v":2.3333333333333331E-3},1,null,{"$f":"IF(J16=1,I16,I15)","v":2.3333333333333331E-3}]
[{"$f":"A16+Model!$C$48","v":4.0000000000000001E-3},1,null,1,null,1,null,4.0000000000000001E-3,{"$f":"(I15+((A17-A16)/3)*(4*F15+2*F16))*J17","v":0},0,null,{"$f":"IF(J17=1,I17,I16)","v":2.3333333333333331E-3}]
[{"$f":"A17+Model!$C$48","v":5.0000000000000001E-3},0.99999999999999989,null,0.99999999999999989,null,0.99999999999999978,null,5.0000000000000001E-3,4.3333333333333331E-3,1,null,4.3333333333333331E-3]
[{"$f":"A18+Model!$C$48","v":6.0000000000000001E-3},0.99999999999997757,null,0.99999999999997757,null,0.99999999999995515,null,5.9999999999999776E-3,0,0,null,4.3333333333333331E-3]
[{"$f":"A19+Model!$C$48","v":7.0000000000000001E-3},0.9999999999984478,null,0.9999999999984478,null,0.99999999999689559,null,6.9999999999984033E-3,6.3333333333333028E-3,1,null,6.3333333333333028E-3]
[{"$f":"A20+Model!$C$48","v":8.0000000000000002E-3},0.99999999996237521,null,0.99999999996237521,null,0.99999999992475042,null,7.9999999999592272E-3,0,0,null,6.3333333333333028E-3]
[{"$f":"A21+Model!$C$48","v":9.0000000000000011E-3},0.99999999954801899,null,0.99999999954801899,null,0.99999999909603798,null,8.9999999994696232E-3,8.3333333332789999E-3,1,null,8.3333333332789999E-3]
[{"$f":"A22+Model!$C$48","v":1.0000000000000002E-2},0.99999999668071315,null,0.99999999668071315,null,0.99999999336142631,null,9.9999999956983561E-3,0,0,null,8.3333333332789999E-3]
[{"$f":"A23+Model!$C$48","v":1.1000000000000003E-2},0.99999998296593529,null,0.99999998296593529,null,0.9999999659318709,null,1.0999999975345006E-2,1.0333333327648003E-2,1,null,1.0333333327648003E-2]
[{"$f":"A24+Model!$C$48","v":1.2000000000000004E-2},0.99999993321314828,null,0.99999993321314828,null,0.99999986642630101,null,1.1999999891524093E-2,0,0,null,1.0333333327648003E-2]
[{"$f":"A25+Model!$C$48","v":1.3000000000000005E-2},0.99999978717858595,null,0.99999978717858595,null,0.9999995743572172,null,1.2999999611915853E-2,1.23333331931747E-2,1,null,1.23333331931747E-2]
[{"$f":"A26+Model!$C$48","v":1.4000000000000005E-2},0.99999942391066199,null,0.99999942391066199,null,0.99999884782165582,null,1.399999882300529E-2,0,0,null,1.23333331931747E-2]
[{"$f":"A27+Model!$C$48","v":1.5000000000000006E-2},0.99999863162016844,null,0.99999863162016844,null,0.99999726324220939,null,1.4999996878537224E-2,1.4333331857532095E-2,1,null,1.4333331857532095E-2]
[{"$f":"A28+Model!$C$48","v":1.6000000000000007E-2},0.99999707756506906,null,0.99999707756506906,null,0.99999415513867873,null,1.599999258772767E-2,0,0,null,1.4333331857532095E-2]
[{"$f":"A29+Model!$C$48","v":1.7000000000000008E-2},0.9999942825572592,null,0.9999942825572592,null,0.99998856514720758,null,1.6999983947870615E-2,1.6333324311947495E-2,1,null,1.6333324311947495E-2]
[{"$f":"A30+Model!$C$48","v":1.8000000000000009E-2},0.99998960363556966,null,0.99998960363556966,null,0.99997920737922374,null,1.799996783413383E-2,0,0,null,1.6333324311947495E-2]
[{"$f":"A31+Model!$C$48","v":1.900000000000001E-2},0.99998222681529314,null,0.99998222681529314,null,0.99996445394647238,null,1.899993966479668E-2,1.8333295203729921E-2,1,null,1.8333295203729921E-2]
[{"$f":"A32+Model!$C$48","v":2.0000000000000011E-2},0.99997117018025472,null,0.99997117018025472,null,0.99994234119166792,null,1.9999893062365749E-2,0,0,null,1.8333295203729921E-2]
[{"$f":"A33+Model!$C$48","v":2.1000000000000012E-2},0.9999552962911088,null,0.9999552962911088,null,0.99991059458063913,null,2.0999819530251904E-2,2.0333209369786331E-2,1,null,2.0333209369786331E-2]
[{"$f":"A34+Model!$C$48","v":2.2000000000000013E-2},0.99993333206733426,null,0.99993333206733426,null,0.99986666857928175,null,2.1999708161831867E-2,0,0,null,2.0333209369786331E-2]
[{"$f":"A35+Model!$C$48","v":2.3000000000000013E-2},0.99990389394174961,null,0.99990389394174961,null,0.99980779711987366,null,2.2999545394681447E-2,2.2333001274946706E-2,1,null,2.2333001274946706E-2]
[{"$f":"A36+Model!$C$48","v":2.4000000000000014E-2},0.99986551608227514,null,0.99986551608227514,null,0.99973105025047437,null,2.3999314818366622E-2,0,0,null,2.2333001274946706E-2]
[{"$f":"A37+Model!$C$48","v":2.5000000000000015E-2},0.99981667970489729,null,0.99981667970489729,null,0.99963339301612519,null,2.4998997039999922E-2,2.4332565704606856E-2,1,null,2.4332565704606856E-2]
[{"$f":"A38+Model!$C$48","v":2.6000000000000016E-2},0.99975584186355582,null,0.99975584186355582,null,0.99951174334030723,null,2.5998569608178139E-2,0,0,null,2.4332565704606856E-2]
[{"$f":"A39+Model!$C$48","v":2.7000000000000017E-2},0.99968146244433664,null,0.99968146244433664,null,0.99936302635484764,null,2.6998006993025719E-2,2.6331751390855231E-2,1,null,2.6331751390855231E-2]
[{"$f":"A40+Model!$C$48","v":2.8000000000000018E-2},0.99959202861629626,null,0.99959202861629626,null,0.99918422367324244,null,2.7997280618039765E-2,0,0,null,2.6331751390855231E-2]
[{"$f":"A41+Model!$C$48","v":2.9000000000000019E-2},0.99948607610424078,null,0.99948607610424078,null,0.99897241632625222,null,2.8996358938039514E-2,2.8330358241777192E-2,1,null,2.8330358241777192E-2]
[{"$f":"A42+Model!$C$48","v":3.000000000000002E-2},0.9993622071284618,null,0.9993622071284618,null,0.9987248210366706,null,2.9995207556720978E-2,0,0,null,2.8330358241777192E-2]
[{"$f":"A43+Model!$C$48","v":3.1000000000000021E-2},0.99921910495394106,null,0.99921910495394106,null,0.99843881970495507,null,3.0993789377091793E-2,3.0328138010903311E-2,1,null,3.0328138010903311E-2]
[{"$f":"A44+Model!$C$48","v":3.2000000000000021E-2},0.99905554518148798,null,0.99905554518148798,null,0.99811198235788012,null,3.1992064778123212E-2,0,0,null,3.0328138010903311E-2]
[{"$f":"A45+Model!$C$48","v":3.3000000000000022E-2},0.99887040401276694,null,0.99887040401276694,null,0.99774208401262821,null,3.2989991811308468E-2,3.2324797758748504E-2,1,null,3.2324797758748504E-2]
[{"$f":"A46+Model!$C$48","v":3.4000000000000023E-2},0.99866266378479662,null,0.99866266378479662,null,0.99732711603774571,null,3.3987526411333659E-2,0,0,null,3.2324797758748504E-2]
[{"$f":"A47+Model!$C$48","v":3.5000000000000024E-2},0.99843141610150832,null,0.99843141610150832,null,0.99686529265846324,null,3.4984622615681762E-2,3.4320005281457171E-2,1,null,3.4320005281457171E-2]
[{"$f":"A48+Model!$C$48","v":3.6000000000000025E-2},0.99817586289846849,null,0.99817586289846849,null,0.99635505327310214,null,3.5981232788647545E-2,0,0,null,3.4320005281457171E-2]
[{"$f":"A49+Model!$C$48","v":3.7000000000000026E-2},0.9978953158959375,null,0.9978953158959375,null,0.99579506148705288,null,3.6977307846027624E-2,3.6313395707183858E-2,1,null,3.6313395707183858E-2]
[{"$f":"A50+Model!$C$48","v":3.8000000000000027E-2},0.99758919403372492,null,0.99758919403372492,null,0.9951842000528569,null,3.7972797476797576E-2,0,0,null,3.6313395707183858E-2]
[{"$f":"A51+Model!$C$48","v":3.9000000000000028E-2},0.99725702085436918,null,0.99725702085436918,null,0.99452156564333172,null,3.8967650359645674E-2,3.8304578589201832E-2,1,null,3.8304578589201832E-2]
[{"$f":"A52+Model!$C$48","v":4.0000000000000029E-2},0.99689841996643924,null,0.99689841996643924,null,0.9938064597315831,null,3.9961814372333135E-2,0,0,null,3.8304578589201832E-2]
[{"$f":"A53+Model!$C$48","v":4.1000000000000029E-2},0.99651311031923862,null,0.99651311031923862,null,0.99303837903812298,null,4.0955236791717989E-2,4.0293144983213999E-2,1,null,4.0293144983213999E-2]
[{"$f":"A54+Model!$C$48","v":4.200000000000003E-2},0.99610090090757553,null,0.99610090090757553,null,0.99221700478888364,null,4.194786448363149E-2,0,0,null,4.0293144983213999E-2]
[{"$f":"A55+Model!$C$48","v":4.3000000000000031E-2},0.9956616851615423,null,0.9956616851615423,null,0.99134219129872214,null,4.2939644081675298E-2,4.2278674158457423E-2,1,null,4.2278674158457423E-2]
[{"$f":"A56+Model!$C$48","v":4.4000000000000032E-2},0.9951954351585911,null,0.9951954351585911,null,0.99041395416049749,null,4.3930522154404905E-2,0,0,null,4.2278674158457423E-2]
[{"$f":"A57+Model!$C$48","v":4.5000000000000033E-2},0.99470219577124419,null,0.99470219577124419,null,0.98943245827213455,null,4.4920445360621224E-2,4.4260739716296051E-2,1,null,4.4260739716296051E-2]
[{"$f":"A58+Model!$C$48","v":4.6000000000000034E-2},0.99418207884249321,null,0.99418207884249321,null,0.98839800589158133,null,4.5909360592703084E-2,0,0,null,4.4260739716296051E-2]
[{"$f":"A59+Model!$C$48","v":4.7000000000000035E-2},0.9936352574623083,null,0.9936352574623083,null,0.98731102487218769,null,4.6897215108084971E-2,4.6238914997919954E-2,1,null,4.6238914997919954E-2]
[{"$f":"A60+Model!$C$48","v":4.8000000000000036E-2},0.99306196096689237,null,0.99306196096689237,null,0.98617205831940968,null,4.7883956649680773E-2,0,0,null,4.6238914997919954E-2]
[{"$f":"A61+Model!$C$48","v":4.9000000000000037E-2},0.99246246746107869,null,0.99246246746107869,null,0.98498174931893268,null,4.8869533553499947E-2,4.8212777736629145E-2,1,null,4.8212777736629145E-2]
[{"$f":"A62+Model!$C$48","v":5.0000000000000037E-2},0.99183710167654382,null,0.99183710167654382,null,0.98374083626212672,null,4.9853894846290478E-2,0,0,null,4.8212777736629145E-2]
[{"$f":"A63+Model!$C$48","v":5.1000000000000038E-2},0.99118622821501134,null,0.99118622821501134,null,0.98245013900310052,null,5.0836990333923096E-2,5.018191395989581E-2,1,null,5.018191395989581E-2]
[{"$f":"A64+Model!$C$48","v":5.2000000000000039E-2},0.99051024739242666,null,0.99051024739242666,null,0.98111055018940629,null,5.1818770678519352E-2,0,0,null,5.018191395989581E-2]
[{"$f":"A65+Model!$C$48","v":5.300000000000004E-2},0.9898095909139718,null,0.9898095909139718,null,0.97972302626528418,null,5.2799187466746701E-2,5.2145921178692885E-2,1,null,5.2145921178692885E-2]
[{"$f":"A66+Model!$C$48","v":5.4000000000000041E-2},0.98908471782919827,null,0.98908471782919827,null,0.97828857904326472,null,5.3778193269400976E-2,0,0,null,5.2145921178692885E-2]
[{"$f":"A67+Model!$C$48","v":5.5000000000000042E-2},0.98833611076534023,null,0.98833611076534023,null,0.97680826784275887,null,5.4755741692843987E-2,5.4104410933075442E-2,1,null,5.4104410933075442E-2]
[{"$f":"A68+Model!$C$48","v":5.6000000000000043E-2},0.98756427243355926,null,0.98756427243355926,null,0.97528319218722526,null,5.5731787422858982E-2,0,0,null,5.4104410933075442E-2]
[{"$f":"A69+Model!$C$48","v":5.7000000000000044E-2},0.98676972240034766,null,0.98676972240034766,null,0.97371448504605917,null,5.6706286261475627E-2,5.6057010751657275E-2,1,null,5.6057010751657275E-2]
[{"$f":"A70+Model!$C$48","v":5.8000000000000045E-2},0.9859529941144265,null,0.9859529941144265,null,0.97210330660320232,null,5.7679195157300259E-2,0,0,null,5.6057010751657275E-2]
[{"$f":"A71+Model!$C$48","v":5.9000000000000045E-2},0.98511463360928297,null,0.98511463360928297,null,0.97045084135115178,null,5.8650472231277437E-2,5.8003365602787488E-2,1,null,5.8003365602787488E-2]
[{"$f":"A72+Model!$C$48","v":6.0000000000000046E-2},0.98425519155288377,null,0.98425519155288377,null,0.96875828209880388,null,5.9620076793002415E-2,0,0,null,5.8003365602787488E-2]
[{"$f":"A73+Model!$C$48","v":6.1000000000000047E-2},0.98337522878947348,null,0.98337522878947348,null,0.96702684059674926,null,6.0587969354350193E-2,5.9943138912654896E-2,1,null,5.9943138912654896E-2]
[{"$f":"A74+Model!$C$48","v":6.2000000000000048E-2},0.98247530927840976,null,0.98247530927840976,null,0.96525773334170695,null,6.1554111641319423E-2,0,0,null,5.9943138912654896E-2]
[{"$f":"A75+Model!$C$48","v":6.3000000000000042E-2},0.98155599941812488,null,0.98155599941812488,null,0.96345217999371402,null,6.2518466597987127E-2,6.1876013189011689E-2,1,null,6.1876013189011689E-2]
[{"$f":"A76+Model!$C$48","v":6.4000000000000043E-2},0.98061786635379178,null,0.98061786635379178,null,{"$f":"B77*D77","v":0.96161139981226307},null,6.348099838789012E-2,0,0,null,6.1876013189011689E-2]
[{"$f":"A77+Model!$C$48","v":6.5000000000000044E-2},{"$f":"ERF($B$10/SQRT(A78))","v":0.97966147645444634},null,{"$f":"IF($B$11>0,ERF($B$11/SQRT(A78)),-ERF(-$B$11/SQRT(A78)))","v":0.97966147645444634},null,0.95973660844890574,null,{"$f":"0.5*(F78+F77)*(A78-A77)+H77","v":6.4441672392020699E-2},6.3801690362211491E-2,1,null,6.3801690362211491E-2]
[{"$f":"A78+Model!$C$48","v":6.6000000000000045E-2},0.97868739394755666,null,0.97868739394755666,null,0.95782901507185991,null,6.5400455203781085E-2,0,{"$f":"IF(J78=1,0,1)","v":0},null,6.3801690362211491E-2]
[{"$f":"A79+Model!$C$48","v":6.7000000000000046E-2},0.97769617969948841,null,0.97769617969948841,null,0.95588981979897436,null,6.6357314621216509E-2,6.5719891850191267E-2,1,null,6.5719891850191267E-2]
[{"$f":"A80+Model!$C$48","v":6.8000000000000047E-2},0.97668839013082187,null,0.97668839013082187,null,0.95392021141633654,null,6.7312219636824169E-2,{"$f":"(I79+((A81-A80)/3)*(4*F79+2*F80))*J81","v":0},0,null,{"$f":"IF(J81=1,I81,I80)","v":6.5719891850191267E-2}]
[{"$f":"A81+Model!$C$48","v":6.9000000000000047E-2},0.97566457625602654,null,0.97566457625602654,null,0.95192136536085181,null,6.826514042521277E-2,6.763035841753412E-2,1,null,6.763035841753412E-2]
[{"$f":"A82+Model!$C$48","v":7.0000000000000048E-2},0.97462528552317773,null,0.97462528552317773,null,0.94989444718113569,null,6.9216048331483759E-2,0,0,null,6.763035841753412E-2]
[{"$f":"A83+Model!$C$48","v":7.1000000000000049E-2},0.97357105073364225,null,0.97357105073364225,null,0.94784059082660821,null,7.0164915850487633E-2,6.9532849869469351E-2,1,null,6.9532849869469351E-2]
[{"$f":"A84+Model!$C$48","v":7.200000000000005E-2},0.97250240435191504,null,0.97250240435191504,null,0.94576092647025567,null,7.1111716609136066E-2,0,0,null,6.9532849869469351E-2]
[{"$f":"A85+Model!$C$48","v":7.3000000000000051E-2},0.97141986832095839,null,0.97141986832095839,null,0.94365656056870817,null,7.2056425352655551E-2,7.1427144608218335E-2,1,null,7.1427144608218335E-2]
[{"$f":"A86+Model!$C$48","v":7.4000000000000052E-2},0.97032395591390741,null,0.97032395591390741,null,0.94152857942041457,null,7.2999017922650108E-2,0,0,null,7.1427144608218335E-2]
[{"$f":"A87+Model!$C$48","v":7.5000000000000053E-2},0.96921517133111423,null,0.96921517133111423,null,0.93937804833840111,null,7.3939471236529511E-2,7.3313039075256894E-2,1,null,7.3313039075256894E-2]
[{"$f":"A88+Model!$C$48","v":7.6000000000000054E-2},0.96809400936375956,null,0.96809400936375956,null,0.93720601096599898,null,7.4877763266181716E-2,0,0,null,7.3313039075256894E-2]
[{"$f":"A89+Model!$C$48","v":7.7000000000000055E-2},0.96696095511787483,null,0.96696095511787483,null,0.9350134887224727,null,7.5813873016025948E-2,7.5190347147018763E-2,1,null,7.5190347147018763E-2]
[{"$f":"A90+Model!$C$48","v":7.8000000000000055E-2},0.96581648379307639,null,0.96581648379307639,null,0.93280148036642174,null,7.6747780500570392E-2,0,0,null,7.5190347147018763E-2]
[{"$f":"A91+Model!$C$48","v":7.9000000000000056E-2},0.96466106051075351,null,0.96466106051075351,null,0.93057096166573161,null,7.7679466721586474E-2,7.705889945222634E-2,1,null,7.705889945222634E-2]
[{"$f":"A92+Model!$C$48","v":8.0000000000000057E-2},0.96349514018685789,null,0.96349514018685789,null,0.92832288516369299,null,7.860891364500118E-2,0,0,null,7.705889945222634E-2]
[{"$f":"A93+Model!$C$48","v":8.1000000000000058E-2},0.96231916744483004,null,0.96231916744483004,null,0.92605818003171081,null,7.9536104177598876E-2,7.8918542657889779E-2,1,null,7.8918542657889779E-2]
[{"$f":"A94+Model!$C$48","v":8.2000000000000059E-2},0.96113358129486715,null,0.96113358129486715,null,0.92377776109269694,null,8.0461022148161088E-2,0,0,null,7.8918542657889779E-2]
[{"$f":"A95+Model!$C$48","v":8.300000000000006E-2},0.9599387967694194,null,0.9599387967694194,null,0.92148249354312073,null,8.1383652275479001E-2,8.0769138738660526E-2,1,null,8.0769138738660526E-2]
[{"$f":"A96+Model!$C$48","v":8.4000000000000061E-2},0.95873523164593377,null,0.95873523164593377,null,0.91917324439918224,null,8.2303980144450159E-2,0,0,null,8.0769138738660526E-2]
[{"$f":"A97+Model!$C$48","v":8.5000000000000062E-2},0.9575232891774641,null,0.9575232891774641,null,0.91685084931722949,null,8.3221992191308367E-2,8.2610564226317476E-2,1,null,8.2610564226317476E-2]
[{"$f":"A98+Model!$C$48","v":8.6000000000000063E-2},0.95630336235910096,null,0.95630336235910096,null,0.91451612085932199,null,8.4137675676396642E-2,0,0,null,8.2610564226317476E-2]
[{"$f":"A99+Model!$C$48","v":8.7000000000000063E-2},0.95507583400651763,null,0.95507583400651763,null,0.91216984870324525,null,8.5051018661177924E-2,8.4442709439313327E-2,1,null,8.4442709439313327E-2]
[{"$f":"A100+Model!$C$48","v":8.8000000000000064E-2},0.95384107685221597,null,0.95384107685221597,null,0.90981279989059494,null,8.5962009985474847E-2,0,0,null,8.4442709439313327E-2]
[{"$f":"A101+Model!$C$48","v":8.9000000000000065E-2},0.95259945365727805,null,0.95259945365727805,null,0.90744571910814464,null,8.6870639244974221E-2,8.6265477770844715E-2,1,null,8.6265477770844715E-2]
[{"$f":"A102+Model!$C$48","v":9.0000000000000066E-2},0.95135131733662393,null,0.95135131733662393,null,0.90506932899812975,null,8.7776896769027363E-2,0,0,null,8.6265477770844715E-2]
[{"$f":"A103+Model!$C$48","v":9.1000000000000067E-2},0.95009701109595934,null,0.95009701109595934,null,0.90268433049347552,null,8.868077359877316E-2,8.807878494898766E-2,1,null,8.807878494898766E-2]
[{"$f":"A104+Model!$C$48","v":9.2000000000000068E-2},0.94883686857876559,null,0.94883686857876559,null,0.90029140317435774,null,8.9582261465607077E-2,0,0,null,8.807878494898766E-2]
[{"$f":"A105+Model!$C$48","v":9.3000000000000069E-2},0.94757121402183486,null,0.94757121402183486,null,0.89789120564281399,null,9.0481352770015663E-2,8.9882558325095202E-2,1,null,8.9882558325095202E-2]
[{"$f":"A106+Model!$C$48","v":9.400000000000007E-2},0.94630036958209651,null,0.94630036958209651,null,0.89548438947121245,null,9.1378040567572677E-2,0,0,null,8.9882558325095202E-2]
[{"$f":"A107+Model!$C$48","v":9.500000000000007E-2},0.94502462758006267,null,0.94502462758006267,null,0.89307154673283617,null,9.2272318535674705E-2,9.1676736192266434E-2,1,null,9.1676736192266434E-2]
[{"$f":"A108+Model!$C$48","v":9.6000000000000071E-2},0.94374429152555961,null,0.94374429152555961,null,0.89065328778708042,null,9.3164180952934661E-2,0,0,null,9.1676736192266434E-2]
[{"$f":"A109+Model!$C$48","v":9.7000000000000072E-2},0.94245964971411467,null,0.94245964971411467,null,0.88823019133925174,null,9.4053622692497826E-2,9.3461267113101598E-2,1,null,9.3461267113101598E-2]
[{"$f":"A110+Model!$C$48","v":9.8000000000000073E-2},0.94117098189757764,null,0.94117098189757764,null,0.88580281716605047,null,9.4940639196750484E-2,0,0,null,9.3461267113101598E-2]
[{"$f":"A111+Model!$C$48","v":9.9000000000000074E-2},0.93987855946670673,null,0.93987855946670673,null,0.8833717065452118,null,9.5825226458606111E-2,9.5236109246331302E-2,1,null,9.5236109246331302E-2]
[{"$f":"A112+Model!$C$48","v":0.10000000000000007},0.93858264563520544,null,0.93858264563520544,null,0.88093738268758159,null,9.6707381003222515E-2,0,0,null,9.5236109246331302E-2]
[{"$f":"A113+Model!$C$48","v":0.10100000000000008},0.93728349562456659,null,0.93728349562456659,null,0.87850035117020697,null,9.7587099870151406E-2,9.7001229776849968E-2,1,null,9.7001229776849968E-2]
[{"$f":"A114+Model!$C$48","v":0.10200000000000008},0.93598135684914607,null,0.93598135684914607,null,0.87606110036916851,null,9.8464380595921094E-2,0,0,null,9.7001229776849968E-2]
[{"$f":"A115+Model!$C$48","v":0.10300000000000008},0.9346764691009587,null,0.9346764691009587,null,0.87362010189103545,null,9.93392211970512E-2,9.8756604311989696E-2,1,null,9.8756604311989696E-2]
[{"$f":"A116+Model!$C$48","v":0.10400000000000008},0.93336906473373882,null,0.93336906473373882,null,0.87117781100193437,null,0.10021162015349769,0,0,null,9.8756604311989696E-2]
[{"$f":"A117+Model!$C$48","v":0.10500000000000008},0.93205936884586771,null,0.93205936884586771,null,0.86873466705335722,null,0.10108157639252534,0.10050221632184569,1,null,0.10050221632184569]
[{"$f":"A118+Model!$C$48","v":0.10600000000000008},0.93074760927342115,null,0.93074760927342115,null,0.86629111216818899,null,0.10194908928213611,0,0,null,0.10050221632184569]
[{"$f":"A119+Model!$C$48","v":0.10700000000000008},0.92943397838436714,null,0.92943397838436714,null,0.86384752017539224,null,0.10281415859830791,0.10223805661936231,1,null,0.10223805661936231]
[{"$f":"A120+Model!$C$48","v":0.10800000000000008},0.92811868960439037,null,0.92811868960439037,null,0.86140430199297069,null,0.10367678450939209,0,0,null,0.10223805661936231]
[{"$f":"A121+Model!$C$48","v":0.10900000000000008},0.92680194080890677,null,0.92680194080890677,null,0.85896183748715627,null,0.10453696757913215,0.10396412284759148,1,null,0.10396412284759148]
[{"$f":"A122+Model!$C$48","v":0.11000000000000008},0.92548392350478259,null,0.92548392350478259,null,0.85652049266580632,null,0.10539470874420863,0,0,null,0.10396412284759148]
[{"$f":"A123+Model!$C$48","v":0.11100000000000008},0.92416482300042169,null,0.92416482300042169,null,0.85408062007140073,null,0.10625000930057724,0.10568041895935155,1,null,0.10568041895935155]
[{"$f":"A124+Model!$C$48","v":0.11200000000000009},0.92284481857302492,null,0.92284481857302492,null,0.85164255916707932,null,0.10710287089019647,0,0,null,0.10568041895935155]
[{"$f":"A125+Model!$C$48","v":0.11300000000000009},0.92152408363290461,null,0.92152408363290461,null,0.84920663671546459,null,0.10795329548813774,0.10738695482555814,1,null,0.10738695482555814]
[{"$f":"A126+Model!$C$48","v":0.11400000000000009},0.92020278588474891,null,0.92020278588474891,null,0.84677316715005302,null,0.1088012853900705,0,0,null,0.10738695482555814]
[{"$f":"A127+Model!$C$48","v":0.11500000000000009},0.91888108748575625,null,0.91888108748575625,null,0.84434245293900601,null,0.10964684320011503,0.10908374578594547,1,null,0.10908374578594547]
[{"$f":"A128+Model!$C$48","v":0.11600000000000009},0.91755914520057535,null,0.91755914520057535,null,0.84191478494121053,null,0.11048997181905514,0,0,null,0.10908374578594547]
[{"$f":"A129+Model!$C$48","v":0.11700000000000009},0.91623711055300261,null,0.91623711055300261,null,0.83949044275451512,null,0.111330674432903,0.11077081224649162,1,null,0.11077081224649162]
[{"$f":"A130+Model!$C$48","v":0.11800000000000009},0.91491512997440294,null,0.91491512997440294,null,0.83706969505607864,null,0.11216895450180829,0,0,null,0.11077081224649162]
[{"$f":"A131+Model!$C$48","v":0.11900000000000009},0.91359335843818767,null,0.91359335843818767,null,0.83465282458236689,null,0.11300481576162752,0.11244817930020169,1,null,0.11244817930020169]
[{"$f":"A132+Model!$C$48","v":0.12000000000000009},0.912271906667524,null,0.912271906667524,null,0.83224003169479965,null,0.1138382621897661,0,0,null,0.11244817930020169]
[{"$f":"A133+Model!$C$48","v":0.12100000000000009},0.91095091920307614,null,0.91095091920307614,null,0.82983157719692935,null,0.11466929799421197,0.11411587642077471,1,null,0.11411587642077471]
[{"$f":"A134+Model!$C$48","v":0.12200000000000009},0.90963052352755891,null,0.90963052352755891,null,0.82742768933302091,null,0.11549792762747695,0,0,null,0.11411587642077471]
[{"$f":"A135+Model!$C$48","v":0.1230000000000001},0.9083108427238985,null,0.9083108427238985,null,0.82502858700979864,null,0.11632415576564836,0.1157739369832593,1,null,0.1157739369832593]
[{"$f":"A136+Model!$C$48","v":0.1240000000000001},0.90699199560388899,null,0.90699199560388899,null,0.822634480089525,null,0.11714798729919802,0,0,null,0.1157739369832593]
[{"$f":"A137+Model!$C$48","v":0.12500000000000008},0.90567409683361322,null,0.90567409683361322,null,0.82024556967538098,null,0.11796942732408046,0.11742239808599869,1,null,0.11742239808599869]
[{"$f":"A138+Model!$C$48","v":0.12600000000000008},0.90435725705566683,null,0.90435725705566683,null,0.81786204838924947,null,0.11878848113311277,0,0,null,0.11742239808599869]
[{"$f":"A139+Model!$C$48","v":0.12700000000000009},0.90304158300822313,null,0.90304158300822313,null,0.8154841006419975,null,0.11960515420762839,0.1190613002111587,1,null,0.1190613002111587]
[{"$f":"A140+Model!$C$48","v":0.12800000000000009},0.90172717764098043,null,0.90172717764098043,null,{"$f":"B141*D141","v":0.81311190289636825},null,0.12041945220939758,0,0,null,0.1190613002111587]
[{"$f":"A141+Model!$C$48","v":0.12900000000000009},{"$f":"ERF($B$10/SQRT(A142))","v":0.90041414022804123},null,{"$f":"IF($B$11>0,ERF($B$11/SQRT(A142)),-ERF(-$B$11/SQRT(A142)))","v":0.90041414022804123},null,0.81074562392260274,null,{"$f":"0.5*(F142+F141)*(A142-A141)+H141","v":0.12123138097280707},0.12069068694727894,1,null,0.12069068694727894]
[{"$f":"A142+Model!$C$48","v":0.13000000000000009},0.89910256647777098,null,0.89910256647777098,null,0.80838542504691457,null,0.12204094649729183,0,{"$f":"IF(J142=1,0,1)","v":0},null,0.12069068694727894]
[{"$f":"A143+Model!$C$48","v":0.13100000000000009},0.89779254863968805,null,0.89779254863968805,null,0.8060314603929466,null,0.12284815494001176,0.12231060472920702,1,null,0.12231060472920702]
[{"$f":"A144+Model!$C$48","v":0.13200000000000009},0.89648419294385473,null,0.89648419294385473,null,0.80368390819819457,null,0.12365301262430733,{"$f":"(I143+((A145-A144)/3)*(4*F143+2*F144))*J145","v":0},0,null,{"$f":"IF(J145=1,I145,I144)","v":0.12231060472920702}]
[{"$f":"A145+Model!$C$48","v":0.13300000000000009},0.89517755151718825,null,0.89517755151718825,null,0.80134284874030826,null,0.12445552600277658,0.12392110261519641,1,null,0.12392110261519641]
[{"$f":"A146+Model!$C$48","v":0.13400000000000009},0.89387272308624777,null,0.89387272308624777,null,0.79900844507762381,null,0.12525570164968555,0,0,null,0.12392110261519641]
[{"$f":"A147+Model!$C$48","v":0.13500000000000009},0.89256978707917378,null,0.89256978707917378,null,0.79668082480656166,null,0.12605354628462764,0.12552223204356858,1,null,0.12552223204356858]
[{"$f":"A148+Model!$C$48","v":0.13600000000000009},0.89126881995719798,null,0.89126881995719798,null,0.79436010942789614,null,0.12684906675174487,0,0,null,0.12552223204356858]
[{"$f":"A149+Model!$C$48","v":0.13700000000000009},0.88996989530490644,null,0.88996989530490644,null,0.79204641454902613,null,0.12764227001373332,0.12711404654959593,1,null,0.12711404654959593]
[{"$f":"A150+Model!$C$48","v":0.13800000000000009},0.88867308391793776,null,0.88867308391793776,null,0.78973985008021808,null,0.12843316314604794,0,0,null,0.12711404654959593]
[{"$f":"A151+Model!$C$48","v":0.1390000000000001},0.88737845388817349,null,0.88737845388817349,null,0.78744052042496526,null,0.12922175333130054,0.12869660166904812,1,null,0.12869660166904812]
[{"$f":"A152+Model!$C$48","v":0.1400000000000001},0.88608607068648448,null,0.88608607068648448,null,0.7851485246646136,null,0.13000804785384532,0,0,null,0.12869660166904812]
[{"$f":"A153+Model!$C$48","v":0.1410000000000001},0.88479599724308777,null,0.88479599724308777,null,0.78286395673739018,null,0.13079205409454631,0.13026995471272448,1,null,0.13026995471272448]
[{"$f":"A154+Model!$C$48","v":0.1420000000000001},0.88350829402557673,null,0.88350829402557673,null,0.78058690561198496,null,0.131573779525721,0,0,null,0.13026995471272448]
[{"$f":"A155+Model!$C$48","v":0.1430000000000001},0.88222301911468137,null,0.88222301911468137,null,0.77831745545582343,null,0.1323532317062549,0.13183416459211567,1,null,0.13183416459211567]
[{"$f":"A156+Model!$C$48","v":0.1440000000000001},0.88094024827485717,null,0.88094024827485717,null,0.77605572103056697,null,0.13313041829449809,0,0,null,0.13183416459211567]
[{"$f":"A157+Model!$C$48","v":0.1450000000000001},0.87965999624078961,null,0.87965999624078961,null,0.77380170898634604,null,0.13390534700950654,0.13338929168007715,1,null,0.13338929168007715]
[{"$f":"A158+Model!$C$48","v":0.1460000000000001},0.87838233321766224,null,0.87838233321766224,null,0.7715555233089042,null,0.13467802562565417,0,0,null,0.13338929168007715]
[{"$f":"A159+Model!$C$48","v":0.1470000000000001},0.87710730845511231,null,0.87710730845511231,null,0.76931723054537149,null,0.13544846200258132,0.13493539764093154,1,null,0.13493539764093154]
[{"$f":"A160+Model!$C$48","v":0.1480000000000001},0.87583496916272341,null,0.87583496916272341,null,0.76708689320826862,null,0.13621666406445815,0,0,null,0.13493539764093154]
[{"$f":"A161+Model!$C$48","v":0.1490000000000001},0.87456536057336109,null,0.87456536057336109,null,0.76486456991481311,null,0.13698263979601968,0.13647254521046423,1,null,0.13647254521046423]
[{"$f":"A162+Model!$C$48","v":0.15000000000000011},0.8732985260046271,null,0.8732985260046271,null,0.76265031552185436,null,0.13774639723873802,0,0,null,0.13647254521046423]
[{"$f":"A163+Model!$C$48","v":0.15100000000000011},0.87203450691848394,null,0.87203450691848394,null,0.76044418125656343,null,0.13850794448712722,0.13800079818069855,1,null,0.13800079818069855]
[{"$f":"A164+Model!$C$48","v":0.15200000000000011},0.87077334297910491,null,0.87077334297910491,null,0.75824621484300592,null,0.13926728968517701,0,0,null,0.13800079818069855]
[{"$f":"A165+Model!$C$48","v":0.15300000000000011},0.8695150721089947,null,0.8695150721089947,null,0.75605646062471021,null,0.14002444102291087,0.13952022123226931,1,null,0.13952022123226931]
[{"$f":"A166+Model!$C$48","v":0.15400000000000011},0.86825973054343109,null,0.86825973054343109,null,0.75387495968335161,null,0.14077940673306491,0,0,null,0.13952022123226931]
[{"$f":"A167+Model!$C$48","v":0.15500000000000011},0.86700735288327668,null,0.86700735288327668,null,0.75170174995366668,null,0.14153219508788342,0.14103087981955784,1,null,0.14103087981955784]
[{"$f":"A168+Model!$C$48","v":0.15600000000000011},0.86575797214620676,null,0.86575797214620676,null,0.74953686633471206,null,0.14228281439602761,0,0,null,0.14103087981955784]
[{"$f":"A169+Model!$C$48","v":0.15700000000000011},0.86451164350642928,null,0.86451164350642928,null,0.74738038175818744,null,0.14303127302007407,0.14253284006371919,1,null,0.14253284006371919]
[{"$f":"A170+Model!$C$48","v":0.15800000000000011},0.86326835086721987,null,0.86326835086721987,null,0.74523224560900947,null,0.14377757933375768,0,0,null,0.14253284006371919]
[{"$f":"A171+Model!$C$48","v":0.15900000000000011},0.86202814525063109,null,0.86202814525063109,null,0.74309252320424313,null,0.14452174171816431,0.14402616873646945,1,null,0.14402616873646945]
[{"$f":"A172+Model!$C$48","v":0.16000000000000011},0.86079105382557874,null,0.86079105382557874,null,0.74096123834615035,null,0.14526376859893952,0,0,null,0.14402616873646945]
[{"$f":"A173+Model!$C$48","v":0.16100000000000012},0.85955710241175809,null,0.85955710241175809,null,0.73883841230649761,null,0.14600366842426585,0.14551093292630587,1,null,0.14551093292630587]
[{"$f":"A174+Model!$C$48","v":0.16200000000000012},0.85832631552228422,null,0.85832631552228422,null,0.73672406391805978,null,0.14674144966237812,0,0,null,0.14551093292630587]
[{"$f":"A175+Model!$C$48","v":0.16300000000000012},0.85709871640504665,null,0.85709871640504665,null,0.73461820966317859,null,0.14747712079916875,0.14698720018532657,1,null,0.14698720018532657]
[{"$f":"A176+Model!$C$48","v":0.16400000000000012},0.85587432708281208,null,0.85587432708281208,null,0.73252086375945635,null,0.14821069033588008,0,0,null,0.14698720018532657]
[{"$f":"A177+Model!$C$48","v":0.16500000000000012},0.85465316839211691,null,0.85465316839211691,null,0.7304320382426841,null,0.14894216678688116,0.14845503837405044,1,null,0.14845503837405044]
[{"$f":"A178+Model!$C$48","v":0.16600000000000012},0.85343526002098158,null,0.85343526002098158,null,0.72835174304708039,null,0.14967155867752605,0,0,null,0.14845503837405044]
[{"$f":"A179+Model!$C$48","v":0.16700000000000012},0.85222062054548386,null,0.85222062054548386,null,0.72627998608292954,null,0.15039887454209105,0.14991451558707208,1,null,0.14991451558707208]
[{"$f":"A180+Model!$C$48","v":0.16800000000000012},0.8510092674652272,null,0.8510092674652272,null,0.72421677331170264,null,0.15112412292178837,0,0,null,0.14991451558707208]
[{"$f":"A181+Model!$C$48","v":0.16900000000000012},0.84980121723773017,null,0.84980121723773017,null,0.72216210881872789,null,0.15184731236285359,0.15136570008405711,1,null,0.15136570008405711]
[{"$f":"A182+Model!$C$48","v":0.17000000000000012},0.84859648531178067,null,0.84859648531178067,null,0.72011599488350719,null,0.15256845141470471,0,0,null,0.15136570008405711]
[{"$f":"A183+Model!$C$48","v":0.17100000000000012},0.84739511474289375,null,0.84739511474289375,null,0.71807848049012202,null,0.15328754865239153,0.15280866022573775,1,null,0.15280866022573775]
[{"$f":"A184+Model!$C$48","v":0.17200000000000013},0.84619706328889577,null,0.84619706328889577,null,0.71604946991875151,null,0.15400461262759596,0,0,null,0.15280866022573775]
[{"$f":"A185+Model!$C$48","v":0.17300000000000013},0.84500237080385088,null,0.84500237080385088,null,0.71402900666412872,null,0.1547196518658874,0.15424346451300375,1,null,0.15424346451300375]
[{"$f":"A186+Model!$C$48","v":0.17400000000000013},0.84381104901697068,null,0.84381104901697068,null,0.71201708644312045,null,0.15543267491244103,0,0,null,0.15424346451300375]
[{"$f":"A187+Model!$C$48","v":0.17500000000000013},0.8426231088009577,null,0.8426231088009577,null,0.71001370348539061,null,0.1561436903074053,0.15567018124618467,1,null,0.15567018124618467]
[{"$f":"A188+Model!$C$48","v":0.17600000000000013},0.8414385601997344,null,0.8414385601997344,null,0.708018850591002,null,0.1568527065844435,0,0,null,0.15567018124618467]
[{"$f":"A189+Model!$C$48","v":0.17700000000000013},0.84025741245533092,null,0.84025741245533092,null,0.70603251918612808,null,0.15755973226933206,0.15708887875122587,1,null,0.15708887875122587]
[{"$f":"A190+Model!$C$48","v":0.17800000000000013},0.83907967403395811,null,0.83907967403395811,null,0.70405469937693343,null,0.15826477587861359,0,0,null,0.15708887875122587]
[{"$f":"A191+Model!$C$48","v":0.17900000000000013},0.83790535265129074,null,0.83790535265129074,null,0.70208538000168386,null,0.1589678459183029,0.15849962524305866,1,null,0.15849962524305866]
[{"$f":"A192+Model!$C$48","v":0.18000000000000013},0.83673445529698443,null,0.83673445529698443,null,0.70012454868114127,null,0.15966895088264432,0,0,null,0.15849962524305866]
[{"$f":"A193+Model!$C$48","v":0.18100000000000013},0.83556698825844988,null,0.83556698825844988,null,0.69817219186729651,null,0.16036809925291853,0.15990248878218166,1,null,0.15990248878218166]
[{"$f":"A194+Model!$C$48","v":0.18200000000000013},0.83440295714390589,null,0.83440295714390589,null,0.69622829489049487,null,0.16106529949629744,0,0,null,0.15990248878218166]
[{"$f":"A195+Model!$C$48","v":0.18300000000000013},0.83324236690473596,null,0.83324236690473596,null,0.69429284200500663,null,0.16176056006474521,0.16129753723459839,1,null,0.16129753723459839]
[{"$f":"A196+Model!$C$48","v":0.18400000000000014},0.83208525383603449,null,0.83208525383603449,null,0.69236586965137792,null,0.1624538894205734,0,0,null,0.16129753723459839]
[{"$f":"A197+Model!$C$48","v":0.18500000000000014},0.83093155911565919,null,0.83093155911565919,null,0.69044725593438028,null,0.16314529598336627,0.16268483827037264,1,null,0.16268483827037264]
[{"$f":"A198+Model!$C$48","v":0.18600000000000014},0.82978131644890962,null,0.82978131644890962,null,0.68853703312768544,null,0.16383478812789731,0,0,null,0.16268483827037264]
[{"$f":"A199+Model!$C$48","v":0.18700000000000014},0.82863452837151486,null,0.82863452837151486,null,0.68663518160948289,null,0.16452237423526589,0.16406445930037028,1,null,0.16406445930037028]
[{"$f":"A200+Model!$C$48","v":0.18800000000000014},0.82749119686441386,null,0.82749119686441386,null,0.68474168088810017,null,0.16520806266651469,0,0,null,0.16406445930037028]
[{"$f":"A201+Model!$C$48","v":0.18900000000000014},0.82635132337234585,null,0.82635132337234585,null,0.68285650963922728,null,0.16589186176177836,0.16543646732977499,1,null,0.16543646732977499]
[{"$f":"A202+Model!$C$48","v":0.19000000000000014},0.82521490882187576,null,0.82521490882187576,null,0.68097964574189673,null,0.16657377983946892,0,0,null,0.16543646732977499]
[{"$f":"A203+Model!$C$48","v":0.19100000000000014},0.82408195363887871,null,0.82408195363887871,null,0.67911106631327101,null,0.1672538251954965,0.16680092910645522,1,null,0.16680092910645522]
[{"$f":"A204+Model!$C$48","v":0.19200000000000014},0.82295245776549153,null,0.82295245776549153,null,{"$f":"B205*D205","v":0.67725074774226313},null,0.16793200610252426,0,0,null,0.16680092910645522]
[{"$f":"A205+Model!$C$48","v":0.19300000000000014},{"$f":"ERF($B$10/SQRT(A206))","v":0.82182642067655332},null,{"$f":"IF($B$11>0,ERF($B$11/SQRT(A206)),-ERF(-$B$11/SQRT(A206)))","v":0.82182642067655332},null,0.67539866572203522,null,{"$f":"0.5*(F206+F205)*(A206-A205)+H205","v":0.16860833080925641},0.16815791102670108,1,null,0.16815791102670108]
[{"$f":"A206+Model!$C$48","v":0.19400000000000014},0.82070384139554897,null,0.82070384139554897,null,0.67355479528141038,null,0.16928280753975813,0,{"$f":"IF(J206=1,0,1)","v":0},null,0.16815791102670108]
[{"$f":"A207+Model!$C$48","v":0.19500000000000015},0.81958471851007153,null,0.81958471851007153,null,0.67171911081523317,null,0.16995544449280645,0.16950747911118474,1,null,0.16950747911118474]
[{"$f":"A208+Model!$C$48","v":0.19600000000000015},0.81846905018681404,null,0.81846905018681404,null,0.66989158611370547,null,0.17062624984127092,{"$f":"(I207+((A209-A208)/3)*(4*F207+2*F208))*J209","v":0},0,null,{"$f":"IF(J209=1,I209,I208)","v":0.16950747911118474}]
[{"$f":"A209+Model!$C$48","v":0.19700000000000015},0.8173568693213018,null,0.8173568693213018,null,0.66807225182671959,null,0.17129523176024114,0.17084969898301419,1,null,0.17084969898301419]
[{"$f":"A210+Model!$C$48","v":0.19800000000000015},0.81624810446563933,null,0.81624810446563933,null,0.66626096804374924,null,0.17196239837017638,0,0,null,0.17084969898301419]
[{"$f":"A211+Model!$C$48","v":0.19900000000000015},0.81514278633836612,null,0.81514278633836612,null,0.66445776211947516,null,0.17262775773525799,0.17218463596414565,1,null,0.17218463596414565]
[{"$f":"A212+Model!$C$48","v":0.20000000000000015},0.81404091156483727,null,0.81404091156483727,null,0.66266260570131119,null,0.17329131791916838,0,0,null,0.17218463596414565]
[{"$f":"A213+Model!$C$48","v":0.20100000000000015},0.81294247641796669,null,0.81294247641796669,null,0.66087546996457636,null,0.17395308695700132,0.17351235471743917,1,null,0.17351235471743917]
[{"$f":"A214+Model!$C$48","v":0.20200000000000015},0.8118474768306998,null,0.8118474768306998,null,0.65909632563637366,null,0.17461307285480179,0,0,null,0.17351235471743917]
[{"$f":"A215+Model!$C$48","v":0.20300000000000015},0.81075590840811018,null,0.81075590840811018,null,0.65732514301865996,null,0.1752712835891293,0.17483291956114952,1,null,0.17483291956114952]
[{"$f":"A216+Model!$C$48","v":0.20400000000000015},0.80966776643912897,null,0.80966776643912897,null,0.65556189201052795,null,0.17592772710664389,0,0,null,0.17483291956114952]
[{"$f":"A217+Model!$C$48","v":0.20500000000000015},0.80858304590792285,null,0.80858304590792285,null,0.6538065421297341,null,0.17658241132371402,0.17614639434651475,1,null,0.17614639434651475]
[{"$f":"A218+Model!$C$48","v":0.20600000000000016},0.8075017415049246,null,0.8075017415049246,null,0.65205906253348611,null,0.17723534412604564,0,0,null,0.17614639434651475]
[{"$f":"A219+Model!$C$48","v":0.20700000000000016},0.80642384763753405,null,0.80642384763753405,null,0.65031942203852477,null,0.17788653336833163,0.17745284244437673,1,null,0.17745284244437673]
[{"$f":"A220+Model!$C$48","v":0.20800000000000016},0.80534935844049416,null,0.80534935844049416,null,0.64858758914051551,null,0.17853598687392114,0,0,null,0.17745284244437673]
[{"$f":"A221+Model!$C$48","v":0.20900000000000016},0.80427826778595235,null,0.80427826778595235,null,0.64686353203277203,null,0.17918371243450779,0.17875232673318844,1,null,0.17875232673318844]
[{"$f":"A222+Model!$C$48","v":0.21000000000000016},0.80321056929322032,null,0.80321056929322032,null,0.6451472186243391,null,0.17982971780983634,0,0,null,0.17875232673318844]
[{"$f":"A223+Model!$C$48","v":0.21100000000000016},0.80214629584112573,null,0.80214629584112573,null,0.64343867993163884,null,0.18047401075911432,0.18004490958831504,1,null,0.18004490958831504]
[{"$f":"A224+Model!$C$48","v":0.21200000000000016},0.80108536307301614,null,0.80108536307301614,null,0.6417377589298261,null,0.18111659897854504,0,0,null,0.18004490958831504]
[{"$f":"A225+Model!$C$48","v":0.21300000000000016},0.80002780194685652,null,0.80002780194685652,null,0.64004448388791868,null,0.1817574900999539,0.18133065300084378,1,null,0.18133065300084378]
[{"$f":"A226+Model!$C$48","v":0.21400000000000016},0.79897360516346072,null,0.79897360516346072,null,0.6383588217478976,null,0.18239669175277182,0,0,null,0.18133065300084378]
[{"$f":"A227+Model!$C$48","v":0.21500000000000016},0.79792276521536176,null,0.79792276521536176,null,0.63668073924892932,null,0.18303421153327024,0.1826096181938596,1,null,0.1826096181938596]
[{"$f":"A228+Model!$C$48","v":0.21600000000000016},0.79687527439492856,null,0.79687527439492856,null,0.63501020294199273,null,0.1836700570043657,0,0,null,0.1826096181938596]
[{"$f":"A229+Model!$C$48","v":0.21700000000000016},0.79583112480223839,null,0.79583112480223839,null,0.63334717920399597,null,0.18430423569543869,0.18388186598148618,1,null,0.18388186598148618]
[{"$f":"A230+Model!$C$48","v":0.21800000000000017},0.79479030835270736,null,0.79479030835270736,null,0.63169163425139163,null,0.18493675510216639,0,0,null,0.18388186598148618]
[{"$f":"A231+Model!$C$48","v":0.21900000000000017},0.79375281678449405,null,0.79375281678449405,null,0.6300435341533186,null,0.18556762268636876,0.1851474566432591,1,null,0.1851474566432591]
[{"$f":"A232+Model!$C$48","v":0.22000000000000017},0.79271864166567529,null,0.79271864166567529,null,0.62840284484427333,null,0.18619684587586754,0,0,null,0.1851474566432591]
[{"$f":"A233+Model!$C$48","v":0.22100000000000017},0.79168777440120741,null,0.79168777440120741,null,0.62676953213633713,null,0.18682443206435784,0.18640644991869304,1,null,0.18640644991869304]
[{"$f":"A234+Model!$C$48","v":0.22200000000000017},0.79066020623967292,null,0.79066020623967292,null,0.62514356173096208,null,0.18745038861129149,0,0,null,0.18640644991869304]
[{"$f":"A235+Model!$C$48","v":0.22300000000000017},0.78963592827982565,null,0.78963592827982565,null,0.62352489923034193,null,0.18807472284177212,0.18765890500269547,1,null,0.18765890500269547]
[{"$f":"A236+Model!$C$48","v":0.22400000000000017},0.78861493147693573,null,0.78861493147693573,null,0.62191351014837204,null,0.18869744204646149,0,0,null,0.18765890500269547]
[{"$f":"A237+Model!$C$48","v":0.22500000000000017},0.78759725030452765,null,0.78759725030452765,null,0.62030942868725281,null,0.18931855351587931,0.18890488054176818,1,null,0.18890488054176818]
[{"$f":"A238+Model!$C$48","v":0.22600000000000017},0.78658278968263029,null,0.78658278968263029,null,0.61871248502490894,null,0.1899380644727354,0,0,null,0.18890488054176818]
[{"$f":"A239+Model!$C$48","v":0.22700000000000017},0.78557158232681701,null,0.78557158232681701,null,0.61712271095945903,null,0.19055598207072758,0.19014443477003445,1,null,0.19014443477003445]
[{"$f":"A240+Model!$C$48","v":0.22800000000000017},0.78456361867899904,null,0.78456361867899904,null,0.61554007175468584,null,0.19117231346208466,0,0,null,0.19014443477003445]
[{"$f":"A241+Model!$C$48","v":0.22900000000000018},0.78355888906655846,null,0.78355888906655846,null,0.61396453263521922,null,0.19178706576427962,0.19137762509915018,1,null,0.19137762509915018]
[{"$f":"A242+Model!$C$48","v":0.23000000000000018},0.78255738370761974,null,0.78255738370761974,null,0.61239605879531478,null,0.19240024605999489,0,0,null,0.19137762509915018]
[{"$f":"A243+Model!$C$48","v":0.23100000000000018},0.78155909271615875,null,0.78155909271615875,null,0.61083461540730521,null,0.1930118613970962,0.19260450851519403,1,null,0.19260450851519403]
[{"$f":"A244+Model!$C$48","v":0.23200000000000018},0.78056400610695775,null,0.78056400610695775,null,0.6092801676297428,null,0.19362191878861473,0,0,null,0.19260450851519403]
[{"$f":"A245+Model!$C$48","v":0.23300000000000018},0.77957211380040514,null,0.77957211380040514,null,0.60773268061523178,null,0.19423042521273723,0.19382514144749027,1,null,0.19382514144749027]
[{"$f":"A246+Model!$C$48","v":0.23400000000000018},0.77858340562715145,null,0.77858340562715145,null,0.60619211951797347,null,0.19483738761280384,0,0,null,0.19382514144749027]
[{"$f":"A247+Model!$C$48","v":0.23500000000000018},0.77759787133262137,null,0.77759787133262137,null,0.60465844950102399,null,0.19544281289731333,0.19503957976798925,1,null,0.19503957976798925]
[{"$f":"A248+Model!$C$48","v":0.23600000000000018},0.77661550058138706,null,0.77661550058138706,null,0.60313163574327844,null,0.19604670793993548,0,0,null,0.19503957976798925]
[{"$f":"A249+Model!$C$48","v":0.23700000000000018},0.77563628296140685,null,0.77563628296140685,null,0.60161164344618756,null,0.19664907957953021,0.1962478787911528,1,null,0.1962478787911528]
[{"$f":"A250+Model!$C$48","v":0.23800000000000018},0.7746602079881334,null,0.7746602079881334,null,0.6000984378402181,null,0.1972499346201734,0,0,null,0.1962478787911528]
[{"$f":"A251+Model!$C$48","v":0.23900000000000018},0.77368731267503843,null,0.77368731267503843,null,0.59859205779432267,null,0.19784927986799067,0.19745009327430785,1,null,0.19745009327430785]
[{"$f":"A252+Model!$C$48","v":0.24000000000000019},0.77271749283980451,null,0.77271749283980451,null,0.59709232374063337,null,0.19844712205875814,0,0,null,0.19745009327430785]
[{"$f":"A253+Model!$C$48","v":0.24100000000000019},0.77175078384302731,null,0.77175078384302731,null,0.59559927236232701,null,0.19904346785680962,0.19864627756719402,1,null,0.19864627756719402]
[{"$f":"A254+Model!$C$48","v":0.24200000000000019},0.77078717494952964,null,0.77078717494952964,null,0.59411286906667682,null,0.19963832392752412,0,0,null,0.19864627756719402]
[{"$f":"A255+Model!$C$48","v":0.24300000000000019},0.76982665537035289,null,0.76982665537035289,null,0.59263307931870413,null,0.2002316969017168,0.19983648517638825,1,null,0.19983648517638825]
[{"$f":"A256+Model!$C$48","v":0.24400000000000019},0.76886921426615706,null,0.76886921426615706,null,0.59115986864625769,null,0.20082359337569927,0,0,null,0.19983648517638825]
[{"$f":"A257+Model!$C$48","v":0.24500000000000019},0.76791484075051741,null,0.76791484075051741,null,0.58969320264489256,null,0.20141401991134486,0.20102076919457737,1,null,0.20102076919457737]
[{"$f":"A258+Model!$C$48","v":0.24600000000000019},0.76696352389311806,null,0.76696352389311806,null,0.58823304698254952,null,0.20200298303615857,0,0,null,0.20102076919457737]
[{"$f":"A259+Model!$C$48","v":0.24700000000000019},0.76601525272284321,null,0.76601525272284321,null,0.58677936740404135,null,0.20259048924335188,0.20219918216275892,1,null,0.20219918216275892]
[{"$f":"A260+Model!$C$48","v":0.24800000000000019},0.76507001623077497,null,0.76507001623077497,null,0.58533212973535831,null,0.20317654499192159,0,0,null,0.20219918216275892]
[{"$f":"A261+Model!$C$48","v":0.24900000000000019},0.76412780337309605,null,0.76412780337309605,null,0.58389129988779298,null,0.20376115670673317,0.20337177607245455,1,null,0.20337177607245455]
[{"$f":"A262+Model!$C$48","v":0.25000000000000017},0.76318860307389702,null,0.76318860307389702,null,0.58245684386188634,null,0.204344330778608,0,0,null,0.20337177607245455]
[{"$f":"A263+Model!$C$48","v":0.25100000000000017},0.76225240422790241,null,0.76225240422790241,null,0.5810287277512175,null,0.20492607356441456,0.20453860236821286,1,null,0.20453860236821286]
[{"$f":"A264+Model!$C$48","v":0.25200000000000017},0.7613191957031038,null,0.7613191957031038,null,0.57960691774602091,null,0.20550639138716317,0,0,null,0.20453860236821286]
[{"$f":"A265+Model!$C$48","v":0.25300000000000017},0.76038901756478583,null,0.76038901756478583,null,0.5781914580331402,null,0.20608529057505276,0.20569971195037851,1,null,0.20569971195037851]
[{"$f":"A266+Model!$C$48","v":0.25400000000000017},0.7594617577732431,null,0.7594617577732431,null,0.57678216152002415,null,0.20666277738482935,0,0,null,0.20569971195037851]
[{"$f":"A267+Model!$C$48","v":0.25500000000000017},0.75853745481042834,null,0.75853745481042834,null,0.57537907035028257,null,0.2072388580007645,0.20685515533543605,1,null,0.20685515533543605]
[{"$f":"A268+Model!$C$48","v":0.25600000000000017},0.75761609746281666,null,0.75761609746281666,null,{"$f":"B269*D269","v":0.57398215113478812},null,0.20781353861150703,0,0,null,0.20685515533543605]
[{"$f":"A269+Model!$C$48","v":0.25700000000000017},{"$f":"ERF($B$10/SQRT(A270))","v":0.75669767450213044},null,{"$f":"IF($B$11>0,ERF($B$11/SQRT(A270)),-ERF(-$B$11/SQRT(A270)))","v":0.75669767450213044},null,0.5725913705969321,null,{"$f":"0.5*(F270+F269)*(A270-A269)+H269","v":0.20838682537237288},0.20800498219665961,1,null,0.20800498219665961]
[{"$f":"A270+Model!$C$48","v":0.25800000000000017},0.75578217468750775,null,0.75578217468750775,null,0.57120669557537851,null,0.20895872440545904,0,{"$f":"IF(J270=1,0,1)","v":0},null,0.20800498219665961]
[{"$f":"A271+Model!$C$48","v":0.25900000000000017},0.75486958676760307,null,0.75486958676760307,null,0.5698280930266918,null,0.20952924179976007,0.20914924182117245,1,null,0.20914924182117245]
[{"$f":"A272+Model!$C$48","v":0.26000000000000018},0.75395989948261666,null,0.75395989948261666,null,0.56845553002783744,null,0.21009838361128733,{"$f":"(I271+((A273-A272)/3)*(4*F271+2*F272))*J273","v":0},0,null,{"$f":"IF(J273=1,I273,I272)","v":0.20914924182117245}]
[{"$f":"A273+Model!$C$48","v":0.26100000000000018},0.75305310156626093,null,0.75305310156626093,null,0.56708897377856526,null,0.21066615586319054,0.21028798296522661,1,null,0.21028798296522661]
[{"$f":"A274+Model!$C$48","v":0.26200000000000018},0.7521491817476611,null,0.7521491817476611,null,0.56572839160367616,null,0.21123256454588166,0,0,null,0.21028798296522661]
[{"$f":"A275+Model!$C$48","v":0.26300000000000018},0.7512481287531938,null,0.7512481287531938,null,0.56437375095517528,null,0.21179761561716109,0.21142125385800048,1,null,0.21142125385800048]
[{"$f":"A276+Model!$C$48","v":0.26400000000000018},0.75034993130826488,null,0.75034993130826488,null,0.56302501941431782,null,0.21236131500234584,0,0,null,0.21142125385800048]
[{"$f":"A277+Model!$C$48","v":0.26500000000000018},0.74945457813902983,null,0.74945457813902983,null,0.56168216469355114,null,0.21292366859439976,0.21254910220555026,1,null,0.21254910220555026]
[{"$f":"A278+Model!$C$48","v":0.26600000000000018},0.74856205797405573,null,0.74856205797405573,null,0.56034515463835355,null,0.21348468225406572,0,0,null,0.21254910220555026]
[{"$f":"A279+Model!$C$48","v":0.26700000000000018},0.74767241416126362,null,0.74767241416126362,null,0.55901403889773216,null,0.21404436185083375,0.21367157519490057,1,null,0.21367157519490057]
[{"$f":"A280+Model!$C$48","v":0.26800000000000018},0.74678552779258389,null,0.74678552779258389,null,0.5576886245204481,null,0.21460271318254284,0,0,null,0.21367157519490057]
[{"$f":"A281+Model!$C$48","v":0.26900000000000018},0.74590144068065678,null,0.74590144068065678,null,0.55636895920947937,null,0.21515974197440782,0.21478871966311117,1,null,0.21478871966311117]
[{"$f":"A282+Model!$C$48","v":0.27000000000000018},0.74502014157984553,null,0.74502014157984553,null,0.55505501135965307,null,0.21571545395969238,0,0,null,0.21478871966311117]
[{"$f":"A283+Model!$C$48","v":0.27100000000000019},0.744141619254444,null,0.744141619254444,null,0.55374674950662595,null,0.21626985484012554,0.21590058161629691,1,null,0.21590058161629691]
[{"$f":"A284+Model!$C$48","v":0.27200000000000019},0.7432658624800299,null,0.7432658624800299,null,0.55244414232818273,null,0.21682295028604295,0,0,null,0.21590058161629691]
[{"$f":"A285+Model!$C$48","v":0.27300000000000019},0.74239286004477412,null,0.74239286004477412,null,0.5511471586454596,null,0.21737474593652978,0.21700720671052454,1,null,0.21700720671052454]
[{"$f":"A286+Model!$C$48","v":0.27400000000000019},0.74152260075070053,null,0.74152260075070053,null,0.54985576742408282,null,0.21792524739956454,0,0,null,0.21700720671052454]
[{"$f":"A287+Model!$C$48","v":0.27500000000000019},0.74065507341490422,null,0.74065507341490422,null,0.5485699377752371,null,0.21847446025216419,0.21810864010033454,1,null,0.21810864010033454]
[{"$f":"A288+Model!$C$48","v":0.27600000000000019},0.73979026687073035,null,0.73979026687073035,null,0.54728963895666638,null,0.21902239004053015,0,0,null,0.21810864010033454]
[{"$f":"A289+Model!$C$48","v":0.27700000000000019},0.73892816996890387,null,0.73892816996890387,null,0.54601484037359327,null,0.21956904228019528,0.2192049264433393,1,null,0.2192049264433393]
[{"$f":"A290+Model!$C$48","v":0.27800000000000019},0.73806877157862893,null,0.73806877157862893,null,0.54474551157958628,null,0.22011442245617185,0,0,null,0.2192049264433393]
[{"$f":"A291+Model!$C$48","v":0.27900000000000019},0.73721206058864097,null,0.73721206058864097,null,0.54348162227735008,null,0.22065853602310032,0.22029610990489049,1,null,0.22029610990489049]
[{"$f":"A292+Model!$C$48","v":0.28000000000000019},0.7363580259082263,null,0.7363580259082263,null,0.54222314231946012,null,0.22120138840539871,0,0,null,0.22029610990489049]
[{"$f":"A293+Model!$C$48","v":0.28100000000000019},0.73550671421796165,null,0.73550671421796165,null,0.54097012665970234,null,0.22174298503988829,0.22138223416280658,1,null,0.22138223416280658]
[{"$f":"A294+Model!$C$48","v":0.28200000000000019},0.73465800055169839,null,0.73465800055169839,null,0.53972237777461929,null,0.22228333129210545,0,0,null,0.22138223416280658]
[{"$f":"A295+Model!$C$48","v":0.2830000000000002},0.73381193009009915,null,0.73381193009009915,null,0.53847994874255656,null,0.22282243245536404,0.22246334258353592,1,null,0.22246334258353592]
[{"$f":"A296+Model!$C$48","v":0.2840000000000002},0.7329684918346463,null,0.7329684918346463,null,0.53724281002235597,null,0.22336029383474651,0,0,null,0.22246334258353592]
[{"$f":"A297+Model!$C$48","v":0.2850000000000002},0.73212767481193752,null,0.73212767481193752,null,0.53601093222553409,null,0.22389692070587044,0.22353947772187424,1,null,0.22353947772187424]
[{"$f":"A298+Model!$C$48","v":0.2860000000000002},0.73128946807449768,null,0.73128946807449768,null,0.53478428611668172,null,0.22443231831504154,0,0,null,0.22353947772187424]
[{"$f":"A299+Model!$C$48","v":0.2870000000000002},0.73045386070156171,null,0.73045386070156171,null,0.53356284261381648,null,0.22496649187940679,0.22461068182225274,1,null,0.22461068182225274]
[{"$f":"A300+Model!$C$48","v":0.2880000000000002},0.72962084179982678,null,0.72962084179982678,null,0.53234657278868791,null,0.22549944658710805,0,0,null,0.22461068182225274]
[{"$f":"A301+Model!$C$48","v":0.2890000000000002},0.72879040050417632,null,0.72879040050417632,null,0.5311354478670377,null,0.2260311875974359,0.2256769966609303,1,null,0.2256769966609303]
[{"$f":"A302+Model!$C$48","v":0.2900000000000002},0.72796252597837408,null,0.72796252597837408,null,0.52992943922881497,null,0.22656172004098382,0,0,null,0.2256769966609303]
[{"$f":"A303+Model!$C$48","v":0.2910000000000002},0.72713720741573429,null,0.72713720741573429,null,0.52872851840835255,null,0.2270910490198024,0.22673846355090557,1,null,0.22673846355090557]
[{"$f":"A304+Model!$C$48","v":0.2920000000000002},0.72631443403976048,null,0.72631443403976048,null,0.52753265709449759,null,0.22761917960755382,0,0,null,0.22673846355090557]
[{"$f":"A305+Model!$C$48","v":0.2930000000000002},0.72549419510476432,null,0.72549419510476432,null,0.52634182713070987,null,0.22814611684966643,0.22779512334684637,1,null,0.22779512334684637]
[{"$f":"A306+Model!$C$48","v":0.29400000000000021},0.72467647989645312,null,0.72467647989645312,null,0.52515600051511446,null,0.22867186576348933,0,0,null,0.22779512334684637]
[{"$f":"A307+Model!$C$48","v":0.29500000000000021},0.72386133836355881,null,0.72386133836355881,null,0.52397523717748262,null,0.22919643138233564,0.22884701645003072,1,null,0.22884701645003072]
[{"$f":"A308+Model!$C$48","v":0.29600000000000021},0.72304864016360293,null,0.72304864016360293,null,0.52279933604243534,null,0.22971981866894561,0,0,null,0.22884701645003072]
[{"$f":"A309+Model!$C$48","v":0.29700000000000021},0.72223843377357477,null,0.72223843377357477,null,0.52162835521970641,null,0.23024203251457667,0.22989418299029565,1,null,0.22989418299029565]
[{"$f":"A310+Model!$C$48","v":0.29800000000000021},0.72143070861067704,null,0.72143070861067704,null,0.52046226732650358,null,0.23076307782584979,0,0,null,0.22989418299029565]
[{"$f":"A311+Model!$C$48","v":0.29900000000000021},0.72062545412611723,null,0.72062545412611723,null,0.51930104513447273,null,0.23128295948208027,0.23093666230880627,1,null,0.23093666230880627]
[{"$f":"A312+Model!$C$48","v":0.30000000000000021},0.7198226598055627,null,0.7198226598055627,null,0.51814466156955485,null,0.2318016823354323,0,0,null,0.23093666230880627]
[{"$f":"A313+Model!$C$48","v":0.30100000000000021},0.71902231516957582,null,0.71902231516957582,null,0.51699308971181679,null,0.232319251211073,0.2319744934766986,1,null,0.2319744934766986]
[{"$f":"A314+Model!$C$48","v":0.30200000000000021},0.71822440977402935,null,0.71822440977402935,null,0.51584630279525279,null,0.23283567090732654,0,0,null,0.2319744934766986]
[{"$f":"A315+Model!$C$48","v":0.30300000000000021},0.71742893321050227,null,0.71742893321050227,null,0.51470427420755938,null,0.23335094619582794,0.23300771513151119,1,null,0.23300771513151119]
[{"$f":"A316+Model!$C$48","v":0.30400000000000021},0.71663587510665838,null,0.71663587510665838,null,0.51356697748988611,null,0.23386508182167667,0,0,null,0.23300771513151119]
[{"$f":"A317+Model!$C$48","v":0.30500000000000022},0.71584522512660587,null,0.71584522512660587,null,0.51243438633656102,null,0.23437808250358991,0.23403636548211454,1,null,0.23403636548211454]
[{"$f":"A318+Model!$C$48","v":0.30600000000000022},0.71505697297123816,null,0.71505697297123816,null,0.51130647459479006,null,0.2348899529340556,0,0,null,0.23403636548211454]
[{"$f":"A319+Model!$C$48","v":0.30700000000000022},0.71427110837856045,null,0.71427110837856045,null,0.51018321626433727,null,0.23540069777948516,0.23506048231362647,1,null,0.23506048231362647]
[{"$f":"A320+Model!$C$48","v":0.30800000000000022},0.71348762112399788,null,0.71348762112399788,null,0.50906458549718159,null,0.23591032168036594,0,0,null,0.23506048231362647]
[{"$f":"A321+Model!$C$48","v":0.30900000000000022},0.71270650102068811,null,0.71270650102068811,null,0.50795055659715205,null,0.23641882925141311,0.23608010299231039,1,null,0.23608010299231039]
[{"$f":"A322+Model!$C$48","v":0.31000000000000022},0.71192780274229139,null,0.71192780274229139,null,0.50684119631746694,null,0.23692622512787043,0,0,null,0.23608010299231039]
[{"$f":"A323+Model!$C$48","v":0.31100000000000022},0.71115138811713829,null,0.71115138811713829,null,0.50573629682093268,null,0.23743251387443962,0.2370952645319849,1,null,0.2370952645319849]
[{"$f":"A324+Model!$C$48","v":0.31200000000000022},0.71037731034224461,null,0.71037731034224461,null,0.50463592304908167,null,0.23793769998437461,0,0,null,0.2370952645319849]
[{"$f":"A325+Model!$C$48","v":0.31300000000000022},0.70960555938464731,null,0.70960555938464731,null,0.50354004990959822,null,0.23844178797085394,0.2381060035431122,1,null,0.2381060035431122]
[{"$f":"A326+Model!$C$48","v":0.31400000000000022},0.70883612525033957,null,0.70883612525033957,null,0.5024486524599151,null,0.2389447823220387,0,0,null,0.2381060035431122]
[{"$f":"A327+Model!$C$48","v":0.31500000000000022},0.70806899798447742,null,0.70806899798447742,null,0.50136170590674189,null,0.23944668750122203,0.2391123560446316,1,null,0.2391123560446316]
[{"$f":"A328+Model!$C$48","v":0.31600000000000023},0.70730416767157434,null,0.70730416767157434,null,0.50027918560557849,null,0.23994750794697819,0,0,null,0.2391123560446316]
[{"$f":"A329+Model!$C$48","v":0.31700000000000023},0.70654162443568014,null,0.70654162443568014,null,0.49920106706020967,null,0.24044724807331108,0.24011435777624432,1,null,0.24011435777624432]
[{"$f":"A330+Model!$C$48","v":0.31800000000000023},0.70578135844055168,null,0.70578135844055168,null,0.4981273259221905,null,0.24094591226980228,0,0,null,0.24011435777624432]
[{"$f":"A331+Model!$C$48","v":0.31900000000000023},0.70502335988980902,null,0.70502335988980902,null,0.49705793799031517,null,0.24144350490175853,0.2411120440829394,1,null,0.2411120440829394]
[{"$f":"A332+Model!$C$48","v":0.32000000000000023},0.7042676190270819,null,0.7042676190270819,null,{"$f":"B333*D333","v":0.49599287921007496},null,0.24194003031035874,0,0,null,0.2411120440829394]
[{"$f":"A333+Model!$C$48","v":0.32100000000000023},{"$f":"ERF($B$10/SQRT(A334))","v":0.70351412613614295},null,{"$f":"IF($B$11>0,ERF($B$11/SQRT(A334)),-ERF(-$B$11/SQRT(A334)))","v":0.70351412613614295},null,0.49493212567310085,null,{"$f":"0.5*(F334+F333)*(A334-A333)+H333","v":0.24243549281280033},0.24210544991973321,1,null,0.24210544991973321]
[{"$f":"A334+Model!$C$48","v":0.32200000000000023},0.70276287154103412,null,0.70276287154103412,null,0.49387565361660002,null,0.24292989670244519,0,{"$f":"IF(J334=1,0,1)","v":0},null,0.24210544991973321]
[{"$f":"A335+Model!$C$48","v":0.32300000000000023},0.7020138456061773,null,0.7020138456061773,null,0.49282343942277373,null,0.24342324624896489,0.24309460985637507,1,null,0.24309460985637507]
[{"$f":"A336+Model!$C$48","v":0.32400000000000023},0.70126710594487052,null,0.70126710594487052,null,0.49177555388029426,null,0.24391554574561641,{"$f":"(I335+((A337-A336)/3)*(4*F335+2*F336))*J337","v":0},0,null,{"$f":"IF(J337=1,I337,I336)","v":0.24309460985637507}]
[{"$f":"A337+Model!$C$48","v":0.32500000000000023},0.7005225101483008,null,0.7005225101483008,null,0.49073178722447619,null,0.2444067994161688,0.24407955814485896,1,null,0.24407955814485896]
[{"$f":"A338+Model!$C$48","v":0.32600000000000023},0.69978011437722409,null,0.69978011437722409,null,0.48969220847780082,null,0.24489701141401993,0,0,null,0.24407955814485896]
[{"$f":"A339+Model!$C$48","v":0.32700000000000023},0.69903990915890146,null,0.69903990915890146,null,0.48865679459688521,null,0.24538618591555728,0.24506032866681013,1,null,0.24506032866681013]
[{"$f":"A340+Model!$C$48","v":0.32800000000000024},0.69830188506139979,null,0.69830188506139979,null,0.4876255226803044,null,0.24587432707419588,0,0,null,0.24506032866681013]
[{"$f":"A341+Model!$C$48","v":0.32900000000000024},0.69756603269364947,null,0.69756603269364947,null,0.48659836996795763,null,0.24636143902052002,0.24603695474139284,1,null,0.24603695474139284]
[{"$f":"A342+Model!$C$48","v":0.33000000000000024},0.6968323427054941,null,0.6968323427054941,null,0.48557531384042718,null,0.2468475258624242,0,0,null,0.24603695474139284]
[{"$f":"A343+Model!$C$48","v":0.33100000000000024},0.69610080578773192,null,0.69610080578773192,null,0.48455633181832969,null,0.24733259168525357,0.24700946944391039,1,null,0.24700946944391039]
[{"$f":"A344+Model!$C$48","v":0.33200000000000024},0.69537141267214664,null,0.69537141267214664,null,0.48354140156165687,null,0.24781664055194355,0,0,null,0.24700946944391039]
[{"$f":"A345+Model!$C$48","v":0.33300000000000024},0.69464415413153557,null,0.69464415413153557,null,0.48253050086911653,null,0.24829967650315893,0.24797790548737594,1,null,0.24797790548737594]
[{"$f":"A346+Model!$C$48","v":0.33400000000000024},0.69391902097972735,null,0.69391902097972735,null,0.48152360767746327,null,0.24878170355743223,0,0,null,0.24797790548737594]
[{"$f":"A347+Model!$C$48","v":0.33500000000000024},0.69319600407159321,null,0.69319600407159321,null,0.48052070006082426,null,0.24926272571130137,0.24894229522698641,1,null,0.24894229522698641]
[{"$f":"A348+Model!$C$48","v":0.33600000000000024},0.69247509430305021,null,0.69247509430305021,null,0.4795217562300183,null,0.24974274693944679,0,0,null,0.24894229522698641]
[{"$f":"A349+Model!$C$48","v":0.33700000000000024},0.6917562826110607,null,0.6917562826110607,null,0.47852675453187371,null,0.25022177119482775,0.24990267066455418,1,null,0.24990267066455418]
[{"$f":"A350+Model!$C$48","v":0.33800000000000024},0.69103955997362188,null,0.69103955997362188,null,0.47753567344853692,null,0.25069980240881795,0,0,null,0.24990267066455418]
[{"$f":"A351+Model!$C$48","v":0.33900000000000025},0.69032498831932565,null,0.69032498831932565,null,0.4765485894980771,null,0.25117684454029127,0.25085906345289571,1,null,0.25085906345289571]
[{"$f":"A352+Model!$C$48","v":0.34000000000000025},0.68961241845387555,null,0.68961241845387555,null,0.47556528768580314,null,0.2516529014788832,0,0,null,0.25085906345289571]
[{"$f":"A353+Model!$C$48","v":0.34100000000000025},0.6889019108502491,null,0.6889019108502491,null,0.47458584277312454,null,0.25212797704411266,0.25181150509735034,1,null,0.25181150509735034]
[{"$f":"A354+Model!$C$48","v":0.34200000000000025},0.6881934566507143,null,0.6881934566507143,null,0.47361023377685857,null,0.25260207508238763,0,0,null,0.25181150509735034]
[{"$f":"A355+Model!$C$48","v":0.34300000000000025},0.68748704703844488,null,0.68748704703844488,null,0.47263843984564091,null,0.25307519941919887,0.25276002637689909,1,null,0.25276002637689909]
[{"$f":"A356+Model!$C$48","v":0.34400000000000025},0.68678267323747377,null,0.68678267323747377,null,0.47167044025921068,null,0.25354735385925131,0,0,null,0.25276002637689909]
[{"$f":"A357+Model!$C$48","v":0.34500000000000025},0.68608032651265005,null,0.68608032651265005,null,0.47070621442770449,null,0.25401854218659475,0.25370465792353275,1,null,0.25370465792353275]
[{"$f":"A358+Model!$C$48","v":0.34600000000000025},0.68537999816958062,null,0.68537999816958062,null,0.46974574189093432,null,0.25448876816475408,0,0,null,0.25370465792353275]
[{"$f":"A359+Model!$C$48","v":0.34700000000000025},0.68468167955457615,null,0.68468167955457615,null,0.46878900231767529,null,0.25495803553685836,0.25464543003736367,1,null,0.25464543003736367]
[{"$f":"A360+Model!$C$48","v":0.34800000000000025},0.68398536205458638,null,0.68398536205458638,null,0.4678359755049436,null,0.25542634802576969,0,0,null,0.25464543003736367]
[{"$f":"A361+Model!$C$48","v":0.34900000000000025},0.68329103709713235,null,0.68329103709713235,null,0.4668866413772747,null,0.25589370933421079,0.25558237269079054,1,null,0.25558237269079054]
[{"$f":"A362+Model!$C$48","v":0.35000000000000026},0.682599001465651,null,0.682599001465651,null,0.46594139680190383,null,0.25636012335330038,0,0,null,0.25558237269079054]
[{"$f":"A363+Model!$C$48","v":0.35100000000000026},0.68190864299266341,null,0.68190864299266341,null,0.46499939738809565,null,0.25682559375039538,0.25651551581049487,1,null,0.25651551581049487]
[{"$f":"A364+Model!$C$48","v":0.35200000000000026},0.68122025171340606,null,0.68122025171340606,null,0.46406103134447629,null,0.25729012396476164,0,0,null,0.25651551581049487]
[{"$f":"A365+Model!$C$48","v":0.35300000000000026},0.68053381921866529,null,0.68053381921866529,null,0.46312627910034304,null,0.25775371761998406,0.25744488902790863,1,null,0.25744488902790863]
[{"$f":"A366+Model!$C$48","v":0.35400000000000026},0.67984933713941709,null,0.67984933713941709,null,0.46219512120890482,null,0.25821637832013866,0,0,null,0.25744488902790863]
[{"$f":"A367+Model!$C$48","v":0.35500000000000026},0.67916679714673889,null,0.67916679714673889,null,0.46126753834655959,null,0.25867810964991639,0.25837052081418171,1,null,0.25837052081418171]
[{"$f":"A368+Model!$C$48","v":0.35600000000000026},0.67848619095171148,null,0.67848619095171148,null,0.46034351131216228,null,0.25913891517474574,0,0,null,0.25837052081418171]
[{"$f":"A369+Model!$C$48","v":0.35700000000000026},0.67780751030532704,null,0.67780751030532704,null,0.459423021026306,null,0.25959879844091499,0.25929243987285189,1,null,0.25929243987285189]
[{"$f":"A370+Model!$C$48","v":0.35800000000000026},0.6771307469983846,null,0.6771307469983846,null,0.45850604853059035,null,0.26005776297569344,0,0,null,0.25929243987285189]
[{"$f":"A371+Model!$C$48","v":0.35900000000000026},0.67645588143516266,null,0.67645588143516266,null,0.45759255952822286,null,0.26051581227972287,0.26021067459990738,1,null,0.26021067459990738]
[{"$f":"A372+Model!$C$48","v":0.36000000000000026},0.67578292859009348,null,0.67578292859009348,null,0.45668256657380341,null,0.26097294984277386,0,0,null,0.26021067459990738]
[{"$f":"A373+Model!$C$48","v":0.36100000000000027},0.67511186868847872,null,0.67511186868847872,null,0.45577603524404975,null,0.2614291791436828,0.26112525305699419,1,null,0.26112525305699419]
[{"$f":"A374+Model!$C$48","v":0.36200000000000027},0.6744426936794552,null,0.6744426936794552,null,0.45487294705759945,null,0.26188450363483362,0,0,null,0.26112525305699419]
[{"$f":"A375+Model!$C$48","v":0.36300000000000027},0.67377539555141819,null,0.67377539555141819,null,0.45397328365047002,null,0.26233892675018766,0.2620362030686913,1,null,0.2620362030686913]
[{"$f":"A376+Model!$C$48","v":0.36400000000000027},0.67310996633190279,null,0.67310996633190279,null,0.45307702677533529,null,0.26279245190540057,0,0,null,0.2620362030686913]
[{"$f":"A377+Model!$C$48","v":0.36500000000000027},0.67244639808746676,null,0.67244639808746676,null,0.45218415830080783,null,0.26324508249793865,0.2629435521314088,1,null,0.2629435521314088]
[{"$f":"A378+Model!$C$48","v":0.36600000000000027},0.67178468292356552,null,0.67178468292356552,null,0.45129466021071546,null,0.2636968219071944,0,0,null,0.2629435521314088]
[{"$f":"A379+Model!$C$48","v":0.36700000000000027},0.67112481298443249,null,0.67112481298443249,null,0.45040851460338949,null,0.26414767349460144,0.26384732744928369,1,null,0.26384732744928369]
[{"$f":"A380+Model!$C$48","v":0.36800000000000027},0.67046678045294839,null,0.67046678045294839,null,0.44952570369094208,null,0.26459764060374863,0,0,null,0.26384732744928369]
[{"$f":"A381+Model!$C$48","v":0.36900000000000027},0.66981057755051598,null,0.66981057755051598,null,0.4486462097985558,null,0.26504672656049338,0.26474755593788218,1,null,0.26474755593788218]
[{"$f":"A382+Model!$C$48","v":0.37000000000000027},0.66915619653693015,null,0.66915619653693015,null,0.4477700153637707,null,0.26549493467307456,0,0,null,0.26474755593788218]
[{"$f":"A383+Model!$C$48","v":0.37100000000000027},0.66850362971024313,null,0.66850362971024313,null,0.44689710293576984,null,0.26594226823222433,0.26564426422785609,1,null,0.26564426422785609]
[{"$f":"A384+Model!$C$48","v":0.37200000000000027},0.66785286940663247,null,0.66785286940663247,null,0.44602745517467246,null,0.26638873051127954,0,0,null,0.26564426422785609]
[{"$f":"A385+Model!$C$48","v":0.37300000000000028},0.66720390800026697,null,0.66720390800026697,null,0.44516105485082869,null,0.26683432476629226,0.26653747866855354,1,null,0.26653747866855354]
[{"$f":"A386+Model!$C$48","v":0.37400000000000028},0.66655673790316528,null,0.66655673790316528,null,0.44429788484410898,null,0.26727905423613973,0,0,null,0.26653747866855354]
[{"$f":"A387+Model!$C$48","v":0.37500000000000028},0.66591135156506065,null,0.66591135156506065,null,0.44343792814320582,null,0.26772292214263338,0.26742722533158403,1,null,0.26742722533158403]
[{"$f":"A388+Model!$C$48","v":0.37600000000000028},0.66526774147325984,null,0.66526774147325984,null,0.44258116784493212,null,0.26816593169062747,0,0,null,0.26742722533158403]
[{"$f":"A389+Model!$C$48","v":0.37700000000000028},0.66462590015249978,null,0.66462590015249978,null,0.44172758715352062,null,0.26860808606812669,0.26831353001433828,1,null,0.26831353001433828]
[{"$f":"A390+Model!$C$48","v":0.37800000000000028},0.66398582016480689,null,0.66398582016480689,null,0.44087716937993127,null,0.26904938844639342,0,0,null,0.26831353001433828]
[{"$f":"A391+Model!$C$48","v":0.37900000000000028},0.66334749410934979,null,0.66334749410934979,null,0.44002989794115388,null,0.26948984198005399,0.26919641824346291,1,null,0.26919641824346291]
[{"$f":"A392+Model!$C$48","v":0.38000000000000028},0.6627109146222967,null,0.6627109146222967,null,0.43918575635952101,null,0.26992944980720435,0,0,null,0.26919641824346291]
[{"$f":"A393+Model!$C$48","v":0.38100000000000028},0.66207607437666627,null,0.66207607437666627,null,0.43834472826201692,null,0.27036821504951514,0.27007591527829078,1,null,0.27007591527829078]
[{"$f":"A394+Model!$C$48","v":0.38200000000000028},0.66144296608218112,null,0.66144296608218112,null,0.43750679737959342,null,0.27080614081233595,0,0,null,0.27007591527829078]
[{"$f":"A395+Model!$C$48","v":0.38300000000000028},0.66081158248511729,null,0.66081158248511729,null,0.43667194754648497,null,0.27124323018479901,0.27095204611422652,1,null,0.27095204611422652]
[{"$f":"A396+Model!$C$48","v":0.38400000000000029},0.66018191636815671,null,0.66018191636815671,null,{"$f":"B397*D397","v":0.43584016269953185},null,0.271679486239922,0,0,null,0.27095204611422652]
[{"$f":"A397+Model!$C$48","v":0.38500000000000029},{"$f":"ERF($B$10/SQRT(A398))","v":0.65955396055023374},null,{"$f":"IF($B$11>0,ERF($B$11/SQRT(A398)),-ERF(-$B$11/SQRT(A398)))","v":0.65955396055023374},null,0.43501142687749927,null,{"$f":"0.5*(F398+F397)*(A398-A397)+H397","v":0.2721149120347105},0.27182483548608821,1,null,0.27182483548608821]
[{"$f":"A398+Model!$C$48","v":0.38600000000000029},0.65892770788638533,null,0.65892770788638533,null,0.43418572422040558,null,0.27254951061025945,0,{"$f":"IF(J398=1,0,1)","v":0},null,0.27182483548608821]
[{"$f":"A399+Model!$C$48","v":0.38700000000000029},0.65830315126759731,null,0.65830315126759731,null,0.43336303896884909,null,0.27298328499185409,0.27269430787140514,1,null,0.27269430787140514]
[{"$f":"A400+Model!$C$48","v":0.38800000000000029},0.6576802836206509,null,0.6576802836206509,null,0.43254335546333983,null,0.27341623818907018,{"$f":"(I399+((A401-A400)/3)*(4*F399+2*F400))*J401","v":0},0,null,{"$f":"IF(J401=1,I401,I400)","v":0.27269430787140514}]
[{"$f":"A401+Model!$C$48","v":0.38900000000000029},0.65705909790797012,null,0.65705909790797012,null,0.43172665814363548,null,0.27384837319587368,0.27356048749367251,1,null,0.27356048749367251]
[{"$f":"A402+Model!$C$48","v":0.39000000000000029},0.65643958712746575,null,0.65643958712746575,null,0.43091293154807769,null,0.27427969299071953,0,0,null,0.27356048749367251]
[{"$f":"A403+Model!$C$48","v":0.39100000000000029},0.65582174431237961,null,0.65582174431237961,null,0.43010216031293219,null,0.27471020053665002,0.27442339832556273,1,null,0.27442339832556273]
[{"$f":"A404+Model!$C$48","v":0.39200000000000029},0.65520556253113016,null,0.65520556253113016,null,0.42929432917173471,null,0.27513989878139233,0,0,null,0.27442339832556273]
[{"$f":"A405+Model!$C$48","v":0.39300000000000029},0.65459103488715409,null,0.65459103488715409,null,0.42848942295463538,null,0.27556879065745554,0.27528306409209446,1,null,0.27528306409209446]
[{"$f":"A406+Model!$C$48","v":0.39400000000000029},0.65397815451875141,null,0.65397815451875141,null,0.42768742658775188,null,0.27599687908222675,0,0,null,0.27528306409209446]
[{"$f":"A407+Model!$C$48","v":0.3950000000000003},0.65336691459892615,null,0.65336691459892615,null,0.42688832509252045,null,0.27642416695806687,0.27613950827375916,1,null,0.27613950827375916]
[{"$f":"A408+Model!$C$48","v":0.3960000000000003},0.65275730833522938,null,0.65275730833522938,null,0.42609210358505373,null,0.27685065717240565,0,0,null,0.27613950827375916]
[{"$f":"A409+Model!$C$48","v":0.3970000000000003},0.65214932896960054,null,0.65214932896960054,null,0.42529874727550027,null,0.2772763525978359,0.27699275410960589,1,null,0.27699275410960589]
[{"$f":"A410+Model!$C$48","v":0.3980000000000003},0.65154296977821025,null,0.65154296977821025,null,0.42450824146740979,null,0.27770125609220736,0,0,null,0.27699275410960589]
[{"$f":"A411+Model!$C$48","v":0.3990000000000003},0.65093822407129909,null,0.65093822407129909,null,0.4237205715570968,null,0.2781253704987196,0.27784282460028481,1,null,0.27784282460028481]
[{"$f":"A412+Model!$C$48","v":0.4000000000000003},0.65033508519302052,null,0.65033508519302052,null,0.42293572303301324,null,0.27854869864601467,0,0,null,0.27784282460028481]
[{"$f":"A413+Model!$C$48","v":0.4010000000000003},0.64973354652128024,null,0.64973354652128024,null,0.42215368147512061,null,0.27897124334826873,0.27868974251104961,1,null,0.27868974251104961]
[{"$f":"A414+Model!$C$48","v":0.4020000000000003},0.6491336014675777,null,0.6491336014675777,null,0.42137443255426799,null,0.27939300740528344,0,0,null,0.27868974251104961]
[{"$f":"A415+Model!$C$48","v":0.4030000000000003},0.64853524347684521,null,0.64853524347684521,null,0.4205979620315709,null,0.27981399360257636,0.27953353037471929,1,null,0.27953353037471929]
[{"$f":"A416+Model!$C$48","v":0.4040000000000003},0.647938466027289,null,0.647938466027289,null,0.41982425575779636,null,0.28023420471147104,0,0,null,0.27953353037471929]
[{"$f":"A417+Model!$C$48","v":0.4050000000000003},0.64734326263022901,null,0.64734326263022901,null,0.41905329967274962,null,0.28065364348918631,0.28037421049459993,1,null,0.28037421049459993]
[{"$f":"A418+Model!$C$48","v":0.40600000000000031},0.64674962682993875,null,0.64674962682993875,null,0.41828507980466501,null,0.28107231267892502,0,0,null,0.28037421049459993]
[{"$f":"A419+Model!$C$48","v":0.40700000000000031},0.64615755220348481,null,0.64615755220348481,null,0.41751958226959918,null,0.28149021500996213,0.28121180494736669,1,null,0.28121180494736669]
[{"$f":"A420+Model!$C$48","v":0.40800000000000031},0.64556703236056823,null,0.64556703236056823,null,0.41675679327083093,null,0.28190735319773236,0,0,null,0.28121180494736669]
[{"$f":"A421+Model!$C$48","v":0.40900000000000031},0.6449780609433623,null,0.6449780609433623,null,0.41599669909825959,null,0.28232372994391691,0.28204633558590669,1,null,0.28204633558590669]
[{"$f":"A422+Model!$C$48","v":0.41000000000000031},0.64439063162635446,null,0.64439063162635446,null,0.41523928612781208,null,0.28273934793652994,0,0,null,0.28204633558590669]
[{"$f":"A423+Model!$C$48","v":0.41100000000000031},0.64380473811618522,null,0.64380473811618522,null,0.41448454082084984,null,0.28315420985000428,0.28287782404212292,1,null,0.28287782404212292]
[{"$f":"A424+Model!$C$48","v":0.41200000000000031},0.64322037415148903,null,0.64322037415148903,null,0.41373244972358153,null,0.28356831834527652,0,0,null,0.28287782404212292]
[{"$f":"A425+Model!$C$48","v":0.41300000000000031},0.64263753350273378,null,0.64263753350273378,null,0.41298299946647726,null,0.28398167606987157,0.28370629172969974,1,null,0.28370629172969974]
[{"$f":"A426+Model!$C$48","v":0.41400000000000031},0.64205620997206081,null,0.64205620997206081,null,0.41223617676368701,null,0.28439428565798663,0,0,null,0.28370629172969974]
[{"$f":"A427+Model!$C$48","v":0.41500000000000031},0.64147639739312734,null,0.64147639739312734,null,0.41149196841246544,null,0.28480614973057472,0.28453175984683082,1,null,0.28453175984683082]
[{"$f":"A428+Model!$C$48","v":0.41600000000000031},0.64089808963094463,null,0.64089808963094463,null,0.41075036129259435,null,0.28521727089542726,0,0,null,0.28453175984683082]
[{"$f":"A429+Model!$C$48","v":0.41700000000000031},0.64032128058172111,null,0.64032128058172111,null,0.41001134236581521,null,0.28562765174725646,0.28535424937890919,1,null,0.28535424937890919]
[{"$f":"A430+Model!$C$48","v":0.41800000000000032},0.63974596417270191,null,0.63974596417270191,null,0.40927489867526001,null,0.28603729486777701,0,0,null,0.28535424937890919]
[{"$f":"A431+Model!$C$48","v":0.41900000000000032},0.63917213436201115,null,0.63917213436201115,null,0.40854101734488885,null,0.28644620282578709,0.28617378110118047,1,null,0.28617378110118047]
[{"$f":"A432+Model!$C$48","v":0.42000000000000032},0.63859978513849347,null,0.63859978513849347,null,0.40780968557893005,null,0.28685437817724901,0,0,null,0.28617378110118047]
[{"$f":"A433+Model!$C$48","v":0.42100000000000032},0.6380289105215543,null,0.6380289105215543,null,0.40708089066132153,null,0.28726182346536916,0.28699037558135959,1,null,0.28699037558135959]
[{"$f":"A434+Model!$C$48","v":0.42200000000000032},0.63745950456100509,null,0.63745950456100509,null,0.40635461995516209,null,0.28766854122067742,0,0,null,0.28699037558135959]
[{"$f":"A435+Model!$C$48","v":0.42300000000000032},0.63689156133690294,null,0.63689156133690294,null,0.405630860902158,null,0.28807453396110611,0.28780405318221147,1,null,0.28780405318221147]
[{"$f":"A436+Model!$C$48","v":0.42400000000000032},0.63632507495939439,null,0.63632507495939439,null,0.4049096010220789,null,0.2884798041920682,0,0,null,0.28780405318221147]
[{"$f":"A437+Model!$C$48","v":0.42500000000000032},0.63576003956855953,null,0.63576003956855953,null,0.40419082791221639,null,0.28888435440653537,0.28861483406409572,1,null,0.28861483406409572]
[{"$f":"A438+Model!$C$48","v":0.42600000000000032},0.63519644933425423,null,0.63519644933425423,null,0.40347452924684379,null,0.28928818708511489,0,0,null,0.28861483406409572]
[{"$f":"A439+Model!$C$48","v":0.42700000000000032},0.63463429845595365,null,0.63463429845595365,null,0.40276069277668047,null,0.28969130469612664,0.28942273818747655,1,null,0.28942273818747655]
[{"$f":"A440+Model!$C$48","v":0.42800000000000032},0.63407358116259882,null,0.63407358116259882,null,0.40204930632836278,null,0.29009370969567916,0,0,null,0.28942273818747655]
[{"$f":"A441+Model!$C$48","v":0.42900000000000033},0.63351429171243767,null,0.63351429171243767,null,0.40134035780391158,null,0.2904954045277453,0.29022778531539772,1,null,0.29022778531539772]
[{"$f":"A442+Model!$C$48","v":0.43000000000000033},0.63295642439287381,null,0.63295642439287381,null,0.40063383518021178,null,0.29089639162423736,0,0,null,0.29022778531539772]
[{"$f":"A443+Model!$C$48","v":0.43100000000000033},0.63239997352030908,null,0.63239997352030908,null,0.39992972650848763,null,0.2912966734050817,0.29102999501592308,1,null,0.29102999501592308]
[{"$f":"A444+Model!$C$48","v":0.43200000000000033},0.63184493343999149,null,0.63184493343999149,null,0.39922801991378726,null,0.29169625227829282,0,0,null,0.29102999501592308]
[{"$f":"A445+Model!$C$48","v":0.43300000000000033},0.63129129852586052,null,0.63129129852586052,null,0.39852870359446713,null,0.29209513064004694,0.29182938666454361,1,null,0.29182938666454361]
[{"$f":"A446+Model!$C$48","v":0.43400000000000033},0.6307390631803933,null,0.6307390631803933,null,0.39783176582168017,null,0.292493310874755,0,0,null,0.29182938666454361]
[{"$f":"A447+Model!$C$48","v":0.43500000000000033},0.63018822183445344,null,0.63018822183445344,null,0.39713719493887029,null,0.29289079535513529,0.29262597944655067,1,null,0.29262597944655067]
[{"$f":"A448+Model!$C$48","v":0.43600000000000033},0.62963876894713822,null,0.62963876894713822,null,0.39644497936126771,null,0.29328758644228536,0,0,null,0.29262597944655067]
[{"$f":"A449+Model!$C$48","v":0.43700000000000033},0.62909069900562686,null,0.62909069900562686,null,0.39575510757538823,null,0.29368368648575371,0.29341979235937665,1,null,0.29341979235937665]
[{"$f":"A450+Model!$C$48","v":0.43800000000000033},0.6285440065250274,null,0.6285440065250274,null,0.39506756813853366,null,0.29407909782361069,0,0,null,0.29341979235937665]
[{"$f":"A451+Model!$C$48","v":0.43900000000000033},0.6279986860482295,null,0.6279986860482295,null,0.39438234967830271,null,0.2944738227825191,0.29421084421490284,1,null,0.29421084421490284]
[{"$f":"A452+Model!$C$48","v":0.44000000000000034},0.62745473214575109,null,0.62745473214575109,null,0.39369944089209624,null,0.29486786367780432,0,0,null,0.29421084421490284]
[{"$f":"A453+Model!$C$48","v":0.44100000000000034},0.62691213941559087,null,0.62691213941559087,null,0.39301883054663322,null,0.29526122281352368,0.29499915364173529,1,null,0.29499915364173529]
[{"$f":"A454+Model!$C$48","v":0.44200000000000034},0.6263709024830767,null,0.6263709024830767,null,0.39234050747746396,null,0.29565390248253576,0,0,null,0.29499915364173529]
[{"$f":"A455+Model!$C$48","v":0.44300000000000034},0.62583101600071978,null,0.62583101600071978,null,0.39166446058849319,null,0.29604590496656874,0.29578473908744912,1,null,0.29578473908744912]
[{"$f":"A456+Model!$C$48","v":0.44400000000000034},0.62529247464806381,null,0.62529247464806381,null,0.39099067885149952,null,0.29643723253628873,0,0,null,0.29578473908744912]
[{"$f":"A457+Model!$C$48","v":0.44500000000000034},0.62475527313154011,null,0.62475527313154011,null,0.3903191513056653,null,0.29682788745136729,0.29656761882080146,1,null,0.29656761882080146]
[{"$f":"A458+Model!$C$48","v":0.44600000000000034},0.62421940618431793,null,0.62421940618431793,null,0.38964986705710247,null,0.29721787196054866,0,0,null,0.29656761882080146]
[{"$f":"A459+Model!$C$48","v":0.44700000000000034},0.62368486856616046,null,0.62368486856616046,null,0.38898281527838885,null,0.2976071883017164,0.29734781093391377,1,null,0.29734781093391377]
[{"$f":"A460+Model!$C$48","v":0.44800000000000034},0.62315165506327685,null,0.62315165506327685,null,{"$f":"B461*D461","v":0.38831798520810118},null,0.29799583870195961,0,0,null,0.29734781093391377]
[{"$f":"A461+Model!$C$48","v":0.44900000000000034},{"$f":"ERF($B$10/SQRT(A462))","v":0.62261976048817924},null,{"$f":"IF($B$11>0,ERF($B$11/SQRT(A462)),-ERF(-$B$11/SQRT(A462)))","v":0.62261976048817924},null,0.38765536615035767,null,{"$f":"0.5*(F462+F461)*(A462-A461)+H461","v":0.29838382537763886},0.2981253333444237,1,null,0.2981253333444237]
[{"$f":"A462+Model!$C$48","v":0.45000000000000034},0.6220891796795357,null,0.6220891796795357,null,0.38699494747435764,null,0.29877115053445119,0,{"$f":"IF(J462=1,0,1)","v":0},null,0.2981253333444237]
[{"$f":"A463+Model!$C$48","v":0.45100000000000035},0.62155990750202705,null,0.62155990750202705,null,0.38633671861392843,null,0.29915781636749533,0.29890020379760707,1,null,0.29890020379760707]
[{"$f":"A464+Model!$C$48","v":0.45200000000000035},0.62103193884620578,null,0.62103193884620578,null,0.38568066906707749,null,0.29954382506133581,{"$f":"(I463+((A465-A464)/3)*(4*F463+2*F464))*J465","v":0},0,null,{"$f":"IF(J465=1,I465,I464)","v":0.29890020379760707}]
[{"$f":"A465+Model!$C$48","v":0.45300000000000035},0.62050526862834798,null,0.62050526862834798,null,0.38502678839553828,null,0.29992917879006714,0.29967243986847036,1,null,0.29967243986847036]
[{"$f":"A466+Model!$C$48","v":0.45400000000000035},0.61997989179031554,null,0.61997989179031554,null,0.38437506622433137,null,0.30031387971737705,0,0,null,0.29967243986847036]
[{"$f":"A467+Model!$C$48","v":0.45500000000000035},0.61945580329941363,null,0.61945580329941363,null,0.38372549224132185,null,0.30069792999660988,0.30044205896381398,1,null,0.30044205896381398]
[{"$f":"A468+Model!$C$48","v":0.45600000000000035},0.61893299814824709,null,0.61893299814824709,null,0.38307805619677804,null,0.30108133177082891,0,0,null,0.30044205896381398]
[{"$f":"A469+Model!$C$48","v":0.45700000000000035},0.61841147135458341,null,0.61841147135458341,null,0.38243274790294074,null,0.30146408717287876,0.30120907832426691,1,null,0.30120907832426691]
[{"$f":"A470+Model!$C$48","v":0.45800000000000035},0.6178912179612106,null,0.6178912179612106,null,0.38178955723358826,null,0.30184619832544701,0,0,null,0.30120907832426691]
[{"$f":"A471+Model!$C$48","v":0.45900000000000035},0.61737223303579847,null,0.61737223303579847,null,0.38114847412360825,null,0.30222766734112561,0.30197351502629322,1,null,0.30197351502629322]
[{"$f":"A472+Model!$C$48","v":0.46000000000000035},0.61685451167076089,null,0.61685451167076089,null,0.38050948856857286,null,0.30260849632247172,0,0,null,0.30197351502629322]
[{"$f":"A473+Model!$C$48","v":0.46100000000000035},0.6163380489831165,null,0.6163380489831165,null,0.3798725906243145,null,0.30298868736206819,0.30273538598417044,1,null,0.30273538598417044]
[{"$f":"A474+Model!$C$48","v":0.46200000000000035},0.61582284011435207,null,0.61582284011435207,null,0.3792377704065068,null,0.3033682425425836,0,0,null,0.30273538598417044]
[{"$f":"A475+Model!$C$48","v":0.46300000000000036},0.61530888023028696,null,0.61530888023028696,null,0.3786050180902496,null,0.30374716393683199,0.3034947079519405,1,null,0.3034947079519405]
[{"$f":"A476+Model!$C$48","v":0.46400000000000036},0.61479616452093444,null,0.61479616452093444,null,0.37797432390965191,null,0.30412545360783194,0,0,null,0.3034947079519405]
[{"$f":"A477+Model!$C$48","v":0.46500000000000036},0.61428468820036874,null,0.61428468820036874,null,0.37734567815742426,null,0.30450311360886551,0.30425149752533392,1,null,0.30425149752533392]
[{"$f":"A478+Model!$C$48","v":0.46600000000000036},0.6137744465065883,null,0.6137744465065883,null,0.37671907118446885,null,0.30488014598353647,0,0,null,0.30425149752533392]
[{"$f":"A479+Model!$C$48","v":0.46700000000000036},0.61326543470138417,null,0.61326543470138417,null,0.3760944933994777,null,0.30525655276582842,0.30500577114366678,1,null,0.30500577114366678]
[{"$f":"A480+Model!$C$48","v":0.46800000000000036},0.61275764807020372,null,0.61275764807020372,null,0.37547193526852762,null,0.30563233598016243,0,0,null,0.30500577114366678]
[{"$f":"A481+Model!$C$48","v":0.46900000000000036},0.61225108192201894,null,0.61225108192201894,null,0.37485138731468276,null,0.30600749764145402,0.30575754509171177,1,null,0.30575754509171177]
[{"$f":"A482+Model!$C$48","v":0.47000000000000036},0.61174573158919554,null,0.61174573158919554,null,0.37423284011760005,null,0.30638203975517014,0,0,null,0.30575754509171177]
[{"$f":"A483+Model!$C$48","v":0.47100000000000036},0.61124159242735931,null,0.61124159242735931,null,0.37361628431313404,null,0.3067559643173855,0.30650683550154306,1,null,0.30650683550154306]
[{"$f":"A484+Model!$C$48","v":0.47200000000000036},0.61073865981526609,null,0.61073865981526609,null,0.37300171059294734,null,0.30712927331483852,0,0,null,0.30650683550154306]
[{"$f":"A485+Model!$C$48","v":0.47300000000000036},0.61023692915467231,null,0.61023692915467231,null,0.37238910970412453,null,0.30750196872498708,0.30725365835435586,1,null,0.30725365835435586]
[{"$f":"A486+Model!$C$48","v":0.47400000000000037},0.60973639587020401,null,0.60973639587020401,null,0.37177847244878615,null,0.30787405251606353,0,0,null,0.30725365835435586]
[{"$f":"A487+Model!$C$48","v":0.47500000000000037},0.60923705540922868,null,0.60923705540922868,null,0.37116978968370756,null,0.30824552664712979,0.30799802948226057,1,null,0.30799802948226057]
[{"$f":"A488+Model!$C$48","v":0.47600000000000037},0.60873890324172786,null,0.60873890324172786,null,0.37056305231994169,null,0.3086163930681316,0,0,null,0.30799802948226057]
[{"$f":"A489+Model!$C$48","v":0.47700000000000037},0.60824193486016698,null,0.60824193486016698,null,0.36995825132243959,null,0.30898665371995276,0.30873996457005215,1,null,0.30873996457005215]
[{"$f":"A490+Model!$C$48","v":0.47800000000000037},0.60774614577937069,null,0.60774614577937069,null,0.36935537770968008,null,0.30935631053446883,0,0,null,0.30873996457005215]
[{"$f":"A491+Model!$C$48","v":0.47900000000000037},0.60725153153639611,null,0.60725153153639611,null,0.36875442255329866,null,0.30972536543460033,0.30947947915695517,1,null,0.30947947915695517]
[{"$f":"A492+Model!$C$48","v":0.48000000000000037},0.60675808769040618,null,0.60675808769040618,null,0.36815537697771861,null,0.31009382033436583,0,0,null,0.30947947915695517]
[{"$f":"A493+Model!$C$48","v":0.48100000000000037},0.60626580982254552,null,0.60626580982254552,null,0.36755823215978695,null,0.31046167713893458,0.31021658863834473,1,null,0.31021658863834473]
[{"$f":"A494+Model!$C$48","v":0.48200000000000037},0.60577469353581581,null,0.60577469353581581,null,0.36696297932841154,null,0.31082893774467868,0,0,null,0.31021658863834473]
[{"$f":"A495+Model!$C$48","v":0.48300000000000037},0.60528473445495279,null,0.60528473445495279,null,0.36636960976420269,null,0.31119560403922497,0.31095130826744338,1,null,0.31095130826744338]
[{"$f":"A496+Model!$C$48","v":0.48400000000000037},0.60479592822630091,null,0.60479592822630091,null,0.36577811479911293,null,0.31156167790150663,0,0,null,0.31095130826744338]
[{"$f":"A497+Model!$C$48","v":0.48500000000000038},0.6043082705176942,null,0.6043082705176942,null,0.36518848581608665,null,0.31192716120181424,0.31168365315699509,1,null,0.31168365315699509]
[{"$f":"A498+Model!$C$48","v":0.48600000000000038},0.60382175701833185,null,0.60382175701833185,null,0.36460071424870538,null,0.31229205580184666,0,0,null,0.31168365315699509]
[{"$f":"A499+Model!$C$48","v":0.48700000000000038},0.60333638343865825,null,0.60333638343865825,null,0.36401479158083966,null,0.31265636355476145,0.31241363828091567,1,null,0.31241363828091567]
[{"$f":"A500+Model!$C$48","v":0.48800000000000038},0.60285214551024269,null,0.60285214551024269,null,0.36343070934630284,null,0.31302008630522504,0,0,null,0.31241363828091567]
[{"$f":"A501+Model!$C$48","v":0.48900000000000038},0.60236903898565908,null,0.60236903898565908,null,0.36284845912850644,null,0.31338322588946244,0.31314127847592099,1,null,0.31314127847592099]
[{"$f":"A502+Model!$C$48","v":0.49000000000000038},0.60188705963836731,null,0.60188705963836731,null,0.36226803256011952,null,0.31374578413530674,0,0,null,0.31314127847592099]
[{"$f":"A503+Model!$C$48","v":0.49100000000000038},0.6014062032625932,null,0.6014062032625932,null,0.36168942132272758,null,0.31410776286224817,0.31386658844313242,1,null,0.31386658844313242]
[{"$f":"A504+Model!$C$48","v":0.49200000000000038},0.60092646567321306,null,0.60092646567321306,null,0.36111261714649934,null,0.31446916388148277,0,0,null,0.31386658844313242]
[{"$f":"A505+Model!$C$48","v":0.49300000000000038},0.60044784270563545,null,0.60044784270563545,null,0.36053761180985155,null,0.31482998899596093,0.31458958274966037,1,null,0.31458958274966037]
[{"$f":"A506+Model!$C$48","v":0.49400000000000038},0.59997033021568325,null,0.59997033021568325,null,0.35996439713911599,null,0.31519024000043544,0,0,null,0.31458958274966037]
[{"$f":"A507+Model!$C$48","v":0.49500000000000038},0.5994939240794791,null,0.5994939240794791,null,0.35939296500821227,null,0.31554991868150911,0.31531027583016624,1,null,0.31531027583016624]
[{"$f":"A508+Model!$C$48","v":0.49600000000000039},0.59901862019333119,null,0.59901862019333119,null,0.35882330733832235,null,0.3159090268176824,0,0,null,0.31531027583016624]
[{"$f":"A509+Model!$C$48","v":0.49700000000000039},0.5985444144736155,null,0.5985444144736155,null,0.35825541609756323,null,0.31626756617940033,0.31602868198840273,1,null,0.31602868198840273]
[{"$f":"A510+Model!$C$48","v":0.49800000000000039},0.5980713028566651,null,0.5980713028566651,null,0.35768928330066885,null,0.31662553852909947,0,0,null,0.31602868198840273]
[{"$f":"A511+Model!$C$48","v":0.49900000000000039},0.59759928129865425,null,0.59759928129865425,null,0.35712490100866812,null,0.31698294562125412,0.31674481539873328,1,null,0.31674481539873328]
[{"$f":"A512+Model!$C$48","v":0.50000000000000033},0.59712834577548746,null,0.59712834577548746,null,0.35656226132857011,null,0.31733978920242273,0,0,null,0.31674481539873328]
[{"$f":"A513+Model!$C$48","v":0.50100000000000033},0.5966584922826863,null,0.5966584922826863,null,0.35600135641304842,null,0.31769607101129355,0.31745869010763056,1,null,0.31745869010763056]
[{"$f":"A514+Model!$C$48","v":0.50200000000000033},0.59618971683527777,null,0.59618971683527777,null,0.35544217846012871,null,0.31805179277873014,0,0,null,0.31745869010763056]
[{"$f":"A515+Model!$C$48","v":0.50300000000000034},0.59572201546768433,null,0.59572201546768433,null,0.35488471971287994,null,0.31840695622781662,0.31817032003515472,1,null,0.31817032003515472]
[{"$f":"A516+Model!$C$48","v":0.50400000000000034},0.59525538423361413,null,0.59525538423361413,null,0.35432897245910761,null,0.31876156307390263,0,0,null,0.31817032003515472]
[{"$f":"A517+Model!$C$48","v":0.50500000000000034},0.59478981920594876,null,0.59478981920594876,null,0.35377492903104518,null,0.31911561502464769,0.31887971897641132,1,null,0.31887971897641132]
[{"$f":"A518+Model!$C$48","v":0.50600000000000034},0.59432531647663756,null,0.59432531647663756,null,0.35322258180505539,null,0.31946911378006576,0,0,null,0.31887971897641132]
[{"$f":"A519+Model!$C$48","v":0.50700000000000034},0.59386187215658714,null,0.59386187215658714,null,0.35267192320132668,null,0.31982206103256894,0.31958690060298944,1,null,0.31958690060298944]
[{"$f":"A520+Model!$C$48","v":0.50800000000000034},0.59339948237555462,null,0.59339948237555462,null,0.35212294568357616,null,0.32017445846701137,0,0,null,0.31958690060298944]
[{"$f":"A521+Model!$C$48","v":0.50900000000000034},0.5929381432820402,null,0.5929381432820402,null,0.35157564175875322,null,0.32052630776073254,0.32029187846438029,1,null,0.32029187846438029]
[{"$f":"A522+Model!$C$48","v":0.51000000000000034},0.59247785104318007,null,0.59247785104318007,null,0.35103000397674466,null,0.32087761058360031,0,0,null,0.32029187846438029]
[{"$f":"A523+Model!$C$48","v":0.51100000000000034},0.59201860184464228,null,0.59201860184464228,null,0.35048602493008507,null,0.3212283685980537,0.32099466598937648,1,null,0.32099466598937648]
[{"$f":"A524+Model!$C$48","v":0.51200000000000034},0.59156039189051957,null,0.59156039189051957,null,{"$f":"B525*D525","v":0.34994369725366509},null,0.32157858345914558,0,0,null,0.32099466598937648]
[{"$f":"A525+Model!$C$48","v":0.51300000000000034},{"$f":"ERF($B$10/SQRT(A526))","v":0.59110321740322525},null,{"$f":"IF($B$11>0,ERF($B$11/SQRT(A526)),-ERF(-$B$11/SQRT(A526)))","v":0.59110321740322525},null,0.34940301362444459,null,{"$f":"0.5*(F526+F525)*(A526-A525)+H525","v":0.32192825681458465},0.32169527648745239,1,null,0.32169527648745239]
[{"$f":"A526+Model!$C$48","v":0.51400000000000035},0.59064707462339028,null,0.59064707462339028,null,0.34886396676116876,null,0.32227739030477748,0,{"$f":"IF(J526=1,0,1)","v":0},null,0.32169527648745239]
[{"$f":"A527+Model!$C$48","v":0.51500000000000035},0.59019195980975836,null,0.59019195980975836,null,0.34832654942408342,null,0.32262598556287009,0.32239372315012577,1,null,0.32239372315012577]
[{"$f":"A528+Model!$C$48","v":0.51600000000000035},0.58973786923908356,null,0.58973786923908356,null,0.3477907544146544,null,0.32297404421478948,{"$f":"(I527+((A529-A528)/3)*(4*F527+2*F528))*J529","v":0},0,null,{"$f":"IF(J529=1,I529,I528)","v":0.32239372315012577}]
[{"$f":"A529+Model!$C$48","v":0.51700000000000035},0.58928479920602872,null,0.58928479920602872,null,0.34725657457528958,null,0.32332156787928445,0.323090019052301,1,null,0.323090019052301]
[{"$f":"A530+Model!$C$48","v":0.51800000000000035},0.58883274602306268,null,0.58883274602306268,null,0.34672400278906063,null,0.32366855816796664,0,0,null,0.323090019052301]
[{"$f":"A531+Model!$C$48","v":0.51900000000000035},0.58838170602036044,null,0.58838170602036044,null,0.34619303197942985,null,0.32401501668535088,0.32378417715359409,1,null,0.32378417715359409]
[{"$f":"A532+Model!$C$48","v":0.52000000000000035},0.58793167554570125,null,0.58793167554570125,null,0.34566365510997571,null,0.32436094502889556,0,0,null,0.32378417715359409]
[{"$f":"A533+Model!$C$48","v":0.52100000000000035},0.58748265096437047,null,0.58748265096437047,null,0.34513586518412431,null,0.32470634478904259,0.32447621029963997,1,null,0.32447621029963997]
[{"$f":"A534+Model!$C$48","v":0.52200000000000035},0.58703462865905909,null,0.58703462865905909,null,0.34460965524487941,null,0.32505121754925709,0,0,null,0.32447621029963997]
[{"$f":"A535+Model!$C$48","v":0.52300000000000035},0.58658760502976504,null,0.58658760502976504,null,0.34408501837455563,null,0.3253955648860668,0.32516613122338206,1,null,0.32516613122338206]
[{"$f":"A536+Model!$C$48","v":0.52400000000000035},0.5861415764936958,null,0.5861415764936958,null,0.34356194769451504,null,0.32573938836910132,0,0,null,0.32516613122338206]
[{"$f":"A537+Model!$C$48","v":0.52500000000000036},0.58569653948517042,null,0.58569653948517042,null,0.34304043636490378,null,0.32608268956113101,0.32585395254634447,1,null,0.32585395254634447]
[{"$f":"A538+Model!$C$48","v":0.52600000000000036},0.58525249045552274,null,0.58525249045552274,null,0.34252047758439175,null,0.32642547001810568,0,0,null,0.32585395254634447]
[{"$f":"A539+Model!$C$48","v":0.52700000000000036},0.58480942587300422,null,0.58480942587300422,null,0.34200206458991284,null,0.32676773128919284,0.32653968677988726,1,null,0.32653968677988726]
[{"$f":"A540+Model!$C$48","v":0.52800000000000036},0.5843673422226896,null,0.5843673422226896,null,0.34148519065641003,null,0.32710947491681602,0,0,null,0.32653968677988726]
[{"$f":"A541+Model!$C$48","v":0.52900000000000036},0.58392623600638072,null,0.58392623600638072,null,0.34096984909657946,null,0.3274507024366925,0.32722334632644473,1,null,0.32722334632644473]
[{"$f":"A542+Model!$C$48","v":0.53000000000000036},0.58348610374251197,null,0.58348610374251197,null,0.34045603326061746,null,0.3277914153778711,0,0,null,0.32722334632644473]
[{"$f":"A543+Model!$C$48","v":0.53100000000000036},0.58304694196605578,null,0.58304694196605578,null,0.33994373653596921,null,0.3281316152627694,0.32790494348074722,1,null,0.32790494348074722]
[{"$f":"A544+Model!$C$48","v":0.53200000000000036},0.58260874722843048,null,0.58260874722843048,null,0.33943295234708121,null,0.32847130360721094,0,0,null,0.32790494348074722]
[{"$f":"A545+Model!$C$48","v":0.53300000000000036},0.58217151609740614,null,0.58217151609740614,null,0.3389236741551524,null,0.32881048192046208,0.32858449043102655,1,null,0.32858449043102655]
[{"$f":"A546+Model!$C$48","v":0.53400000000000036},0.58173524515701147,null,0.58173524515701147,null,0.33841589545788825,null,0.32914915170526859,0,0,null,0.32858449043102655]
[{"$f":"A547+Model!$C$48","v":0.53500000000000036},0.58129993100744359,null,0.58129993100744359,null,0.33790960978925866,null,0.32948731445789214,0.32926199926020533,1,null,0.32926199926020533]
[{"$f":"A548+Model!$C$48","v":0.53600000000000037},0.58086557026497665,null,0.58086557026497665,null,0.33740481071925654,null,0.32982497166814639,0,0,null,0.32926199926020533]
[{"$f":"A549+Model!$C$48","v":0.53700000000000037},0.58043215956187011,null,0.58043215956187011,null,0.33690149185365625,null,0.33016212481943286,0.32993748194707051,1,null,0.32993748194707051]
[{"$f":"A550+Model!$C$48","v":0.53800000000000037},0.57999969554627751,null,0.57999969554627751,null,0.3363996468337746,null,0.33049877538877659,0,0,null,0.32993748194707051]
[{"$f":"A551+Model!$C$48","v":0.53900000000000037},0.57956817488215995,null,0.57956817488215995,null,0.33589926933623793,null,0.33083492484686161,0.33061095036743121,1,null,0.33061095036743121]
[{"$f":"A552+Model!$C$48","v":0.54000000000000037},0.57913759424919431,null,0.57913759424919431,null,0.33540035307274441,null,0.3311705746580661,0,0,null,0.33061095036743121]
[{"$f":"A553+Model!$C$48","v":0.54100000000000037},0.57870795034268563,null,0.57870795034268563,null,0.33490289178983229,null,0.3315057262804974,0.33128241629526134,1,null,0.33128241629526134]
[{"$f":"A554+Model!$C$48","v":0.54200000000000037},0.57827923987347862,null,0.57827923987347862,null,0.33440687926864821,null,0.33184038116602665,0,0,null,0.33128241629526134]
[{"$f":"A555+Model!$C$48","v":0.54300000000000037},0.57785145956787098,null,0.57785145956787098,null,0.33391230932471883,null,0.33217454076032332,0.33195189140382686,1,null,0.33195189140382686]
[{"$f":"A556+Model!$C$48","v":0.54400000000000037},0.57742460616752533,null,0.57742460616752533,null,0.33341917580772173,null,0.33250820650288954,0,0,null,0.33195189140382686]
[{"$f":"A557+Model!$C$48","v":0.54500000000000037},0.57699867642938363,null,0.57699867642938363,null,0.33292747260126054,null,0.33284137982709405,0.33261938726679829,1,null,0.33261938726679829]
[{"$f":"A558+Model!$C$48","v":0.54600000000000037},0.57657366712558067,null,0.57657366712558067,null,0.3324371936226399,null,0.33317406216020601,0,0,null,0.33261938726679829]
[{"$f":"A559+Model!$C$48","v":0.54700000000000037},0.57614957504335873,null,0.57614957504335873,null,0.33194833282264286,null,0.33350625492342867,0.3332849153593484,1,null,0.3332849153593484]
[{"$f":"A560+Model!$C$48","v":0.54800000000000038},0.57572639698498307,null,0.57572639698498307,null,0.33146088418531033,null,0.33383795953193263,0,0,null,0.3332849153593484]
[{"$f":"A561+Model!$C$48","v":0.54900000000000038},0.57530412976765699,null,0.57530412976765699,null,0.33097484172772113,null,0.33416917739488916,0.33394848705923547,1,null,0.33394848705923547]
[{"$f":"A562+Model!$C$48","v":0.55000000000000038},0.57488277022343859,null,0.57488277022343859,null,0.33049019949977487,null,0.33449990991550294,0,0,null,0.33394848705923547]
[{"$f":"A563+Model!$C$48","v":0.55100000000000038},0.57446231519915625,null,0.57446231519915625,null,0.33000695158397475,null,0.3348301584910448,0.3346101136478723,1,null,0.3346101136478723]
[{"$f":"A564+Model!$C$48","v":0.55200000000000038},0.57404276155632739,null,0.57404276155632739,null,0.32952509209521452,null,0.3351599245128844,0,0,null,0.3346101136478723]
[{"$f":"A565+Model!$C$48","v":0.55300000000000038},0.57362410617107473,null,0.57362410617107473,null,0.32904461518056444,null,0.33548920936652227,0.33526980631138109,1,null,0.33526980631138109]
[{"$f":"A566+Model!$C$48","v":0.55400000000000038},0.57320634593404551,null,0.57320634593404551,null,0.32856551501906067,null,0.33581801443162207,0,0,null,0.33526980631138109]
[{"$f":"A567+Model!$C$48","v":0.55500000000000038},0.57278947775032896,null,0.57278947775032896,null,0.32808778582149462,null,0.33614634108204233,0.33592757614163454,1,null,0.33592757614163454]
[{"$f":"A568+Model!$C$48","v":0.55600000000000038},0.57237349853937669,null,0.57237349853937669,null,0.32761142183020586,null,0.3364741906858682,0,0,null,0.33592757614163454]
[{"$f":"A569+Model!$C$48","v":0.55700000000000038},0.57195840523492136,null,0.57195840523492136,null,0.3271364173188745,null,0.33680156460544275,0.33658343413728337,1,null,0.33658343413728337]
[{"$f":"A570+Model!$C$48","v":0.55800000000000038},0.57154419478489726,null,0.57154419478489726,null,0.32666276659231658,null,0.33712846419739834,0,0,null,0.33658343413728337]
[{"$f":"A571+Model!$C$48","v":0.55900000000000039},0.57113086415136061,null,0.57113086415136061,null,0.32619046398627993,null,0.33745489081268765,0.33723739120477009,1,null,0.33723739120477009]
[{"$f":"A572+Model!$C$48","v":0.56000000000000039},0.57071841031041193,null,0.57071841031041193,null,0.32571950386724369,null,0.33778084579661438,0,0,null,0.33723739120477009]
[{"$f":"A573+Model!$C$48","v":0.56100000000000039},0.57030683025211526,null,0.57030683025211526,null,0.32524988063221499,null,0.33810633048886413,0.33788945815932997,1,null,0.33788945815932997]
[{"$f":"A574+Model!$C$48","v":0.56200000000000039},0.5698961209804223,null,0.5698961209804223,null,0.32478158870853213,null,0.33843134622353449,0,0,null,0.33788945815932997]
[{"$f":"A575+Model!$C$48","v":0.56300000000000039},0.56948627951309438,null,0.56948627951309438,null,0.32431462255366628,null,0.33875589432916559,0.33853964572597861,1,null,0.33853964572597861]
[{"$f":"A576+Model!$C$48","v":0.56400000000000039},0.56907730288162461,null,0.56907730288162461,null,0.32384897665502432,null,0.33907997612876994,0,0,null,0.33853964572597861]
[{"$f":"A577+Model!$C$48","v":0.56500000000000039},0.56866918813116341,null,0.56866918813116341,null,0.32338464552975654,null,0.33940359293986233,0.33918796454048683,1,null,0.33918796454048683]
[{"$f":"A578+Model!$C$48","v":0.56600000000000039},0.56826193232043953,null,0.56826193232043953,null,0.32292162372455979,null,0.33972674607448949,0,0,null,0.33918796454048683]
[{"$f":"A579+Model!$C$48","v":0.56700000000000039},0.56785553252168741,null,0.56785553252168741,null,0.32245990581548917,null,0.34004943683925953,0.3398344251503429,1,null,0.3398344251503429]
[{"$f":"A580+Model!$C$48","v":0.56800000000000039},0.56744998582056982,null,0.56744998582056982,null,0.32199948640776488,null,0.34037166653537115,0,0,null,0.3398344251503429]
[{"$f":"A581+Model!$C$48","v":0.56900000000000039},0.56704528931610487,null,0.56704528931610487,null,0.32154036013558507,null,0.34069343645864281,0.34047903801570206,1,null,0.34047903801570206]
[{"$f":"A582+Model!$C$48","v":0.5700000000000004},0.56664144012059092,null,0.56664144012059092,null,0.32108252166193724,null,0.34101474789954156,0,0,null,0.34047903801570206]
[{"$f":"A583+Model!$C$48","v":0.5710000000000004},0.56623843535953278,null,0.56623843535953278,null,0.32062596567841178,null,0.34133560214321174,0.34112181351032411,1,null,0.34112181351032411]
[{"$f":"A584+Model!$C$48","v":0.5720000000000004},0.56583627217156918,null,0.56583627217156918,null,0.3201706869050181,null,0.34165600046950345,0,0,null,0.34112181351032411]
[{"$f":"A585+Model!$C$48","v":0.5730000000000004},0.56543494770839897,null,0.56543494770839897,null,0.31971668008999987,null,0.34197594415300098,0.34176276192249866,1,null,0.34176276192249866]
[{"$f":"A586+Model!$C$48","v":0.5740000000000004},0.56503445913470962,null,0.56503445913470962,null,0.31926394000965386,null,0.34229543446305083,0,0,null,0.34176276192249866]
[{"$f":"A587+Model!$C$48","v":0.5750000000000004},0.5646348036281047,null,0.5646348036281047,null,0.31881246146814834,null,0.34261447266378975,0.34240189345595845,1,null,0.34240189345595845]
[{"$f":"A588+Model!$C$48","v":0.5760000000000004},0.56423597837903217,null,0.56423597837903217,null,{"$f":"B589*D589","v":0.31836223929734364},null,0.34293306001417251,0,0,null,0.34240189345595845]
[{"$f":"A589+Model!$C$48","v":0.5770000000000004},{"$f":"ERF($B$10/SQRT(A590))","v":0.56383797376912814},null,{"$f":"IF($B$11>0,ERF($B$11/SQRT(A590)),-ERF(-$B$11/SQRT(A590)))","v":0.56383797376912814},null,0.31791326066407605,null,{"$f":"0.5*(F590+F589)*(A590-A589)+H589","v":0.34325119776415319},0.34303921823078087,1,null,0.34303921823078087]
[{"$f":"A590+Model!$C$48","v":0.5780000000000004},0.56344080074197744,null,0.56344080074197744,null,0.31746553594076071,null,0.34356888716245559,0,{"$f":"IF(J590=1,0,1)","v":0},null,0.34303921823078087]
[{"$f":"A591+Model!$C$48","v":0.5790000000000004},0.56304444961888145,null,0.56304444961888145,null,0.31701905224662913,null,0.34388612945654928,0.34367474626896016,1,null,0.34367474626896016]
[{"$f":"A592+Model!$C$48","v":0.5800000000000004},0.56264891764098079,null,0.56264891764098079,null,0.31657380452256717,null,0.3442029258849339,{"$f":"(I591+((A593-A592)/3)*(4*F591+2*F592))*J593","v":0},0,null,{"$f":"IF(J593=1,I593,I592)","v":0.34367474626896016}]
[{"$f":"A593+Model!$C$48","v":0.58100000000000041},0.56225420206190824,null,0.56225420206190824,null,0.31612978773627315,null,0.34451927768106333,0.3443084875416374,1,null,0.3443084875416374]
[{"$f":"A594+Model!$C$48","v":0.58200000000000041},0.56186030014772204,null,0.56186030014772204,null,0.31568699688208829,null,0.34483518607337249,0,0,null,0.3443084875416374]
[{"$f":"A595+Model!$C$48","v":0.58300000000000041},0.56146720917683723,null,0.56146720917683723,null,0.3152454269808263,null,0.34515065228530395,0.34494045192320716,1,null,0.34494045192320716]
[{"$f":"A596+Model!$C$48","v":0.58400000000000041},0.56107492643995627,null,0.56107492643995627,null,0.31480507307960232,null,0.34546567753533414,0,0,null,0.34494045192320716]
[{"$f":"A597+Model!$C$48","v":0.58500000000000041},0.56068344924000224,null,0.56068344924000224,null,0.31436593025166615,null,0.34578026303699977,0.34557064920790131,1,null,0.34557064920790131]
[{"$f":"A598+Model!$C$48","v":0.58600000000000041},0.56029277489205209,null,0.56029277489205209,null,0.31392799359623574,null,0.34609440999892371,0,0,null,0.34557064920790131]
[{"$f":"A599+Model!$C$48","v":0.58700000000000041},0.55990290072326887,null,0.55990290072326887,null,0.31349125823833068,null,0.34640811962484097,0.34619908911063435,1,null,0.34619908911063435]
[{"$f":"A600+Model!$C$48","v":0.58800000000000041},0.55951382407283579,null,0.55951382407283579,null,0.31305571932860826,null,0.34672139311362443,0,0,null,0.34619908911063435]
[{"$f":"A601+Model!$C$48","v":0.58900000000000041},0.55912554229189071,null,0.55912554229189071,null,0.31262137204320084,null,0.34703423165931035,0.34682578126783786,1,null,0.34682578126783786]
[{"$f":"A602+Model!$C$48","v":0.59000000000000041},0.55873805274346011,null,0.55873805274346011,null,0.31218821158355359,null,0.34734663645112374,0,0,null,0.34682578126783786]
[{"$f":"A603+Model!$C$48","v":0.59100000000000041},0.55835135280239345,null,0.55835135280239345,null,0.31175623317626283,null,0.34765860867350362,0.34745073523828451,1,null,0.34745073523828451]
[{"$f":"A604+Model!$C$48","v":0.59200000000000041},0.55796543985529945,null,0.55796543985529945,null,0.3113254320729178,null,0.3479701495061282,0,0,null,0.34745073523828451]
[{"$f":"A605+Model!$C$48","v":0.59300000000000042},0.55758031130048125,null,0.55758031130048125,null,0.31089580354994156,null,0.34828126012393962,0.34807396050390149,1,null,0.34807396050390149]
[{"$f":"A606+Model!$C$48","v":0.59400000000000042},0.5571959645478719,null,0.5571959645478719,null,0.31046734290843331,null,0.34859194169716878,0,0,null,0.34807396050390149]
[{"$f":"A607+Model!$C$48","v":0.59500000000000042},0.55681239701897212,null,0.55681239701897212,null,0.31004004547401343,null,0.34890219539136003,0.3486954664705737,1,null,0.3486954664705737]
[{"$f":"A608+Model!$C$48","v":0.59600000000000042},0.55642960614678572,null,0.55642960614678572,null,0.3096139065966671,null,0.34921202236739535,0,0,null,0.3486954664705737]
[{"$f":"A609+Model!$C$48","v":0.59700000000000042},0.55604758937575749,null,0.55604758937575749,null,0.30918892165059103,null,0.34952142378151896,0.34931526246893685,1,null,0.34931526246893685]
[{"$f":"A610+Model!$C$48","v":0.59800000000000042},0.5556663441617109,null,0.5556663441617109,null,0.30876508603404096,null,0.34983040078536126,0,0,null,0.34931526246893685]
[{"$f":"A611+Model!$C$48","v":0.59900000000000042},0.55528586797178592,null,0.55528586797178592,null,0.30834239516917966,null,0.35013895452596289,0.34993335775516032,1,null,0.34993335775516032]
[{"$f":"A612+Model!$C$48","v":0.60000000000000042},0.55490615828437706,null,0.55490615828437706,null,0.30792084450192614,null,0.35044708614579845,0,0,null,0.34993335775516032]
[{"$f":"A613+Model!$C$48","v":0.60100000000000042},0.55452721258907278,null,0.55452721258907278,null,0.30750042950180673,null,0.3507547967828003,0.35054976151172051,1,null,0.35054976151172051]
[{"$f":"A614+Model!$C$48","v":0.60200000000000042},0.55414902838659408,null,0.55414902838659408,null,0.30708114566180628,null,0.3510620875703821,0,0,null,0.35054976151172051]
[{"$f":"A615+Model!$C$48","v":0.60300000000000042},0.5537716031887342,null,0.5537716031887342,null,0.30666298849822088,null,0.35136895963746212,0.35116448284816415,1,null,0.35116448284816415]
[{"$f":"A616+Model!$C$48","v":0.60400000000000043},0.55339493451829846,null,0.55339493451829846,null,0.30624595355051182,null,0.35167541410848646,0,0,null,0.35116448284816415]
[{"$f":"A617+Model!$C$48","v":0.60500000000000043},0.55301901990904512,null,0.55301901990904512,null,0.30583003638116085,null,0.35198145210345227,0.35177753080186214,1,null,0.35177753080186214]
[{"$f":"A618+Model!$C$48","v":0.60600000000000043},0.55264385690562412,null,0.55264385690562412,null,0.30541523257552394,null,0.35228707473793064,0,0,null,0.35177753080186214]
[{"$f":"A619+Model!$C$48","v":0.60700000000000043},0.55226944306352044,null,0.55226944306352044,null,0.30500153774169103,null,0.35259228312308927,0.35238891433875402,1,null,0.35238891433875402]
[{"$f":"A620+Model!$C$48","v":0.60800000000000043},0.55189577594899375,null,0.55189577594899375,null,0.30458894751034193,null,0.35289707836571527,0,0,null,0.35238891433875402]
[{"$f":"A621+Model!$C$48","v":0.60900000000000043},0.5515228531390205,null,0.5515228531390205,null,0.30417745753460557,null,0.35320146156823773,0.35299864235408318,1,null,0.35299864235408318]
[{"$f":"A622+Model!$C$48","v":0.61000000000000043},0.55115067222123681,null,0.55115067222123681,null,0.30376706348992122,null,0.35350543382874999,0,0,null,0.35299864235408318]
[{"$f":"A623+Model!$C$48","v":0.61100000000000043},0.5507792307938798,null,0.5507792307938798,null,0.30335776107389789,null,0.3538089962410319,0.35360672367312262,1,null,0.35360672367312262]
[{"$f":"A624+Model!$C$48","v":0.61200000000000043},0.55040852646573035,null,0.55040852646573035,null,0.30294954600617657,null,0.35411214989457196,0,0,null,0.35360672367312262]
[{"$f":"A625+Model!$C$48","v":0.61300000000000043},0.55003855685605807,null,0.55003855685605807,null,0.30254241402829501,null,0.35441489587458919,0.35421316705189193,1,null,0.35421316705189193]
[{"$f":"A626+Model!$C$48","v":0.61400000000000043},0.54966931959456145,null,0.54966931959456145,null,0.30213636090354812,null,0.35471723526205512,0,0,null,0.35421316705189193]
[{"$f":"A627+Model!$C$48","v":0.61500000000000044},0.54930081232131467,null,0.54930081232131467,null,0.30173138241685615,null,0.35501916913371534,0.35481798117786534,1,null,0.35481798117786534]
[{"$f":"A628+Model!$C$48","v":0.61600000000000044},0.54893303268671001,null,0.54893303268671001,null,0.30132747437462865,null,0.35532069856211107,0,0,null,0.35481798117786534]
[{"$f":"A629+Model!$C$48","v":0.61700000000000044},0.5485659783514043,null,0.5485659783514043,null,0.30092463260463337,null,0.35562182461560071,0.35542117467067091,1,null,0.35542117467067091]
[{"$f":"A630+Model!$C$48","v":0.61800000000000044},0.54819964698626078,null,0.54819964698626078,null,0.30052285295586095,null,0.35592254835838094,0,0,null,0.35542117467067091]
[{"$f":"A631+Model!$C$48","v":0.61900000000000044},0.54783403627229743,null,0.54783403627229743,null,0.30012213129839688,null,0.35622287085050808,0.356022756082781,1,null,0.356022756082781]
[{"$f":"A632+Model!$C$48","v":0.62000000000000044},0.54746914390062973,null,0.54746914390062973,null,0.29972246352328841,null,0.3565227931479189,0,0,null,0.356022756082781]
[{"$f":"A633+Model!$C$48","v":0.62100000000000044},0.54710496757241833,null,0.54710496757241833,null,0.29932384554241692,null,0.35682231630245176,0.35662273390019439,1,null,0.35662273390019439]
[{"$f":"A634+Model!$C$48","v":0.62200000000000044},0.5467415049988148,null,0.5467415049988148,null,0.29892627328836902,null,0.35712144136186713,0,0,null,0.35662273390019439]
[{"$f":"A635+Model!$C$48","v":0.62300000000000044},0.5463787539009084,null,0.5463787539009084,null,0.29852974271430943,null,0.35742016936986848,0.35722111654310984,1,null,0.35722111654310984]
[{"$f":"A636+Model!$C$48","v":0.62400000000000044},0.54601671200967106,null,0.54601671200967106,null,0.29813424979385206,null,0.35771850136612254,0,0,null,0.35722111654310984]
[{"$f":"A637+Model!$C$48","v":0.62500000000000044},0.54565537706590828,null,0.54565537706590828,null,0.29773979052093852,null,0.35801643838627994,0.3578179123665915,1,null,0.3578179123665915]
[{"$f":"A638+Model!$C$48","v":0.62600000000000044},0.54529474682020207,null,0.54529474682020207,null,0.29734636090970828,null,0.35831398146199528,0,0,null,0.3578179123665915]
[{"$f":"A639+Model!$C$48","v":0.62700000000000045},0.544934819032863,null,0.544934819032863,null,0.29695395699437915,null,0.35861113162094732,0.3584131296612259,1,null,0.3584131296612259]
[{"$f":"A640+Model!$C$48","v":0.62800000000000045},0.54457559147387502,null,0.54457559147387502,null,0.2965625748291208,null,0.35890788988685907,0,0,null,0.3584131296612259]
[{"$f":"A641+Model!$C$48","v":0.62900000000000045},0.54421706192284613,null,0.54421706192284613,null,0.29617221048793496,null,0.3592042572795176,0.35900677665377118,1,null,0.35900677665377118]
[{"$f":"A642+Model!$C$48","v":0.63000000000000045},0.54385922816895582,null,0.54385922816895582,null,0.29578286006453236,null,0.35950023481479382,0,0,null,0.35900677665377118]
[{"$f":"A643+Model!$C$48","v":0.63100000000000045},0.54350208801090494,null,0.54350208801090494,null,0.29539451967221347,null,0.35979582350466222,0.35959886150779813,1,null,0.35959886150779813]
[{"$f":"A644+Model!$C$48","v":0.63200000000000045},0.54314563925686432,null,0.54314563925686432,null,0.29500718544374777,null,0.36009102435722018,0,0,null,0.35959886150779813]
[{"$f":"A645+Model!$C$48","v":0.63300000000000045},0.54278987972442572,null,0.54278987972442572,null,0.29462085353125655,null,0.36038583837670768,0.36018939232432357,1,null,0.36018939232432357]
[{"$f":"A646+Model!$C$48","v":0.63400000000000045},0.5424348072405506,null,0.5424348072405506,null,0.29423552010609327,null,0.36068026656352636,0,0,null,0.36018939232432357]
[{"$f":"A647+Model!$C$48","v":0.63500000000000045},0.54208041964151998,null,0.54208041964151998,null,0.2938511813587264,null,0.36097430991425877,0.36077837714243599,1,null,0.36077837714243599]
[{"$f":"A648+Model!$C$48","v":0.63600000000000045},0.54172671477288759,null,0.54172671477288759,null,0.29346783349862549,null,0.36126796942168743,0,0,null,0.36077837714243599]
[{"$f":"A649+Model!$C$48","v":0.63700000000000045},0.54137369048942785,null,0.54137369048942785,null,0.29308547275414282,null,0.36156124607481382,0.3613658239399134,1,null,0.3613658239399134]
[{"$f":"A650+Model!$C$48","v":0.63800000000000046},0.54102134465508933,null,0.54102134465508933,null,0.29270409537240094,null,0.36185414085887707,0,0,null,0.3613658239399134]
[{"$f":"A651+Model!$C$48","v":0.63900000000000046},0.54066967514294417,null,0.54066967514294417,null,0.29232369761917676,null,0.36214665475537289,0.36195174063383384,1,null,0.36195174063383384]
[{"$f":"A652+Model!$C$48","v":0.64000000000000046},0.5403186798351417,null,0.5403186798351417,null,{"$f":"B653*D653","v":0.29194427577879034},null,0.36243878874207186,0,0,null,0.36195174063383384]
[{"$f":"A653+Model!$C$48","v":0.64100000000000046},{"$f":"ERF($B$10/SQRT(A654))","v":0.53996835662286025},null,{"$f":"IF($B$11>0,ERF($B$11/SQRT(A654)),-ERF(-$B$11/SQRT(A654)))","v":0.53996835662286025},null,0.2915658261539924,null,{"$f":"0.5*(F654+F653)*(A654-A653)+H653","v":0.36273054379303826},0.3625361350811786,1,null,0.3625361350811786]
[{"$f":"A654+Model!$C$48","v":0.64200000000000046},0.53961870340625806,null,0.53961870340625806,null,0.29118834506585112,null,0.36302192087864821,0,{"$f":"IF(J654=1,0,1)","v":0},null,0.3625361350811786]
[{"$f":"A655+Model!$C$48","v":0.64300000000000046},0.5392697180944277,null,0.5392697180944277,null,0.29081182885364354,null,0.36331292096560797,0.36311901507942784,1,null,0.36311901507942784]
[{"$f":"A656+Model!$C$48","v":0.64400000000000046},0.53892139860534849,null,0.53892139860534849,null,0.29043627387474491,null,0.36360354501697217,{"$f":"(I655+((A657-A656)/3)*(4*F655+2*F656))*J657","v":0},0,null,{"$f":"IF(J657=1,I657,I656)","v":0.36311901507942784}]
[{"$f":"A657+Model!$C$48","v":0.64500000000000046},0.53857374286583903,null,0.53857374286583903,null,0.29006167650451892,null,0.36389379399216182,0.36370038836714919,1,null,0.36370038836714919]
[{"$f":"A658+Model!$C$48","v":0.64600000000000046},0.53822674881151211,null,0.53822674881151211,null,0.28968803313621055,null,0.36418366884698217,0,0,null,0.36370038836714919]
[{"$f":"A659+Model!$C$48","v":0.64700000000000046},0.53788041438672696,null,0.53788041438672696,null,0.2893153401808371,null,0.3644731705336407,0.36428026262457935,1,null,0.36428026262457935]
[{"$f":"A660+Model!$C$48","v":0.64800000000000046},0.53753473754454451,null,0.53753473754454451,null,0.28894359406708237,null,0.36476230000076465,0,0,null,0.36428026262457935]
[{"$f":"A661+Model!$C$48","v":0.64900000000000047},0.53718971624668155,null,0.53718971624668155,null,0.28857279124119023,null,0.36505105819341876,0.36485864547419855,1,null,0.36485864547419855]
[{"$f":"A662+Model!$C$48","v":0.65000000000000047},0.53684534846346488,null,0.53684534846346488,null,0.28820292816685905,null,0.3653394460531228,0,0,null,0.36485864547419855]
[{"$f":"A663+Model!$C$48","v":0.65100000000000047},0.53650163217378743,null,0.53650163217378743,null,0.28783400132513792,null,0.36562746451786882,0.36543554448129806,1,null,0.36543554448129806]
[{"$f":"A664+Model!$C$48","v":0.65200000000000047},0.53615856536506135,null,0.53615856536506135,null,0.28746600721432075,null,0.36591511452213854,0,0,null,0.36543554448129806]
[{"$f":"A665+Model!$C$48","v":0.65300000000000047},0.5358161460331754,null,0.5358161460331754,null,0.28709894234984512,null,0.36620239699692064,0.36601096715454112,1,null,0.36601096715454112]
[{"$f":"A666+Model!$C$48","v":0.65400000000000047},0.53547437218245053,null,0.53547437218245053,null,0.28673280326418954,null,0.36648931286972763,0,0,null,0.36601096715454112]
[{"$f":"A667+Model!$C$48","v":0.65500000000000047},0.53513324182559441,null,0.53513324182559441,null,0.28636758650677008,null,0.36677586306461313,0.36658492094651707,1,null,0.36658492094651707]
[{"$f":"A668+Model!$C$48","v":0.65600000000000047},0.53479275298365958,null,0.53479275298365958,null,0.28600328864384156,null,0.36706204850218843,0,0,null,0.36658492094651707]
[{"$f":"A669+Model!$C$48","v":0.65700000000000047},0.53445290368599874,null,0.53445290368599874,null,0.28563990625839542,null,0.36734787009963954,0.36715741325428863,1,null,0.36715741325428863]
[{"$f":"A670+Model!$C$48","v":0.65800000000000047},0.53411369197022174,null,0.53411369197022174,null,0.28527743595006089,null,0.36763332877074378,0,0,null,0.36715741325428863]
[{"$f":"A671+Model!$C$48","v":0.65900000000000047},0.53377511588215343,null,0.53377511588215343,null,0.28491587433500631,null,0.36791842542588632,0.36772845141993321,1,null,0.36772845141993321]
[{"$f":"A672+Model!$C$48","v":0.66000000000000048},0.53343717347578978,null,0.53343717347578978,null,0.28455521804583983,null,0.36820316097207673,0,0,null,0.36772845141993321]
[{"$f":"A673+Model!$C$48","v":0.66100000000000048},0.53309986281325594,null,0.53309986281325594,null,0.28419546373151233,null,0.36848753631296538,0.36829804273107714,1,null,0.36829804273107714]
[{"$f":"A674+Model!$C$48","v":0.66200000000000048},0.53276318196476524,null,0.53276318196476524,null,0.28383660805722155,null,0.36877155234885972,0,0,null,0.36829804273107714]
[{"$f":"A675+Model!$C$48","v":0.66300000000000048},0.53242712900857536,null,0.53242712900857536,null,0.28347864770431414,null,0.36905520997674052,0.36886619442142399,1,null,0.36886619442142399]
[{"$f":"A676+Model!$C$48","v":0.66400000000000048},0.53209170203094758,null,0.53209170203094758,null,0.28312157937019072,null,0.36933851009027779,0,0,null,0.36886619442142399]
[{"$f":"A677+Model!$C$48","v":0.66500000000000048},0.53175689912610524,null,0.53175689912610524,null,0.28276539976821086,null,0.36962145357984699,0.36943291367127651,1,null,0.36943291367127651]
[{"$f":"A678+Model!$C$48","v":0.66600000000000048},0.53142271839619382,null,0.53142271839619382,null,0.28241010562760033,null,0.3699040413325449,0,0,null,0.36943291367127651]
[{"$f":"A679+Model!$C$48","v":0.66700000000000048},0.53108915795123757,null,0.53108915795123757,null,0.28205569369335459,null,0.37018627423220535,0.36999820760805252,1,null,0.36999820760805252]
[{"$f":"A680+Model!$C$48","v":0.66800000000000048},0.53075621590910083,null,0.53075621590910083,null,0.28170216072614807,null,0.37046815315941511,0,0,null,0.36999820760805252]
[{"$f":"A681+Model!$C$48","v":0.66900000000000048},0.53042389039544657,null,0.53042389039544657,null,0.28134950350224069,null,0.37074967899152933,0.37056208330679441,1,null,0.37056208330679441]
[{"$f":"A682+Model!$C$48","v":0.67000000000000048},0.53009217954369703,null,0.53009217954369703,null,0.28099771881338714,null,0.37103085260268714,0,0,null,0.37056208330679441]
[{"$f":"A683+Model!$C$48","v":0.67100000000000048},0.5297610814949929,null,0.5297610814949929,null,0.28064680346674453,null,0.37131167486382721,0.371124547790673,1,null,0.371124547790673]
[{"$f":"A684+Model!$C$48","v":0.67200000000000049},0.52943059439815532,null,0.52943059439815532,null,0.28029675428478407,null,0.37159214664270296,0,0,null,0.371124547790673]
[{"$f":"A685+Model!$C$48","v":0.67300000000000049},0.52910071640964251,null,0.52910071640964251,null,0.27994756810519694,null,0.37187226880389795,0.3716856080314852,1,null,0.3716856080314852]
[{"$f":"A686+Model!$C$48","v":0.67400000000000049},0.5287714456935162,null,0.5287714456935162,null,0.27959924178081114,null,0.37215204220884096,0,0,null,0.3716856080314852]
[{"$f":"A687+Model!$C$48","v":0.67500000000000049},0.52844278042139781,null,0.52844278042139781,null,0.27925177217949765,null,0.37243146771582114,0.37224527095014603,1,null,0.37224527095014603]
[{"$f":"A688+Model!$C$48","v":0.67600000000000049},0.52811471877243221,null,0.52811471877243221,null,0.27890515618408518,null,0.37271054618000293,0,0,null,0.37224527095014603]
[{"$f":"A689+Model!$C$48","v":0.67700000000000049},0.52778725893324852,null,0.52778725893324852,null,0.27855939069227192,null,0.3729892784534411,0.37280354341717475,1,null,0.37280354341717475]
[{"$f":"A690+Model!$C$48","v":0.67800000000000049},0.52746039909792142,null,0.52746039909792142,null,0.27821447261653853,null,0.37326766538509548,0,0,null,0.37280354341717475]
[{"$f":"A691+Model!$C$48","v":0.67900000000000049},0.52713413746793358,null,0.52713413746793358,null,0.27787039888406229,null,0.37354570782084578,0.3733604322531755,1,null,0.3733604322531755]
[{"$f":"A692+Model!$C$48","v":0.68000000000000049},0.52680847225213845,null,0.52680847225213845,null,0.27752716643663211,null,0.37382340660350616,0,0,null,0.3733604322531755]
[{"$f":"A693+Model!$C$48","v":0.68100000000000049},0.52648340166672103,null,0.52648340166672103,null,0.27718477223056193,null,0.37410076257283975,0.37391594422931201,1,null,0.37391594422931201]
[{"$f":"A694+Model!$C$48","v":0.68200000000000049},0.52615892393516139,null,0.52615892393516139,null,0.27684321323660693,null,0.37437777656557336,0,0,null,0.37391594422931201]
[{"$f":"A695+Model!$C$48","v":0.6830000000000005},0.52583503728819847,null,0.52583503728819847,null,0.27650248643988107,null,0.37465444941541159,0.37447008606777715,1,null,0.37447008606777715]
[{"$f":"A696+Model!$C$48","v":0.6840000000000005},0.52551173996379108,null,0.52551173996379108,null,0.27616258883977118,null,0.37493078195305141,0,0,null,0.37447008606777715]
[{"$f":"A697+Model!$C$48","v":0.6850000000000005},0.5251890302070823,null,0.5251890302070823,null,0.27582351744985562,null,0.3752067750061962,0.37502286444225685,1,null,0.37502286444225685]
[{"$f":"A698+Model!$C$48","v":0.6860000000000005},0.52486690627036392,null,0.52486690627036392,null,0.27548526929782297,null,0.37548242939957005,0,0,null,0.37502286444225685]
[{"$f":"A699+Model!$C$48","v":0.6870000000000005},0.52454536641303817,null,0.52454536641303817,null,0.27514784142538845,null,0.37575774595493167,0.37557428597838854,1,null,0.37557428597838854]
[{"$f":"A700+Model!$C$48","v":0.6880000000000005},0.52422440890158328,null,0.52422440890158328,null,0.27481123088821441,null,0.37603272549108846,0,0,null,0.37557428597838854]
[{"$f":"A701+Model!$C$48","v":0.6890000000000005},0.52390403200951619,null,0.52390403200951619,null,0.27447543475582814,null,0.37630736882391047,0.37612435725421456,1,null,0.37612435725421456]
[{"$f":"A702+Model!$C$48","v":0.6900000000000005},0.52358423401735876,null,0.52358423401735876,null,0.27414045011154431,null,0.37658167676634413,0,0,null,0.37612435725421456]
[{"$f":"A703+Model!$C$48","v":0.6910000000000005},0.52326501321260011,null,0.52326501321260011,null,0.27380627405238256,null,0.37685565012842609,0.37667308480063005,1,null,0.37667308480063005]
[{"$f":"A704+Model!$C$48","v":0.6920000000000005},0.52294636788966342,null,0.52294636788966342,null,0.27347290368899119,null,0.37712928971729676,0,0,null,0.37667308480063005]
[{"$f":"A705+Model!$C$48","v":0.6930000000000005},0.5226282963498694,null,0.5226282963498694,null,0.27314033614556693,null,0.37740259633721401,0.37722047510182588,1,null,0.37722047510182588]
[{"$f":"A706+Model!$C$48","v":0.69400000000000051},0.52231079690140314,null,0.52231079690140314,null,0.27280856855977881,null,0.37767557078956671,0,0,null,0.37722047510182588]
[{"$f":"A707+Model!$C$48","v":0.69500000000000051},0.52199386785927682,null,0.52199386785927682,null,0.27247759808268812,null,0.37794821387288796,0.37776653459572651,1,null,0.37776653459572651]
[{"$f":"A708+Model!$C$48","v":0.69600000000000051},0.52167750754529851,null,0.52167750754529851,null,0.27214742187867497,null,0.37822052638286863,0,0,null,0.37776653459572651]
[{"$f":"A709+Model!$C$48","v":0.69700000000000051},0.52136171428803568,null,0.52136171428803568,null,0.27181803712535935,null,0.37849250911237065,0.37831126967442252,1,null,0.37831126967442252]
[{"$f":"A710+Model!$C$48","v":0.69800000000000051},0.52104648642278217,null,0.52104648642278217,null,0.27148944101352651,null,0.3787641628514401,0,0,null,0.37831126967442252]
[{"$f":"A711+Model!$C$48","v":0.69900000000000051},0.52073182229152437,null,0.52073182229152437,null,0.27116163074705174,null,0.37903548838732037,0.37885468668459871,1,null,0.37885468668459871]
[{"$f":"A712+Model!$C$48","v":0.70000000000000051},0.52041772024290656,null,0.52041772024290656,null,0.27083460354282413,null,0.3793064865044653,0,0,null,0.37885468668459871]
[{"$f":"A713+Model!$C$48","v":0.70100000000000051},0.52010417863219971,null,0.52010417863219971,null,0.27050835663067513,null,0.37957715798455205,0.37939679192795667,1,null,0.37939679192795667]
[{"$f":"A714+Model!$C$48","v":0.70200000000000051},0.51979119582126598,null,0.51979119582126598,null,0.2701828872533017,null,0.37984750360649405,0,0,null,0.37939679192795667]
[{"$f":"A715+Model!$C$48","v":0.70300000000000051},0.51947877017852706,null,0.51947877017852706,null,0.26985819266619493,null,0.38011752414645378,0.3799375916616331,1,null,0.3799375916616331]
[{"$f":"A716+Model!$C$48","v":0.70400000000000051},0.51916690007893085,null,0.51916690007893085,null,{"$f":"B717*D717","v":0.26953427013756659},null,0.38038722037785566,0,0,null,0.3799375916616331]
[{"$f":"A717+Model!$C$48","v":0.70500000000000052},{"$f":"ERF($B$10/SQRT(A718))","v":0.51885558390391928},null,{"$f":"IF($B$11>0,ERF($B$11/SQRT(A718)),-ERF(-$B$11/SQRT(A718)))","v":0.51885558390391928},null,0.26921111694827704,null,{"$f":"0.5*(F718+F717)*(A718-A717)+H717","v":0.3806565930713986},0.38047709209861308,1,null,0.38047709209861308]
[{"$f":"A718+Model!$C$48","v":0.70600000000000052},0.51854482004139513,null,0.51854482004139513,null,0.26888873039176286,null,0.38092564299506859,0,{"$f":"IF(J718=1,0,1)","v":0},null,0.38047709209861308]
[{"$f":"A719+Model!$C$48","v":0.70700000000000052},0.51823460688569067,null,0.51823460688569067,null,0.26856710777396636,null,0.38119437091415148,0.38101529940813861,1,null,0.38101529940813861]
[{"$f":"A720+Model!$C$48","v":0.70800000000000052},0.5179249428375351,null,0.5179249428375351,null,0.268246246413264,null,0.38146277759124508,{"$f":"(I719+((A721-A720)/3)*(4*F719+2*F720))*J721","v":0},0,null,{"$f":"IF(J721=1,I721,I720)","v":0.38101529940813861}]
[{"$f":"A721+Model!$C$48","v":0.70900000000000052},0.51761582630402247,null,0.51761582630402247,null,0.26792614364039596,null,0.38173086378627191,0.38155221971611275,1,null,0.38155221971611275]
[{"$f":"A722+Model!$C$48","v":0.71000000000000052},0.51730725569858094,null,0.51730725569858094,null,0.267606796798397,null,0.38199863025649133,0,0,null,0.38155221971611275]
[{"$f":"A723+Model!$C$48","v":0.71100000000000052},0.51699922944093968,null,0.51699922944093968,null,0.26728820324252539,null,0.38226607775651178,0.38208785910549886,1,null,0.38208785910549886]
[{"$f":"A724+Model!$C$48","v":0.71200000000000052},0.51669174595709966,null,0.51669174595709966,null,0.266970360340196,null,0.38253320703830312,0,0,null,0.38208785910549886]
[{"$f":"A725+Model!$C$48","v":0.71300000000000052},0.51638480367930073,null,0.51638480367930073,null,0.26665326547090995,null,0.38280001885120868,0.38262222361671572,1,null,0.38262222361671572]
[{"$f":"A726+Model!$C$48","v":0.71400000000000052},0.51607840104599156,null,0.51607840104599156,null,0.26633691602618731,null,0.38306651394195723,0,0,null,0.38262222361671572]
[{"$f":"A727+Model!$C$48","v":0.71500000000000052},0.51577253650179899,null,0.51577253650179899,null,0.26602130940949958,null,0.3833326930546751,0.3831553192480277,1,null,0.3831553192480277]
[{"$f":"A728+Model!$C$48","v":0.71600000000000052},0.51546720849749617,null,0.51546720849749617,null,0.26570644303620117,null,0.38359855693089795,0,0,null,0.3831553192480277]
[{"$f":"A729+Model!$C$48","v":0.71700000000000053},0.51516241548997432,null,0.51516241548997432,null,0.26539231433346494,null,0.38386410630958279,0.38368715195593117,1,null,0.38368715195593117]
[{"$f":"A730+Model!$C$48","v":0.71800000000000053},0.51485815594221096,null,0.51485815594221096,null,0.265078920740214,null,0.38412934192711962,0,0,null,0.38368715195593117]
[{"$f":"A731+Model!$C$48","v":0.71900000000000053},0.51455442832323983,null,0.51455442832323983,null,0.26476625970705614,null,0.38439426451734326,0.38421772765553591,1,null,0.38421772765553591]
[{"$f":"A732+Model!$C$48","v":0.72000000000000053},0.51425123110812165,null,0.51425123110812165,null,0.26445432869621877,null,0.38465887481154493,0,0,null,0.38421772765553591]
[{"$f":"A733+Model!$C$48","v":0.72100000000000053},0.51394856277791423,null,0.51394856277791423,null,0.26414312518148364,null,0.38492317353848376,0.3847470522209428,1,null,0.3847470522209428]
[{"$f":"A734+Model!$C$48","v":0.72200000000000053},0.51364642181964315,null,0.51364642181964315,null,0.26383264664812278,null,0.38518716142439857,0,0,null,0.3847470522209428]
[{"$f":"A735+Model!$C$48","v":0.72300000000000053},0.51334480672627136,null,0.51334480672627136,null,0.2635228905928329,null,0.38545083919301903,0.38527513148561687,1,null,0.38527513148561687]
[{"$f":"A736+Model!$C$48","v":0.72400000000000053},0.51304371599667187,null,0.51304371599667187,null,0.26321385452367368,null,0.38571420756557728,0,0,null,0.38527513148561687]
[{"$f":"A737+Model!$C$48","v":0.72500000000000053},0.5127431481355964,null,0.5127431481355964,null,0.26290553596000216,null,0.3859772672608191,0.38580197124275645,1,null,0.38580197124275645]
[{"$f":"A738+Model!$C$48","v":0.72600000000000053},0.51244310165364904,null,0.51244310165364904,null,0.26259793243241208,null,0.38624001899501531,0,0,null,0.38580197124275645]
[{"$f":"A739+Model!$C$48","v":0.72700000000000053},0.51214357506725539,null,0.51214357506725539,null,0.26229104148266946,null,0.38650246348197287,0.38632757724565808,1,null,0.38632757724565808]
[{"$f":"A740+Model!$C$48","v":0.72800000000000054},0.51184456689863533,null,0.51184456689863533,null,0.26198486066365156,null,0.38676460143304603,0,0,null,0.38632757724565808]
[{"$f":"A741+Model!$C$48","v":0.72900000000000054},0.51154607567577404,null,0.51154607567577404,null,0.26167938753928471,null,0.3870264335571475,0.38685195520807741,1,null,0.38685195520807741]
[{"$f":"A742+Model!$C$48","v":0.73000000000000054},0.51124809993239428,null,0.51124809993239428,null,0.26137461968448339,null,0.38728796056075937,0,0,null,0.38685195520807741]
[{"$f":"A743+Model!$C$48","v":0.73100000000000054},0.51095063820792852,null,0.51095063820792852,null,0.26107055468508944,null,0.38754918314794418,0.38737511080458614,1,null,0.38737511080458614]
[{"$f":"A744+Model!$C$48","v":0.73200000000000054},0.51065368904748987,null,0.51065368904748987,null,0.26076719013781047,null,0.38781010202035565,0,0,null,0.38737511080458614]
[{"$f":"A745+Model!$C$48","v":0.73300000000000054},0.51035725100184537,null,0.51035725100184537,null,0.2604645236501606,null,0.38807071787724962,0.38789704967092481,1,null,0.38789704967092481]
[{"$f":"A746+Model!$C$48","v":0.73400000000000054},0.51006132262738901,null,0.51006132262738901,null,0.26016255284040141,null,0.38833103141549491,0,0,null,0.38789704967092481]
[{"$f":"A747+Model!$C$48","v":0.73500000000000054},0.50976590248611298,null,0.50976590248611298,null,0.25986127533748127,null,0.38859104332958383,0.38841777740435196,1,null,0.38841777740435196]
[{"$f":"A748+Model!$C$48","v":0.73600000000000054},0.5094709891455812,null,0.5094709891455812,null,0.25956068878097693,null,0.38885075431164307,0,0,null,0.38841777740435196]
[{"$f":"A749+Model!$C$48","v":0.73700000000000054},0.50917658117890197,null,0.50917658117890197,null,0.25926079082103493,null,0.38911016505144408,0.38893729956398926,1,null,0.38893729956398926]
[{"$f":"A750+Model!$C$48","v":0.73800000000000054},0.5088826771647017,null,0.5088826771647017,null,0.25896157911831402,null,0.38936927623641376,0,0,null,0.38893729956398926]
[{"$f":"A751+Model!$C$48","v":0.73900000000000055},0.50858927568709744,null,0.50858927568709744,null,0.25866305134392642,null,0.38962808855164488,0.38945562167116282,1,null,0.38945562167116282]
[{"$f":"A752+Model!$C$48","v":0.74000000000000055},0.50829637533566996,null,0.50829637533566996,null,0.25836520517938028,null,0.38988660267990655,0,0,null,0.38945562167116282]
[{"$f":"A753+Model!$C$48","v":0.74100000000000055},0.50800397470543857,null,0.50800397470543857,null,0.25806803831652386,null,0.39014481930165451,0.38997274920974095,1,null,0.38997274920974095]
[{"$f":"A754+Model!$C$48","v":0.74200000000000055},0.50771207239683402,null,0.50771207239683402,null,0.25777154845748801,null,0.39040273909504153,0,0,null,0.38997274920974095]
[{"$f":"A755+Model!$C$48","v":0.74300000000000055},0.50742066701567168,null,0.50742066701567168,null,0.25747573331462914,null,0.39066036273592758,0.39048868762646799,1,null,0.39048868762646799]
[{"$f":"A756+Model!$C$48","v":0.74400000000000055},0.50712975717312692,null,0.50712975717312692,null,0.25718059061047466,null,0.39091769089789014,0,0,null,0.39048868762646799]
[{"$f":"A757+Model!$C$48","v":0.74500000000000055},0.50683934148570819,null,0.50683934148570819,null,0.25688611807766631,null,0.39117472425223421,0.39100344233129447,1,null,0.39100344233129447]
[{"$f":"A758+Model!$C$48","v":0.74600000000000055},0.50654941857523228,null,0.50654941857523228,null,0.25659231345890587,null,0.39143146346800251,0,0,null,0.39100344233129447]
[{"$f":"A759+Model!$C$48","v":0.74700000000000055},0.50625998706879771,null,0.50625998706879771,null,0.25629917450689921,null,0.39168790921198543,0.39151701869770394,1,null,0.39151701869770394]
[{"$f":"A760+Model!$C$48","v":0.74800000000000055},0.50597104559875972,null,0.50597104559875972,null,0.25600669898430217,null,0.39194406214873101,0,0,null,0.39151701869770394]
[{"$f":"A761+Model!$C$48","v":0.74900000000000055},0.50568259280270511,null,0.50568259280270511,null,0.25571488466366649,null,0.392199922940555,0.39202942206303604,1,null,0.39202942206303604]
[{"$f":"A762+Model!$C$48","v":0.75000000000000056},0.50539462732342766,null,0.50539462732342766,null,0.25542372932738633,null,0.39245549224755055,0,0,null,0.39202942206303604]
[{"$f":"A763+Model!$C$48","v":0.75100000000000056},0.50510714780890187,null,0.50510714780890187,null,0.25513323076764383,null,0.39271077072759808,0.39254065772880586,1,null,0.39254065772880586]
[{"$f":"A764+Model!$C$48","v":0.75200000000000056},0.50482015291225868,null,0.50482015291225868,null,0.25484338678635626,null,0.3929657590363751,0,0,null,0.39254065772880586]
[{"$f":"A765+Model!$C$48","v":0.75300000000000056},0.50453364129176159,null,0.50453364129176159,null,0.25455419519512396,null,0.39322045782736581,0.39305073096102028,1,null,0.39305073096102028]
[{"$f":"A766+Model!$C$48","v":0.75400000000000056},0.50424761161078113,null,0.50424761161078113,null,0.25426565381517718,null,0.39347486775187096,0,0,null,0.39305073096102028]
[{"$f":"A767+Model!$C$48","v":0.75500000000000056},0.50396206253777021,null,0.50396206253777021,null,0.2539777604773234,null,0.39372898945901719,0.39355964699049056,1,null,0.39355964699049056]
[{"$f":"A768+Model!$C$48","v":0.75600000000000056},0.503676992746241,null,0.503676992746241,null,0.25369051302189694,null,0.39398282359576681,0,0,null,0.39355964699049056]
[{"$f":"A769+Model!$C$48","v":0.75700000000000056},0.50339240091473969,null,0.50339240091473969,null,0.25340390929870604,null,0.39423637080692708,0.39406741101314158,1,null,0.39406741101314158]
[{"$f":"A770+Model!$C$48","v":0.75800000000000056},0.50310828572682331,null,0.50310828572682331,null,0.25311794716698288,null,0.39448963173515994,0,0,null,0.39406741101314158]
[{"$f":"A771+Model!$C$48","v":0.75900000000000056},0.50282464587103493,null,0.50282464587103493,null,0.25283262449533167,null,0.39474260702099112,0.39457402819031784,1,null,0.39457402819031784]
[{"$f":"A772+Model!$C$48","v":0.76000000000000056},0.50254148004088062,null,0.50254148004088062,null,0.25254793916167884,null,0.39499529730281963,0,0,null,0.39457402819031784]
[{"$f":"A773+Model!$C$48","v":0.76100000000000056},0.50225878693480597,null,0.50225878693480597,null,0.25226388905322283,null,0.39524770321692709,0.39507950364908606,1,null,0.39507950364908606]
[{"$f":"A774+Model!$C$48","v":0.76200000000000057},0.50197656525617229,null,0.50197656525617229,null,0.25198047206638419,null,0.3954998253974869,0,0,null,0.39507950364908606]
[{"$f":"A775+Model!$C$48","v":0.76300000000000057},0.50169481371323243,null,0.50169481371323243,null,0.25169768610675497,null,0.39575166447657345,0.39558384248253464,1,null,0.39558384248253464]
[{"$f":"A776+Model!$C$48","v":0.76400000000000057},0.5014135310191099,null,0.5014135310191099,null,0.2514155290890519,null,0.39600322108417135,0,0,null,0.39558384248253464]
[{"$f":"A777+Model!$C$48","v":0.76500000000000057},0.50113271589177288,null,0.50113271589177288,null,0.25113399893706434,null,0.3962544958481844,0.3960870497500697,1,null,0.3960870497500697]
[{"$f":"A778+Model!$C$48","v":0.76600000000000057},0.50085236705401426,null,0.50085236705401426,null,0.25085309358360902,null,0.39650548939444474,0,0,null,0.3960870497500697]
[{"$f":"A779+Model!$C$48","v":0.76700000000000057},0.50057248323342518,null,0.50057248323342518,null,0.25057281097047773,null,0.39675620234672176,0.39658913047770816,1,null,0.39658913047770816]
[{"$f":"A780+Model!$C$48","v":0.76800000000000057},0.50029306316237632,null,0.50029306316237632,null,{"$f":"B781*D781","v":0.25029314904839345},null,0.39700663532673119,0,0,null,0.39658913047770816]
[{"$f":"A781+Model!$C$48","v":0.76900000000000057},{"$f":"ERF($B$10/SQRT(A782))","v":0.50001410557799275},null,{"$f":"IF($B$11>0,ERF($B$11/SQRT(A782)),-ERF(-$B$11/SQRT(A782)))","v":0.50001410557799275},null,0.25001410577696009,null,{"$f":"0.5*(F782+F781)*(A782-A781)+H781","v":0.39725678895414385},0.39709008965836773,1,null,0.39709008965836773]
[{"$f":"A782+Model!$C$48","v":0.77000000000000057},0.49973560922213217,null,0.49973560922213217,null,0.24973567912461558,null,0.39750666384659461,0,{"$f":"IF(J782=1,0,1)","v":0},null,0.39709008965836773]
[{"$f":"A783+Model!$C$48","v":0.77100000000000057},0.499457572841363,null,0.499457572841363,null,0.24945786706858541,null,0.39775626061969122,0.39758993225215344,1,null,0.39758993225215344]
[{"$f":"A784+Model!$C$48","v":0.77200000000000057},0.49917999518694101,null,0.49917999518694101,null,0.24918066759483445,null,0.3980055798870229,{"$f":"(I783+((A785-A784)/3)*(4*F783+2*F784))*J785","v":0},0,null,{"$f":"IF(J785=1,I785,I784)","v":0.39758993225215344}]
[{"$f":"A785+Model!$C$48","v":0.77300000000000058},0.49890287501478864,null,0.49890287501478864,null,0.24890407869802181,null,0.39825462226016933,0.39808866318664143,1,null,0.39808866318664143]
[{"$f":"A786+Model!$C$48","v":0.77400000000000058},0.49862621108547245,null,0.49862621108547245,null,0.24862809838145414,null,0.39850338834870908,0,0,null,0.39808866318664143]
[{"$f":"A787+Model!$C$48","v":0.77500000000000058},0.49835000216418174,null,0.49835000216418174,null,0.24835272465703995,null,0.39875187876022833,0.39858628735715979,1,null,0.39858628735715979]
[{"$f":"A788+Model!$C$48","v":0.77600000000000058},0.49807424702070552,null,0.49807424702070552,null,0.24807795554524278,null,0.39900009410032949,0,0,null,0.39858628735715979]
[{"$f":"A789+Model!$C$48","v":0.77700000000000058},0.4977989444294128,null,0.4977989444294128,null,0.24780378907503761,null,0.39924803497263961,0.39908280962706599,1,null,0.39908280962706599]
[{"$f":"A790+Model!$C$48","v":0.77800000000000058},0.49752409316922935,null,0.49752409316922935,null,0.24753022328386401,null,0.39949570197881906,0,0,null,0.39908280962706599]
[{"$f":"A791+Model!$C$48","v":0.77900000000000058},0.49724969202361774,null,0.49724969202361774,null,0.24725725621758268,null,0.39974309571856981,0.39957823482802196,1,null,0.39957823482802196]
[{"$f":"A792+Model!$C$48","v":0.78000000000000058},0.49697573978055587,null,0.49697573978055587,null,0.24698488593043078,null,0.3999902167896438,0,0,null,0.39957823482802196]
[{"$f":"A793+Model!$C$48","v":0.78100000000000058},0.49670223523251483,null,0.49670223523251483,null,0.24671311048497649,null,0.40023706578785151,0.40007256776026567,1,null,0.40007256776026567]
[{"$f":"A794+Model!$C$48","v":0.78200000000000058},0.49642917717643964,null,0.49642917717643964,null,0.24644192795207689,null,0.40048364330707004,0,0,null,0.40007256776026567]
[{"$f":"A795+Model!$C$48","v":0.78300000000000058},0.49615656441372669,null,0.49615656441372669,null,0.24617133641083253,null,0.40072994993925148,0.40056581319288037,1,null,0.40056581319288037]
[{"$f":"A796+Model!$C$48","v":0.78400000000000059},0.49588439575020365,null,0.49588439575020365,null,0.2459013339485446,null,0.40097598627443115,0,0,null,0.40056581319288037]
[{"$f":"A797+Model!$C$48","v":0.78500000000000059},0.49561266999611003,null,0.49561266999611003,null,0.24563191866067308,null,0.40122175290073575,0.4010579758640605,1,null,0.4010579758640605]
[{"$f":"A798+Model!$C$48","v":0.78600000000000059},0.4953413859660743,null,0.4953413859660743,null,0.2453630886507914,null,0.40146725040439146,0,0,null,0.4010579758640605]
[{"$f":"A799+Model!$C$48","v":0.78700000000000059},0.49507054247909543,null,0.49507054247909543,null,0.24509484203054582,null,0.40171247936973214,0.40154906048137529,1,null,0.40154906048137529]
[{"$f":"A800+Model!$C$48","v":0.78800000000000059},0.49480013835852199,null,0.49480013835852199,null,0.2448271769196125,null,0.40195744037920722,0,0,null,0.40154906048137529]
[{"$f":"A801+Model!$C$48","v":0.78900000000000059},0.49453017243203146,null,0.49453017243203146,null,0.24456009144565477,null,0.40220213401338983,0.40203907172202907,1,null,0.40203907172202907]
[{"$f":"A802+Model!$C$48","v":0.79000000000000059},0.49426064353161087,null,0.49426064353161087,null,0.24429358374428212,null,0.40244656085098479,0,0,null,0.40203907172202907]
[{"$f":"A803+Model!$C$48","v":0.79100000000000059},0.49399155049353644,null,0.49399155049353644,null,0.24402765195900816,null,0.40269072146883644,0.40252801423311946,1,null,0.40252801423311946]
[{"$f":"A804+Model!$C$48","v":0.79200000000000059},0.49372289215835435,null,0.49372289215835435,null,0.24376229424121001,null,0.40293461644193657,0,0,null,0.40252801423311946]
[{"$f":"A805+Model!$C$48","v":0.79300000000000059},0.49345466737085969,null,0.49345466737085969,null,0.24349750875008577,null,0.40317824634343219,0.4030158926318923,1,null,0.4030158926318923]
[{"$f":"A806+Model!$C$48","v":0.79400000000000059},0.49318687498007835,null,0.49318687498007835,null,0.24323329365261542,null,0.40342161174463353,0,0,null,0.4030158926318923]
[{"$f":"A807+Model!$C$48","v":0.7950000000000006},0.49291951383924665,null,0.49291951383924665,null,0.24296964712351926,null,0.40366471321502162,0.40350271150599415,1,null,0.40350271150599415]
[{"$f":"A808+Model!$C$48","v":0.7960000000000006},0.49265258280579155,null,0.49265258280579155,null,0.24270656734521731,null,0.40390755132225598,0,0,null,0.40350271150599415]
[{"$f":"A809+Model!$C$48","v":0.7970000000000006},0.49238608074131263,null,0.49238608074131263,null,0.24244405250779044,null,0.40415012663218247,0.40398847541372235,1,null,0.40398847541372235]
[{"$f":"A810+Model!$C$48","v":0.7980000000000006},0.49212000651156174,null,0.49212000651156174,null,0.24218210080893957,null,0.40439243970884081,0,0,null,0.40398847541372235]
[{"$f":"A811+Model!$C$48","v":0.7990000000000006},0.49185435898642432,null,0.49185435898642432,null,0.24192071045394636,null,0.40463449111447225,0.40447318888427203,1,null,0.40447318888427203]
[{"$f":"A812+Model!$C$48","v":0.8000000000000006},0.49158913703990026,null,0.49158913703990026,null,0.24165987965563385,null,0.40487628140952703,0,0,null,0.40447318888427203]
[{"$f":"A813+Model!$C$48","v":0.8010000000000006},0.49132433955008536,null,0.49132433955008536,null,0.24139960663432758,null,0.40511781115267204,0.40495685641798107,1,null,0.40495685641798107]
[{"$f":"A814+Model!$C$48","v":0.8020000000000006},0.49105996539915248,null,0.49105996539915248,null,0.24113988961781682,null,0.40535908090079809,0,0,null,0.40495685641798107]
[{"$f":"A815+Model!$C$48","v":0.8030000000000006},0.49079601347333224,null,0.49079601347333224,null,0.24088072684131531,null,0.40560009120902762,0.40543948248657208,1,null,0.40543948248657208]
[{"$f":"A816+Model!$C$48","v":0.8040000000000006},0.49053248266289518,null,0.49053248266289518,null,0.24062211654742355,null,0.40584084263072201,0,0,null,0.40543948248657208]
[{"$f":"A817+Model!$C$48","v":0.8050000000000006},0.4902693718621326,null,0.4902693718621326,null,0.24036405698609006,null,0.40608133571748878,0.40592107153339213,1,null,0.40592107153339213]
[{"$f":"A818+Model!$C$48","v":0.8060000000000006},0.49000667996933905,null,0.49000667996933905,null,0.24010654641457427,null,0.40632157101918909,0,0,null,0.40592107153339213]
[{"$f":"A819+Model!$C$48","v":0.80700000000000061},0.48974440588679363,null,0.48974440588679363,null,0.23984958309740848,null,0.4065615490839451,0.40640162797364998,1,null,0.40640162797364998]
[{"$f":"A820+Model!$C$48","v":0.80800000000000061},0.48948254852074136,null,0.48948254852074136,null,0.23959316530635991,null,0.40680127045814696,0,0,null,0.40640162797364998]
[{"$f":"A821+Model!$C$48","v":0.80900000000000061},0.48922110678137565,null,0.48922110678137565,null,0.23933729132039416,null,0.40704073568646032,0.40688115619465076,1,null,0.40688115619465076]
[{"$f":"A822+Model!$C$48","v":0.81000000000000061},0.48896007958282006,null,0.48896007958282006,null,0.23908195942563773,null,0.40727994531183331,0,0,null,0.40688115619465076]
[{"$f":"A823+Model!$C$48","v":0.81100000000000061},0.48869946584311086,null,0.48869946584311086,null,0.23882716791534186,null,0.40751889987550383,0.4073596605560284,1,null,0.4073596605560284]
[{"$f":"A824+Model!$C$48","v":0.81200000000000061},0.48843926448417874,null,0.48843926448417874,null,0.23857291508984552,null,0.40775759991700644,0,0,null,0.4073596605560284]
[{"$f":"A825+Model!$C$48","v":0.81300000000000061},0.48817947443183102,null,0.48817947443183102,null,0.23831919925653874,null,0.40799604597417966,0.4078371453899754,1,null,0.4078371453899754]
[{"$f":"A826+Model!$C$48","v":0.81400000000000061},0.48792009461573466,null,0.48792009461573466,null,0.23806601872982747,null,0.40823423858317281,0,0,null,0.4078371453899754]
[{"$f":"A827+Model!$C$48","v":0.81500000000000061},0.48766112396939848,null,0.48766112396939848,null,0.23781337183109702,null,0.40847217827845328,0.40831361500147068,1,null,0.40831361500147068]
[{"$f":"A828+Model!$C$48","v":0.81600000000000061},0.48740256143015526,null,0.48740256143015526,null,0.23756125688867627,null,0.40870986559281319,0,0,null,0.40831361500147068]
[{"$f":"A829+Model!$C$48","v":0.81700000000000061},0.4871444059391451,null,0.4871444059391451,null,0.23730967223780258,null,0.40894730105737642,0.40878907366850459,1,null,0.40878907366850459]
[{"$f":"A830+Model!$C$48","v":0.81800000000000062},0.48688665644129825,null,0.48688665644129825,null,0.2370586162205868,null,0.40918448520160561,0,0,null,0.40878907366850459]
[{"$f":"A831+Model!$C$48","v":0.81900000000000062},0.48662931188531722,null,0.48662931188531722,null,0.23680808718597735,null,0.40942141855330888,0.40926352564230206,1,null,0.40926352564230206]
[{"$f":"A832+Model!$C$48","v":0.82000000000000062},0.48637237122366078,null,0.48637237122366078,null,0.23655808348972648,null,0.40965810163864674,0,0,null,0.40926352564230206]
[{"$f":"A833+Model!$C$48","v":0.82100000000000062},0.48611583341252601,null,0.48611583341252601,null,0.23630860349435473,null,0.40989453498213879,0.4097369751475432,1,null,0.4097369751475432]
[{"$f":"A834+Model!$C$48","v":0.82200000000000062},0.48585969741183177,null,0.48585969741183177,null,0.23605964556911674,null,0.41013071910667054,0,0,null,0.4097369751475432]
[{"$f":"A835+Model!$C$48","v":0.82300000000000062},0.48560396218520285,null,0.48560396218520285,null,0.23581120808996792,null,0.41036665453350007,0.41020942638258173,1,null,0.41020942638258173]
[{"$f":"A836+Model!$C$48","v":0.82400000000000062},0.48534862669995205,null,0.48534862669995205,null,0.23556328943952939,null,0.41060234178226485,0,0,null,0.41020942638258173]
[{"$f":"A837+Model!$C$48","v":0.82500000000000062},0.48509368992706392,null,0.48509368992706392,null,0.23531588800705444,null,0.41083778137098814,0.41068088351966137,1,null,0.41068088351966137]
[{"$f":"A838+Model!$C$48","v":0.82600000000000062},0.4848391508411789,null,0.4848391508411789,null,0.23506900218839544,null,0.41107297381608587,0,0,null,0.41068088351966137]
[{"$f":"A839+Model!$C$48","v":0.82700000000000062},0.48458500842057606,null,0.48458500842057606,null,0.23482263038596976,null,0.41130791963237306,0.4111513507051297,1,null,0.4111513507051297]
[{"$f":"A840+Model!$C$48","v":0.82800000000000062},0.4843312616471574,null,0.4843312616471574,null,0.23457677100872723,null,0.4115426193330704,0,0,null,0.4111513507051297]
[{"$f":"A841+Model!$C$48","v":0.82900000000000063},0.48407790950643137,null,0.48407790950643137,null,0.23433142247211675,null,0.41177707342981085,0.41162083205965017,1,null,0.41162083205965017]
[{"$f":"A842+Model!$C$48","v":0.83000000000000063},0.48382495098749689,null,0.48382495098749689,null,0.23408658319805378,null,0.41201128243264595,0,0,null,0.41162083205965017]
[{"$f":"A843+Model!$C$48","v":0.83100000000000063},0.4835723850830268,null,0.4835723850830268,null,0.23384225161488717,null,0.41224524685005243,0.41208933167841166,1,null,0.41208933167841166]
[{"$f":"A844+Model!$C$48","v":0.83200000000000063},0.4833202107892528,null,0.4833202107892528,null,{"$f":"B845*D845","v":0.23359842615736776},null,0.41247896718893856,0,0,null,0.41208933167841166]
[{"$f":"A845+Model!$C$48","v":0.83300000000000063},{"$f":"ERF($B$10/SQRT(A846))","v":0.48306842710594894},null,{"$f":"IF($B$11>0,ERF($B$11/SQRT(A846)),-ERF(-$B$11/SQRT(A846)))","v":0.48306842710594894},null,0.23335510526661551,null,{"$f":"0.5*(F846+F845)*(A846-A845)+H845","v":0.41271244395465057},0.41255685363133643,1,null,0.41255685363133643]
[{"$f":"A846+Model!$C$48","v":0.83400000000000063},0.48281703303641549,null,0.48281703303641549,null,0.23311228739008713,null,0.41294567765097889,0,{"$f":"IF(J846=1,0,1)","v":0},null,0.41255685363133643]
[{"$f":"A847+Model!$C$48","v":0.83500000000000063},0.48256602758746409,null,0.48256602758746409,null,0.23286997098154516,null,0.41317866878016468,0.4130234019632853,1,null,0.4130234019632853]
[{"$f":"A848+Model!$C$48","v":0.83600000000000063},0.4823154097694014,null,0.4823154097694014,null,0.23262815450102559,null,0.41341141784290597,{"$f":"(I847+((A849-A848)/3)*(4*F847+2*F848))*J849","v":0},0,null,{"$f":"IF(J849=1,I849,I848)","v":0.4130234019632853}]
[{"$f":"A849+Model!$C$48","v":0.83700000000000063},0.48206517859601428,null,0.48206517859601428,null,0.23238683641480715,null,0.41364392533836386,0.41348898069426138,1,null,0.41348898069426138]
[{"$f":"A850+Model!$C$48","v":0.83800000000000063},0.48181533308455365,null,0.48181533308455365,null,0.23214601519537939,null,0.41387619176416895,0,0,null,0.41348898069426138]
[{"$f":"A851+Model!$C$48","v":0.83900000000000063},0.48156587225571929,null,0.48156587225571929,null,0.23190568932141176,null,0.41410821761642735,0.41395359381961139,1,null,0.41395359381961139]
[{"$f":"A852+Model!$C$48","v":0.84000000000000064},0.481316795133645,null,0.481316795133645,null,0.23166585727772321,null,0.41434000338972693,0,0,null,0.41395359381961139]
[{"$f":"A853+Model!$C$48","v":0.84100000000000064},0.48106810074588224,null,0.48106810074588224,null,0.23142651755525032,null,0.41457154957714343,0.41441724531022511,1,null,0.41441724531022511]
[{"$f":"A854+Model!$C$48","v":0.84200000000000064},0.48081978812338599,null,0.48081978812338599,null,0.23118766865101781,null,0.41480285667024658,0,0,null,0.41441724531022511]
[{"$f":"A855+Model!$C$48","v":0.84300000000000064},0.48057185630050053,null,0.48057185630050053,null,0.23094930906810893,null,0.41503392515910614,0.4148799391127328,1,null,0.4148799391127328]
[{"$f":"A856+Model!$C$48","v":0.84400000000000064},0.48032430431494155,null,0.48032430431494155,null,0.23071143731563257,null,0.41526475553229802,0,0,null,0.4148799391127328]
[{"$f":"A857+Model!$C$48","v":0.84500000000000064},0.48007713120778478,null,0.48007713120778478,null,0.2304740519086966,null,0.4154953482769102,0.41534167914970072,1,null,0.41534167914970072]
[{"$f":"A858+Model!$C$48","v":0.84600000000000064},0.47983033602344816,null,0.47983033602344816,null,0.23023715136837516,null,0.41572570387854874,0,0,null,0.41534167914970072]
[{"$f":"A859+Model!$C$48","v":0.84700000000000064},0.47958391780967946,null,0.47958391780967946,null,0.23000073422168138,null,0.41595582282134375,0.41580246931982456,1,null,0.41580246931982456]
[{"$f":"A860+Model!$C$48","v":0.84800000000000064},0.47933787561753982,null,0.47933787561753982,null,0.22976479900153607,null,0.41618570558795537,0,0,null,0.41580246931982456]
[{"$f":"A861+Model!$C$48","v":0.84900000000000064},0.47909220850139012,null,0.47909220850139012,null,0.22952934424673946,null,0.41641535265957952,0.41626231349812115,1,null,0.41626231349812115]
[{"$f":"A862+Model!$C$48","v":0.85000000000000064},0.47884691551887693,null,0.47884691551887693,null,0.22929436850194246,null,0.41664476451595384,0,0,null,0.41626231349812115]
[{"$f":"A863+Model!$C$48","v":0.85100000000000064},0.478601995730916,null,0.478601995730916,null,0.22905987031761574,null,0.41687394163536362,0.41672121553611807,1,null,0.41672121553611807]
[{"$f":"A864+Model!$C$48","v":0.85200000000000065},0.47835744820168052,null,0.47835744820168052,null,0.22882584825002347,null,0.41710288449464744,0,0,null,0.41672121553611807]
[{"$f":"A865+Model!$C$48","v":0.85300000000000065},0.47811327199858517,null,0.47811327199858517,null,0.22859230086119309,null,0.41733159356920307,0.41717917926204157,1,null,0.41717917926204157]
[{"$f":"A866+Model!$C$48","v":0.85400000000000065},0.47786946619227261,null,0.47786946619227261,null,0.22835922671888756,null,0.41756006933299311,0,0,null,0.41717917926204157]
[{"$f":"A867+Model!$C$48","v":0.85500000000000065},0.47762602985659897,null,0.47762602985659897,null,0.22812662439657677,null,0.41778831225855084,0.41763620848100241,1,null,0.41763620848100241]
[{"$f":"A868+Model!$C$48","v":0.85600000000000065},0.47738296206861969,null,0.47738296206861969,null,0.22789449247340918,null,0.41801632281698581,0,0,null,0.41763620848100241]
[{"$f":"A869+Model!$C$48","v":0.85700000000000065},0.47714026190857606,null,0.47714026190857606,null,0.22766282953418457,null,0.41824410147798963,0.41809230697518013,1,null,0.41809230697518013]
[{"$f":"A870+Model!$C$48","v":0.85800000000000065},0.47689792845988133,null,0.47689792845988133,null,0.22743163416932607,null,0.41847164870984138,0,0,null,0.41809230697518013]
[{"$f":"A871+Model!$C$48","v":0.85900000000000065},0.47665596080910588,null,0.47665596080910588,null,0.22720090497485187,null,0.41869896497941345,0.41854747850400525,1,null,0.41854747850400525]
[{"$f":"A872+Model!$C$48","v":0.86000000000000065},0.4764143580459646,null,0.4764143580459646,null,0.22697064055234856,null,0.41892605075217704,0,0,null,0.41854747850400525]
[{"$f":"A873+Model!$C$48","v":0.86100000000000065},0.47617311926330252,null,0.47617311926330252,null,0.22674083950894333,null,0.41915290649220771,0.41900172680433995,1,null,0.41900172680433995]
[{"$f":"A874+Model!$C$48","v":0.86200000000000065},0.47593224355708175,null,0.47593224355708175,null,0.22651150045727739,null,0.4193795326621908,0,0,null,0.41900172680433995]
[{"$f":"A875+Model!$C$48","v":0.86300000000000066},0.47569173002636739,null,0.47569173002636739,null,0.22628262201547839,null,0.4196059297234272,0.41945505559065671,1,null,0.41945505559065671]
[{"$f":"A876+Model!$C$48","v":0.86400000000000066},0.47545157777331448,null,0.47545157777331448,null,0.22605420280713412,null,0.41983209813583849,0,0,null,0.41945505559065671]
[{"$f":"A877+Model!$C$48","v":0.86500000000000066},0.47521178590315344,null,0.47521178590315344,null,0.22582624146126454,null,0.42005803835797267,0.41990746855521544,1,null,0.41990746855521544]
[{"$f":"A878+Model!$C$48","v":0.86600000000000066},0.47497235352417871,null,0.47497235352417871,null,0.2255987366122974,null,0.42028375084700947,0,0,null,0.41990746855521544]
[{"$f":"A879+Model!$C$48","v":0.86700000000000066},0.47473327974773383,null,0.47473327974773383,null,0.22537168690004011,null,0.42050923605876567,0.42035896936823863,1,null,0.42035896936823863]
[{"$f":"A880+Model!$C$48","v":0.86800000000000066},0.47449456368819937,null,0.47449456368819937,null,0.22514509096965468,null,0.4207344944477005,0,0,null,0.42035896936823863]
[{"$f":"A881+Model!$C$48","v":0.86900000000000066},0.47425620446297867,null,0.47425620446297867,null,0.22491894747163063,null,0.42095952646692114,0.42080956167808514,1,null,0.42080956167808514]
[{"$f":"A882+Model!$C$48","v":0.87000000000000066},0.47401820119248578,null,0.47401820119248578,null,0.22469325506175991,null,0.42118433256818782,0,0,null,0.42080956167808514]
[{"$f":"A883+Model!$C$48","v":0.87100000000000066},0.47378055300013139,null,0.47378055300013139,null,0.22446801240111031,null,0.42140891320191926,0.42125924911142182,1,null,0.42125924911142182]
[{"$f":"A884+Model!$C$48","v":0.87200000000000066},0.47354325901231153,null,0.47354325901231153,null,0.22424321815600118,null,0.42163326881719781,0,0,null,0.42125924911142182]
[{"$f":"A885+Model!$C$48","v":0.87300000000000066},0.47330631835839293,null,0.47330631835839293,null,0.2240188709979764,null,0.42185739986177478,0.42170803527339396,1,null,0.42170803527339396]
[{"$f":"A886+Model!$C$48","v":0.87400000000000067},0.47306973017070081,null,0.47306973017070081,null,0.22379496960377968,null,0.42208130678207567,0,0,null,0.42170803527339396]
[{"$f":"A887+Model!$C$48","v":0.87500000000000067},0.4728334935845076,null,0.4728334935845076,null,0.2235715126553306,null,0.42230499002320521,0.42215592374779376,1,null,0.42215592374779376]
[{"$f":"A888+Model!$C$48","v":0.87600000000000067},0.47259760773801757,null,0.47259760773801757,null,0.22334849883969712,null,0.42252845002895273,0,0,null,0.42215592374779376]
[{"$f":"A889+Model!$C$48","v":0.87700000000000067},0.47236207177235667,null,0.47236207177235667,null,0.22312592684907304,null,0.42275168724179712,0.42260291809722733,1,null,0.42260291809722733]
[{"$f":"A890+Model!$C$48","v":0.87800000000000067},0.47212688483155851,null,0.47212688483155851,null,0.22290379538075172,null,0.42297470210291205,0,0,null,0.42260291809722733]
[{"$f":"A891+Model!$C$48","v":0.87900000000000067},0.47189204606255253,null,0.47189204606255253,null,0.22268210313710221,null,0.42319749505217097,0.42304902186327992,1,null,0.42304902186327992]
[{"$f":"A892+Model!$C$48","v":0.88000000000000067},0.47165755461515158,null,0.47165755461515158,null,0.2224608488255447,null,0.42342006652815228,0,0,null,0.42304902186327992]
[{"$f":"A893+Model!$C$48","v":0.88100000000000067},0.47142340964203905,null,0.47142340964203905,null,0.22224003115852575,null,0.42364241696814431,0.42349423856667973,1,null,0.42349423856667973]
[{"$f":"A894+Model!$C$48","v":0.88200000000000067},0.47118961029875772,null,0.47118961029875772,null,0.22201964885349518,null,0.42386454680815033,0,0,null,0.42349423856667973]
[{"$f":"A895+Model!$C$48","v":0.88300000000000067},0.47095615574369543,null,0.47095615574369543,null,0.2217997006328799,null,0.4240864564828935,0.42393857170746008,1,null,0.42393857170746008]
[{"$f":"A896+Model!$C$48","v":0.88400000000000067},0.47072304513807578,null,0.47072304513807578,null,0.22158018522406292,null,0.42430814642582199,0,0,null,0.42393857170746008]
[{"$f":"A897+Model!$C$48","v":0.88500000000000068},0.47049027764594409,null,0.47049027764594409,null,0.22136110135935755,null,0.42452961706911369,0.42438202476511994,1,null,0.42438202476511994]
[{"$f":"A898+Model!$C$48","v":0.88600000000000068},0.47025785243415591,null,0.47025785243415591,null,0.22114244777598435,null,0.42475086884368135,0,0,null,0.42438202476511994]
[{"$f":"A899+Model!$C$48","v":0.88700000000000068},0.47002576867236417,null,0.47002576867236417,null,0.22092422321604679,null,0.42497190217917735,0.42482460119878307,1,null,0.42482460119878307]
[{"$f":"A900+Model!$C$48","v":0.88800000000000068},0.46979402553300875,null,0.46979402553300875,null,0.22070642642650928,null,0.42519271750399862,0,0,null,0.42482460119878307]
[{"$f":"A901+Model!$C$48","v":0.88900000000000068},0.4695626221913044,null,0.4695626221913044,null,0.22048905615917369,null,0.42541331524529147,0.42526630444735547,1,null,0.42526630444735547]
[{"$f":"A902+Model!$C$48","v":0.89000000000000068},0.46933155782522784,null,0.46933155782522784,null,0.22027211117065518,null,0.42563369582895638,0,0,null,0.42526630444735547]
[{"$f":"A903+Model!$C$48","v":0.89100000000000068},0.46910083161550664,null,0.46910083161550664,null,0.2200555902223599,null,0.42585385967965289,0.42570713792968146,1,null,0.42570713792968146]
[{"$f":"A904+Model!$C$48","v":0.89200000000000068},0.46887044274560841,null,0.46887044274560841,null,0.21983949208046286,null,0.42607380722080429,0,0,null,0.42570713792968146]
[{"$f":"A905+Model!$C$48","v":0.89300000000000068},0.4686403904017275,null,0.4686403904017275,null,0.21962381551588356,null,0.42629353887460247,0.42614710504469827,1,null,0.42614710504469827]
[{"$f":"A906+Model!$C$48","v":0.89400000000000068},0.46841067377277501,null,0.46841067377277501,null,0.21940855930426506,null,0.42651305506201254,0,0,null,0.42614710504469827]
[{"$f":"A907+Model!$C$48","v":0.89500000000000068},0.46818129205036624,null,0.46818129205036624,null,0.21919372222595032,null,0.42673235620277766,0.42658620917158896,1,null,0.42658620917158896]
[{"$f":"A908+Model!$C$48","v":0.89600000000000068},0.46795224442880962,null,0.46795224442880962,null,{"$f":"B909*D909","v":0.21897930306596039},null,0.42695144271542362,0,0,null,0.42658620917158896]
[{"$f":"A909+Model!$C$48","v":0.89700000000000069},{"$f":"ERF($B$10/SQRT(A910))","v":0.46772353010509604},null,{"$f":"IF($B$11>0,ERF($B$11/SQRT(A910)),-ERF(-$B$11/SQRT(A910)))","v":0.46772353010509604},null,0.21876530061397267,null,{"$f":"0.5*(F910+F909)*(A910-A909)+H909","v":0.4271703150172636},0.42702445366993419,1,null,0.42702445366993419]
[{"$f":"A910+Model!$C$48","v":0.89800000000000069},0.46749514827888661,null,0.46749514827888661,null,0.21855171366429818,null,0.42738897352440275,0,{"$f":"IF(J910=1,0,1)","v":0},null,0.42702445366993419]
[{"$f":"A911+Model!$C$48","v":0.89900000000000069},0.467267098152501,null,0.467267098152501,null,0.21833854101585901,null,0.42760741865174284,0.42746184187986236,1,null,0.42746184187986236]
[{"$f":"A912+Model!$C$48","v":0.90000000000000069},0.46703937893090769,null,0.46703937893090769,null,0.21812578147216799,null,0.42782565081298685,{"$f":"(I911+((A913-A912)/3)*(4*F911+2*F912))*J913","v":0},0,null,{"$f":"IF(J913=1,I913,I912)","v":0.42746184187986236}]
[{"$f":"A913+Model!$C$48","v":0.90100000000000069},0.46681198982171179,null,0.46681198982171179,null,0.21791343384130596,null,0.42804367042064356,0.4278983771221983,1,null,0.4278983771221983]
[{"$f":"A914+Model!$C$48","v":0.90200000000000069},0.46658493003514395,null,0.46658493003514395,null,0.21770149693590019,null,0.42826147788603219,0,0,null,0.4278983771221983]
[{"$f":"A915+Model!$C$48","v":0.90300000000000069},0.46635819878405027,null,0.46635819878405027,null,0.21748996957310374,null,0.42847907361928672,0.42833406269861063,1,null,0.42833406269861063]
[{"$f":"A916+Model!$C$48","v":0.90400000000000069},0.46613179528387999,null,0.46613179528387999,null,0.217278850574573,null,0.42869645802936057,0,0,null,0.42833406269861063]
[{"$f":"A917+Model!$C$48","v":0.90500000000000069},0.4659057187526755,null,0.4659057187526755,null,0.21706813876644718,null,0.42891363152403106,0.42876890189175781,1,null,0.42876890189175781]
[{"$f":"A918+Model!$C$48","v":0.90600000000000069},0.46567996841106118,null,0.46567996841106118,null,0.21685783297932695,null,0.42913059450990393,0,0,null,0.42876890189175781]
[{"$f":"A919+Model!$C$48","v":0.90700000000000069},0.4654545434822327,null,0.4654545434822327,null,0.21664793204825364,null,0.4293473473924177,0.42920289796543265,1,null,0.42920289796543265]
[{"$f":"A920+Model!$C$48","v":0.9080000000000007},0.46522944319194598,null,0.46522944319194598,null,0.2164384348126881,null,0.42956389057584815,0,0,null,0.42920289796543265]
[{"$f":"A921+Model!$C$48","v":0.9090000000000007},0.46500466676850688,null,0.46500466676850688,null,0.21622934011649012,null,0.42978022446331277,0.42963605416470546,1,null,0.42963605416470546]
[{"$f":"A922+Model!$C$48","v":0.9100000000000007},0.46478021344275994,null,0.46478021344275994,null,0.21602064680789748,null,0.42999634945677495,0,0,null,0.42963605416470546]
[{"$f":"A923+Model!$C$48","v":0.9110000000000007},0.46455608244807894,null,0.46455608244807894,null,0.21581235373950633,null,0.43021226595704865,0.43006837371606604,1,null,0.43006837371606604]
[{"$f":"A924+Model!$C$48","v":0.9120000000000007},0.46433227302035462,null,0.46433227302035462,null,0.21560445976824916,null,0.43042797436380253,0,0,null,0.43006837371606604]
[{"$f":"A925+Model!$C$48","v":0.9130000000000007},0.46410878439798597,null,0.46410878439798597,null,0.21539696375537623,null,0.43064347507556433,0.43049985982756422,1,null,0.43049985982756422]
[{"$f":"A926+Model!$C$48","v":0.9140000000000007},0.46388561582186899,null,0.46388561582186899,null,0.21518986456643463,null,0.43085876848972526,0,0,null,0.43049985982756422]
[{"$f":"A927+Model!$C$48","v":0.9150000000000007},0.46366276653538591,null,0.46366276653538591,null,0.21498316107124776,null,0.43107385500254408,0.43093051568894902,1,null,0.43093051568894902]
[{"$f":"A928+Model!$C$48","v":0.9160000000000007},0.46344023578439536,null,0.46344023578439536,null,0.21477685214389597,null,0.43128873500915166,0,0,null,0.43093051568894902]
[{"$f":"A929+Model!$C$48","v":0.9170000000000007},0.46321802281722207,null,0.46321802281722207,null,0.21457093666269647,null,0.43150340890355493,0.4313603444718066,1,null,0.4313603444718066]
[{"$f":"A930+Model!$C$48","v":0.9180000000000007},0.46299612688464664,null,0.46299612688464664,null,0.21436541351018382,null,0.43171787707864134,0,0,null,0.4313603444718066]
[{"$f":"A931+Model!$C$48","v":0.91900000000000071},0.46277454723989531,null,0.46277454723989531,null,0.21416028157309008,null,0.43193213992618296,0.43178934932969698,1,null,0.43178934932969698]
[{"$f":"A932+Model!$C$48","v":0.92000000000000071},0.46255328313862959,null,0.46255328313862959,null,0.21395553974232523,null,0.43214619783684066,0,0,null,0.43178934932969698]
[{"$f":"A933+Model!$C$48","v":0.92100000000000071},0.46233233383893652,null,0.46233233383893652,null,0.21375118691295783,null,0.43236005120016829,0.43221753339828933,1,null,0.43221753339828933]
[{"$f":"A934+Model!$C$48","v":0.92200000000000071},0.46211169860131851,null,0.46211169860131851,null,0.21354722198419585,null,0.43257370040461685,0,0,null,0.43221753339828933]
[{"$f":"A935+Model!$C$48","v":0.92300000000000071},0.46189137668868357,null,0.46189137668868357,null,0.21334364385936738,null,0.43278714583753863,0.43264489979549609,1,null,0.43264489979549609]
[{"$f":"A936+Model!$C$48","v":0.92400000000000071},0.46167136736633502,null,0.46167136736633502,null,0.21314045144590146,null,0.4330003878851913,0,0,null,0.43264489979549609]
[{"$f":"A937+Model!$C$48","v":0.92500000000000071},0.46145166990196151,null,0.46145166990196151,null,0.21293764365530884,null,0.4332134269327419,0.43307145162160582,1,null,0.43307145162160582]
[{"$f":"A938+Model!$C$48","v":0.92600000000000071},0.46123228356562784,null,0.46123228356562784,null,0.21273521940316373,null,0.43342626336427115,0,0,null,0.43307145162160582]
[{"$f":"A939+Model!$C$48","v":0.92700000000000071},0.46101320762976505,null,0.46101320762976505,null,0.21253317760908486,null,0.43363889756277729,0.433497191959415,1,null,0.433497191959415]
[{"$f":"A940+Model!$C$48","v":0.92800000000000071},0.46079444136915948,null,0.46079444136915948,null,0.21233151719671575,null,0.43385132991018022,0,0,null,0.433497191959415]
[{"$f":"A941+Model!$C$48","v":0.92900000000000071},0.46057598406094524,null,0.46057598406094524,null,0.2121302370937081,null,0.43406356078732544,0.43392212387435825,1,null,0.43392212387435825]
[{"$f":"A942+Model!$C$48","v":0.93000000000000071},0.46035783498459204,null,0.46035783498459204,null,0.21192933623170088,null,0.43427559057398812,0,0,null,0.43392212387435825]
[{"$f":"A943+Model!$C$48","v":0.93100000000000072},0.46013999342189826,null,0.46013999342189826,null,0.21172881354630457,null,0.4344874196488771,0.43434625041463765,1,null,0.43434625041463765]
[{"$f":"A944+Model!$C$48","v":0.93200000000000072},0.45992245865697928,null,0.45992245865697928,null,0.21152866797708081,null,0.4346990483896388,0,0,null,0.43434625041463765]
[{"$f":"A945+Model!$C$48","v":0.93300000000000072},0.45970522997625907,null,0.45970522997625907,null,0.21132889846752523,null,0.43491047717286108,0.4347695746113508,1,null,0.4347695746113508]
[{"$f":"A946+Model!$C$48","v":0.93400000000000072},0.45948830666846008,null,0.45948830666846008,null,0.21112950396504881,null,0.43512170637407738,0,0,null,0.4347695746113508]
[{"$f":"A947+Model!$C$48","v":0.93500000000000072},0.45927168802459495,null,0.45927168802459495,null,0.21093048342096088,null,0.43533273636777037,0.43519209947861753,1,null,0.43519209947861753]
[{"$f":"A948+Model!$C$48","v":0.93600000000000072},0.45905537333795576,null,0.45905537333795576,null,0.21073183579044993,null,0.43554356752737605,0,0,null,0.43519209947861753]
[{"$f":"A949+Model!$C$48","v":0.93700000000000072},0.45883936190410568,null,0.45883936190410568,null,0.21053356003256687,null,0.43575420022528755,0.43561382801370579,1,null,0.43561382801370579]
[{"$f":"A950+Model!$C$48","v":0.93800000000000072},0.45862365302086905,null,0.45862365302086905,null,0.21033565511020649,null,0.43596463483285891,0,0,null,0.43561382801370579]
[{"$f":"A951+Model!$C$48","v":0.93900000000000072},0.45840824598832336,null,0.45840824598832336,null,0.21013811999009119,null,0.43617487172040909,0.43603476319715601,1,null,0.43603476319715601]
[{"$f":"A952+Model!$C$48","v":0.94000000000000072},0.45819314010878853,null,0.45819314010878853,null,0.20994095364275192,null,0.43638491125722551,0,0,null,0.43603476319715601]
[{"$f":"A953+Model!$C$48","v":0.94100000000000072},0.45797833468681826,null,0.45797833468681826,null,0.20974415504251132,null,0.43659475381156815,0.43645490799290465,1,null,0.43645490799290465]
[{"$f":"A954+Model!$C$48","v":0.94200000000000073},0.45776382902919194,null,0.45776382902919194,null,0.20954772316746725,null,0.43680439975067314,0,0,null,0.43645490799290465]
[{"$f":"A955+Model!$C$48","v":0.94300000000000073},0.4575496224449046,null,0.4575496224449046,null,0.20935165699947475,null,0.43701384944075661,0.43687426534840629,1,null,0.43687426534840629]
[{"$f":"A956+Model!$C$48","v":0.94400000000000073},0.45733571424515812,null,0.45733571424515812,null,0.20915595552412891,null,0.43722310324701841,0,0,null,0.43687426534840629]
[{"$f":"A957+Model!$C$48","v":0.94500000000000073},0.45712210374335194,null,0.45712210374335194,null,0.20896061773074781,null,0.43743216153364584,0.43729283819475501,1,null,0.43729283819475501]
[{"$f":"A958+Model!$C$48","v":0.94600000000000073},0.4569087902550748,null,0.4569087902550748,null,0.20876564261235594,null,0.43764102466381738,0,0,null,0.43729283819475501]
[{"$f":"A959+Model!$C$48","v":0.94700000000000073},0.45669577309809617,null,0.45669577309809617,null,0.20857102916566775,null,0.43784969299970639,0.43771062944680422,1,null,0.43771062944680422]
[{"$f":"A960+Model!$C$48","v":0.94800000000000073},0.45648305159235608,null,0.45648305159235608,null,0.20837677639106963,null,0.43805816690248478,0,0,null,0.43771062944680422]
[{"$f":"A961+Model!$C$48","v":0.94900000000000073},0.45627062505995752,null,0.45627062505995752,null,0.20818288329260434,null,0.43826644673232662,0.4381276420032858,1,null,0.4381276420032858]
[{"$f":"A962+Model!$C$48","v":0.95000000000000073},0.45605849282515754,null,0.45605849282515754,null,0.20798934887795426,null,0.43847453284841192,0,0,null,0.4381276420032858]
[{"$f":"A963+Model!$C$48","v":0.95100000000000073},0.45584665421435744,null,0.45584665421435744,null,0.20779617215842397,null,0.43868242560893012,0.43854387874692791,1,null,0.43854387874692791]
[{"$f":"A964+Model!$C$48","v":0.95200000000000073},0.45563510855609607,null,0.45563510855609607,null,0.20760335214892545,null,0.43889012537108379,0,0,null,0.43854387874692791]
[{"$f":"A965+Model!$C$48","v":0.95300000000000074},0.45542385518103989,null,0.45542385518103989,null,0.2074108878679608,null,0.43909763249109224,0.43895934254457175,1,null,0.43895934254457175]
[{"$f":"A966+Model!$C$48","v":0.95400000000000074},0.45521289342197419,null,0.45521289342197419,null,0.20721877833760563,null,0.43930494732419501,0,0,null,0.43895934254457175]
[{"$f":"A967+Model!$C$48","v":0.95500000000000074},0.45500222261379603,null,0.45500222261379603,null,0.2070270225834944,null,0.43951207022465555,0.43937403624728744,1,null,0.43937403624728744]
[{"$f":"A968+Model!$C$48","v":0.95600000000000074},0.45479184209350337,null,0.45479184209350337,null,0.2068356196348021,null,0.43971900154576471,0,0,null,0.43937403624728744]
[{"$f":"A969+Model!$C$48","v":0.95700000000000074},0.45458175120018973,null,0.45458175120018973,null,0.20664456852423119,null,0.43992574163984421,0.43978796269048864,1,null,0.43978796269048864]
[{"$f":"A970+Model!$C$48","v":0.95800000000000074},0.45437194927503255,null,0.45437194927503255,null,0.20645386828799275,null,0.44013229085825034,0,0,null,0.43978796269048864]
[{"$f":"A971+Model!$C$48","v":0.95900000000000074},0.45416243566128744,null,0.45416243566128744,null,0.20626351796579306,null,0.44033864955137725,0.44020112469404626,1,null,0.44020112469404626]
[{"$f":"A972+Model!$C$48","v":0.96000000000000074},0.45395320970427866,null,0.45395320970427866,null,{"$f":"B973*D973","v":0.2060735166008168},null,0.44054481806866053,0,0,null,0.44020112469404626]
[{"$f":"A973+Model!$C$48","v":0.96100000000000074},{"$f":"ERF($B$10/SQRT(A974))","v":0.45374427075139045},null,{"$f":"IF($B$11>0,ERF($B$11/SQRT(A974)),-ERF(-$B$11/SQRT(A974)))","v":0.45374427075139045},null,0.20588386323971114,null,{"$f":"0.5*(F974+F973)*(A974-A973)+H973","v":0.44075079675858081},0.4406135250624012,1,null,0.4406135250624012]
[{"$f":"A974+Model!$C$48","v":0.96200000000000074},0.45353561815206,null,0.45353561815206,null,0.20569455693257119,null,0.44095658596866694,0,{"$f":"IF(J974=1,0,1)","v":0},null,0.4406135250624012]
[{"$f":"A975+Model!$C$48","v":0.96300000000000074},0.4533272512577679,null,0.4533272512577679,null,0.20550559673292343,null,0.44116218604549967,0.44102516658467589,1,null,0.44102516658467589]
[{"$f":"A976+Model!$C$48","v":0.96400000000000075},0.45311916942203151,null,0.45311916942203151,null,0.2053169816977117,null,0.44136759733471498,{"$f":"(I975+((A977-A976)/3)*(4*F975+2*F976))*J977","v":0},0,null,{"$f":"IF(J977=1,I977,I976)","v":0.44102516658467589}]
[{"$f":"A977+Model!$C$48","v":0.96500000000000075},0.45291137200039489,null,0.45291137200039489,null,0.20512871088728007,null,0.44157282018100746,0.44143605203478492,1,null,0.44143605203478492]
[{"$f":"A978+Model!$C$48","v":0.96600000000000075},0.45270385835042304,null,0.45270385835042304,null,0.2049407833653599,null,0.44177785492813376,0,0,null,0.44143605203478492]
[{"$f":"A979+Model!$C$48","v":0.96700000000000075},0.45249662783169142,null,0.45249662783169142,null,0.20475319819905224,null,0.44198270191891598,0.44184618417154486,1,null,0.44184618417154486]
[{"$f":"A980+Model!$C$48","v":0.96800000000000075},0.45228967980578039,null,0.45228967980578039,null,0.20456595445881534,null,0.4421873614952449,0,0,null,0.44184618417154486]
[{"$f":"A981+Model!$C$48","v":0.96900000000000075},0.45208301363626519,null,0.45208301363626519,null,0.20437905121844754,null,0.44239183399808352,0.44225556573878283,1,null,0.44225556573878283]
[{"$f":"A982+Model!$C$48","v":0.97000000000000075},0.45187662868870826,null,0.45187662868870826,null,0.20419248755507272,null,0.44259611976747026,0,0,null,0.44225556573878283]
[{"$f":"A983+Model!$C$48","v":0.97100000000000075},0.45167052433065358,null,0.45167052433065358,null,0.20400626254912752,null,0.44280021914252238,0.44266419946544416,1,null,0.44266419946544416]
[{"$f":"A984+Model!$C$48","v":0.97200000000000075},0.45146469993161614,null,0.45146469993161614,null,0.20382037528434421,null,0.4430041324614391,0,0,null,0.44266419946544416]
[{"$f":"A985+Model!$C$48","v":0.97300000000000075},0.45125915486307466,null,0.45125915486307466,null,0.2036348248477364,null,0.44320786006150514,0.44307208806569925,1,null,0.44307208806569925]
[{"$f":"A986+Model!$C$48","v":0.97400000000000075},0.45105388849846578,null,0.45105388849846578,null,0.20344961032958642,null,0.44341140227909381,0,0,null,0.44307208806569925]
[{"$f":"A987+Model!$C$48","v":0.97500000000000075},0.45084890021317292,null,0.45084890021317292,null,0.20326473082342755,null,0.44361475944967033,0.44347923423904928,1,null,0.44347923423904928]
[{"$f":"A988+Model!$C$48","v":0.97600000000000076},0.45064418938452233,null,0.45064418938452233,null,0.20308018542603323,null,0.44381793190779506,0,0,null,0.44347923423904928]
[{"$f":"A989+Model!$C$48","v":0.97700000000000076},0.45043975539177217,null,0.45043975539177217,null,0.20289597323739955,null,0.44402091998712678,0.44388564067043118,1,null,0.44388564067043118]
[{"$f":"A990+Model!$C$48","v":0.97800000000000076},0.45023559761610737,null,0.45023559761610737,null,0.20271209336073334,null,0.44422372402042587,0,0,null,0.44388564067043118]
[{"$f":"A991+Model!$C$48","v":0.97900000000000076},0.45003171544062998,null,0.45003171544062998,null,0.20252854490243616,null,0.44442634433955747,0.44429131003032152,1,null,0.44429131003032152]
[{"$f":"A992+Model!$C$48","v":0.98000000000000076},0.44982810825035346,null,0.44982810825035346,null,0.2023453269720917,null,0.44462878127549471,0,0,null,0.44429131003032152]
[{"$f":"A993+Model!$C$48","v":0.98100000000000076},0.4496247754321937,null,0.4496247754321937,null,0.20216243868245062,null,0.44483103515832201,0.44469624497483951,1,null,0.44469624497483951]
[{"$f":"A994+Model!$C$48","v":0.98200000000000076},0.44942171637496242,null,0.44942171637496242,null,0.20197987914941717,null,0.44503310631723791,0,0,null,0.44469624497483951]
[{"$f":"A995+Model!$C$48","v":0.98300000000000076},0.44921893046935907,null,0.44921893046935907,null,0.20179764749203485,null,0.44523499508055864,0.44510044814584904,1,null,0.44510044814584904]
[{"$f":"A996+Model!$C$48","v":0.98400000000000076},0.44901641710796436,null,0.44901641710796436,null,0.20161574283247344,null,0.44543670177572087,0,0,null,0.44510044814584904]
[{"$f":"A997+Model!$C$48","v":0.98500000000000076},0.44881417568523158,null,0.44881417568523158,null,0.20143416429601391,null,0.4456382267292851,0.44550392217106005,1,null,0.44550392217106005]
[{"$f":"A998+Model!$C$48","v":0.98600000000000076},0.44861220559748055,null,0.44861220559748055,null,0.20125291101103615,null,0.4458395702669386,0,0,null,0.44550392217106005]
[{"$f":"A999+Model!$C$48","v":0.98700000000000077},0.44841050624288925,null,0.44841050624288925,null,0.20107198210900423,null,0.44604073271349864,0.44590666966412879,1,null,0.44590666966412879]
[{"$f":"A1000+Model!$C$48","v":0.98800000000000077},0.44820907702148743,null,0.44820907702148743,null,0.20089137672445365,null,0.44624171439291538,0,0,null,0.44590666966412879]
[{"$f":"A1001+Model!$C$48","v":0.98900000000000077},0.44800791733514828,null,0.44800791733514828,null,0.20071109399497705,null,0.44644251562827508,0.44630869322475708,1,null,0.44630869322475708]
[{"$f":"A1002+Model!$C$48","v":0.99000000000000077},0.44780702658758292,null,0.44780702658758292,null,0.2005311330612122,null,0.44664313674180317,0,0,null,0.44630869322475708]
[{"$f":"A1003+Model!$C$48","v":0.99100000000000077},0.44760640418433156,null,0.44760640418433156,null,0.2003514930668272,null,0.44684357805486719,0.4467099954387912,1,null,0.4467099954387912]
[{"$f":"A1004+Model!$C$48","v":0.99200000000000077},0.44740604953275687,null,0.44740604953275687,null,0.20017217315850769,null,0.44704383988797985,0,0,null,0.4467099954387912]
[{"$f":"A1005+Model!$C$48","v":0.99300000000000077},0.447205962042037,null,0.447205962042037,null,0.19999317248594384,null,0.44724392256080209,0.44711057887831929,1,null,0.44711057887831929]
[{"$f":"A1006+Model!$C$48","v":0.99400000000000077},0.44700614112315884,null,0.44700614112315884,null,0.19981449020181741,null,0.44744382639214597,0,0,null,0.44711057887831929]
[{"$f":"A1007+Model!$C$48","v":0.99500000000000077},0.44680658618891045,null,0.44680658618891045,null,0.19963612546178827,null,0.44764355169997777,0.44751044610176843,1,null,0.44751044610176843]
[{"$f":"A1008+Model!$C$48","v":0.99600000000000077},0.44660729665387455,null,0.44660729665387455,null,0.19945807742448191,null,0.44784309880142092,0,0,null,0.44751044610176843]
[{"$f":"A1009+Model!$C$48","v":0.99700000000000077},0.44640827193442051,null,0.44640827193442051,null,0.19928034525147553,null,0.44804246801275888,0.44790959965400046,1,null,0.44790959965400046]
[{"$f":"A1010+Model!$C$48","v":0.99800000000000078},0.44620951144869908,null,0.44620951144869908,null,0.19910292810728672,null,0.44824165964943824,0,0,null,0.44790959965400046]
[{"$f":"A1011+Model!$C$48","v":0.99900000000000078},0.44601101461663345,null,0.44601101461663345,null,0.1989258251593588,null,0.44844067402607157,0.44830804206640729,1,null,0.44830804206640729]
[{"$f":"A1012+Model!$C$48","v":1.0000000000000007},0.44581278085991477,null,0.44581278085991477,null,0.19874903557805038,null,0.44863951145644027,0,0,null,0.44830804206640729]
[null,null,null,null,null,null,null,null,{"$f":"(I1012+((A1013-A1012)/3)*(4*F1012+F1013))*J1014","v":0.44863952617847908},1,null,0.44863952617847908]

{"sheet":"ps3","index":4,"n_rows":1014,"n_cols":12,"rows_kept":1014,"cut":false,"hidden":true,"merged":[]}
[]
[]
[]
[]
[]
[]
[]
[]
[]
["a",{"$f":"(Results!$A$10-Model!$G$48)/(SQRT(4*Model!$G$50*Results!A$12))","v":0.41825179908768717}]
["b",{"$f":"(Results!$A$11+Model!$G$49)/(SQRT(4*Model!$G$50*Results!A$12))","v":0.41825179908768717}]
["t","erf(a/sqrt(t))",null,"erf(b/sqrt(t))",null,"integrand",null,"trapezoidal integral O(h^2)","Simpson integral O(h^4)","kount",null,"Simpson total Sum"]
[0,1,null,1,null,{"$f":"B13*D13","v":1},null,0,0]
[{"$f":"Model!$C$48","v":1E-3},{"$f":"IF($B$10>0,ERF($B$10/SQRT(A14)),-ERF(-$B$10/SQRT(A14)))","v":1},null,{"$f":"ERF($B$11/SQRT(A14))","v":1},null,1,null,{"$f":"0.5*(F14+F13)*(A14-A13)+H13","v":1E-3},null,1]
[{"$f":"A14+Model!$C$48","v":2E-3},1,null,1,null,1,null,2E-3,null,{"$f":"IF(J14=1,0,1)","v":0}]
[{"$f":"A15+Model!$C$48","v":3.0000000000000001E-3},1,null,1,null,1,null,3.0000000000000001E-3,{"$f":"(I13+((A16-A15)/3)*(F13+4*F14+2*F15))*J16","v":2.3333333333333331E-3},1,null,{"$f":"IF(J16=1,I16,I15)","v":2.3333333333333331E-3}]
[{"$f":"A16+Model!$C$48","v":4.0000000000000001E-3},1,null,1,null,1,null,4.0000000000000001E-3,{"$f":"(I15+((A17-A16)/3)*(4*F15+2*F16))*J17","v":0},0,null,{"$f":"IF(J17=1,I17,I16)","v":2.3333333333333331E-3}]
[{"$f":"A17+Model!$C$48","v":5.0000000000000001E-3},0.99999999999999989,null,0.99999999999999989,null,0.99999999999999978,null,5.0000000000000001E-3,4.3333333333333331E-3,1,null,4.3333333333333331E-3]
[{"$f":"A18+Model!$C$48","v":6.0000000000000001E-3},0.99999999999997757,null,0.99999999999997757,null,0.99999999999995515,null,5.9999999999999776E-3,0,0,null,4.3333333333333331E-3]
[{"$f":"A19+Model!$C$48","v":7.0000000000000001E-3},0.9999999999984478,null,0.9999999999984478,null,0.99999999999689559,null,6.9999999999984033E-3,6.3333333333333028E-3,1,null,6.3333333333333028E-3]
[{"$f":"A20+Model!$C$48","v":8.0000000000000002E-3},0.99999999996237521,null,0.99999999996237521,null,0.99999999992475042,null,7.9999999999592272E-3,0,0,null,6.3333333333333028E-3]
[{"$f":"A21+Model!$C$48","v":9.0000000000000011E-3},0.99999999954801899,null,0.99999999954801899,null,0.99999999909603798,null,8.9999999994696232E-3,8.3333333332789999E-3,1,null,8.3333333332789999E-3]
[{"$f":"A22+Model!$C$48","v":1.0000000000000002E-2},0.99999999668071315,null,0.99999999668071315,null,0.99999999336142631,null,9.9999999956983561E-3,0,0,null,8.3333333332789999E-3]
[{"$f":"A23+Model!$C$48","v":1.1000000000000003E-2},0.99999998296593529,null,0.99999998296593529,null,0.9999999659318709,null,1.0999999975345006E-2,1.0333333327648003E-2,1,null,1.0333333327648003E-2]
[{"$f":"A24+Model!$C$48","v":1.2000000000000004E-2},0.99999993321314828,null,0.99999993321314828,null,0.99999986642630101,null,1.1999999891524093E-2,0,0,null,1.0333333327648003E-2]
[{"$f":"A25+Model!$C$48","v":1.3000000000000005E-2},0.99999978717858595,null,0.99999978717858595,null,0.9999995743572172,null,1.2999999611915853E-2,1.23333331931747E-2,1,null,1.23333331931747E-2]
[{"$f":"A26+Model!$C$48","v":1.4000000000000005E-2},0.99999942391066199,null,0.99999942391066199,null,0.99999884782165582,null,1.399999882300529E-2,0,0,null,1.23333331931747E-2]
[{"$f":"A27+Model!$C$48","v":1.5000000000000006E-2},0.99999863162016844,null,0.99999863162016844,null,0.99999726324220939,null,1.4999996878537224E-2,1.4333331857532095E-2,1,null,1.4333331857532095E-2]
[{"$f":"A28+Model!$C$48","v":1.6000000000000007E-2},0.99999707756506906,null,0.99999707756506906,null,0.99999415513867873,null,1.599999258772767E-2,0,0,null,1.4333331857532095E-2]
[{"$f":"A29+Model!$C$48","v":1.7000000000000008E-2},0.9999942825572592,null,0.9999942825572592,null,0.99998856514720758,null,1.6999983947870615E-2,1.6333324311947495E-2,1,null,1.6333324311947495E-2]
[{"$f":"A30+Model!$C$48","v":1.8000000000000009E-2},0.99998960363556966,null,0.99998960363556966,null,0.99997920737922374,null,1.799996783413383E-2,0,0,null,1.6333324311947495E-2]
[{"$f":"A31+Model!$C$48","v":1.900000000000001E-2},0.99998222681529314,null,0.99998222681529314,null,0.99996445394647238,null,1.899993966479668E-2,1.8333295203729921E-2,1,null,1.8333295203729921E-2]
[{"$f":"A32+Model!$C$48","v":2.0000000000000011E-2},0.99997117018025472,null,0.99997117018025472,null,0.99994234119166792,null,1.9999893062365749E-2,0,0,null,1.8333295203729921E-2]
[{"$f":"A33+Model!$C$48","v":2.1000000000000012E-2},0.9999552962911088,null,0.9999552962911088,null,0.99991059458063913,null,2.0999819530251904E-2,2.0333209369786331E-2,1,null,2.0333209369786331E-2]
[{"$f":"A34+Model!$C$48","v":2.2000000000000013E-2},0.99993333206733426,null,0.99993333206733426,null,0.99986666857928175,null,2.1999708161831867E-2,0,0,null,2.0333209369786331E-2]
[{"$f":"A35+Model!$C$48","v":2.3000000000000013E-2},0.99990389394174961,null,0.99990389394174961,null,0.99980779711987366,null,2.2999545394681447E-2,2.2333001274946706E-2,1,null,2.2333001274946706E-2]
[{"$f":"A36+Model!$C$48","v":2.4000000000000014E-2},0.99986551608227514,null,0.99986551608227514,null,0.99973105025047437,null,2.3999314818366622E-2,0,0,null,2.2333001274946706E-2]
[{"$f":"A37+Model!$C$48","v":2.5000000000000015E-2},0.99981667970489729,null,0.99981667970489729,null,0.99963339301612519,null,2.4998997039999922E-2,2.4332565704606856E-2,1,null,2.4332565704606856E-2]
[{"$f":"A38+Model!$C$48","v":2.6000000000000016E-2},0.99975584186355582,null,0.99975584186355582,null,0.99951174334030723,null,2.5998569608178139E-2,0,0,null,2.4332565704606856E-2]
[{"$f":"A39+Model!$C$48","v":2.7000000000000017E-2},0.99968146244433664,null,0.99968146244433664,null,0.99936302635484764,null,2.6998006993025719E-2,2.6331751390855231E-2,1,null,2.6331751390855231E-2]
[{"$f":"A40+Model!$C$48","v":2.8000000000000018E-2},0.99959202861629626,null,0.99959202861629626,null,0.99918422367324244,null,2.7997280618039765E-2,0,0,null,2.6331751390855231E-2]
[{"$f":"A41+Model!$C$48","v":2.9000000000000019E-2},0.99948607610424078,null,0.99948607610424078,null,0.99897241632625222,null,2.8996358938039514E-2,2.8330358241777192E-2,1,null,2.8330358241777192E-2]
[{"$f":"A42+Model!$C$48","v":3.000000000000002E-2},0.9993622071284618,null,0.9993622071284618,null,0.9987248210366706,null,2.9995207556720978E-2,0,0,null,2.8330358241777192E-2]
[{"$f":"A43+Model!$C$48","v":3.1000000000000021E-2},0.99921910495394106,null,0.99921910495394106,null,0.99843881970495507,null,3.0993789377091793E-2,3.0328138010903311E-2,1,null,3.0328138010903311E-2]
[{"$f":"A44+Model!$C$48","v":3.2000000000000021E-2},0.99905554518148798,null,0.99905554518148798,null,0.99811198235788012,null,3.1992064778123212E-2,0,0,null,3.0328138010903311E-2]
[{"$f":"A45+Model!$C$48","v":3.3000000000000022E-2},0.99887040401276694,null,0.99887040401276694,null,0.99774208401262821,null,3.2989991811308468E-2,3.2324797758748504E-2,1,null,3.2324797758748504E-2]
[{"$f":"A46+Model!$C$48","v":3.4000000000000023E-2},0.99866266378479662,null,0.99866266378479662,null,0.99732711603774571,null,3.3987526411333659E-2,0,0,null,3.2324797758748504E-2]
[{"$f":"A47+Model!$C$48","v":3.5000000000000024E-2},0.99843141610150832,null,0.99843141610150832,null,0.99686529265846324,null,3.4984622615681762E-2,3.4320005281457171E-2,1,null,3.4320005281457171E-2]
[{"$f":"A48+Model!$C$48","v":3.6000000000000025E-2},0.99817586289846849,null,0.99817586289846849,null,0.99635505327310214,null,3.5981232788647545E-2,0,0,null,3.4320005281457171E-2]
[{"$f":"A49+Model!$C$48","v":3.7000000000000026E-2},0.9978953158959375,null,0.9978953158959375,null,0.99579506148705288,null,3.6977307846027624E-2,3.6313395707183858E-2,1,null,3.6313395707183858E-2]
[{"$f":"A50+Model!$C$48","v":3.8000000000000027E-2},0.99758919403372492,null,0.99758919403372492,null,0.9951842000528569,null,3.7972797476797576E-2,0,0,null,3.6313395707183858E-2]
[{"$f":"A51+Model!$C$48","v":3.9000000000000028E-2},0.99725702085436918,null,0.99725702085436918,null,0.99452156564333172,null,3.8967650359645674E-2,3.8304578589201832E-2,1,null,3.8304578589201832E-2]
[{"$f":"A52+Model!$C$48","v":4.0000000000000029E-2},0.99689841996643924,null,0.99689841996643924,null,0.9938064597315831,null,3.9961814372333135E-2,0,0,null,3.8304578589201832E-2]
[{"$f":"A53+Model!$C$48","v":4.1000000000000029E-2},0.99651311031923862,null,0.99651311031923862,null,0.99303837903812298,null,4.0955236791717989E-2,4.0293144983213999E-2,1,null,4.0293144983213999E-2]
[{"$f":"A54+Model!$C$48","v":4.200000000000003E-2},0.99610090090757553,null,0.99610090090757553,null,0.99221700478888364,null,4.194786448363149E-2,0,0,null,4.0293144983213999E-2]
[{"$f":"A55+Model!$C$48","v":4.3000000000000031E-2},0.9956616851615423,null,0.9956616851615423,null,0.99134219129872214,null,4.2939644081675298E-2,4.2278674158457423E-2,1,null,4.2278674158457423E-2]
[{"$f":"A56+Model!$C$48","v":4.4000000000000032E-2},0.9951954351585911,null,0.9951954351585911,null,0.99041395416049749,null,4.3930522154404905E-2,0,0,null,4.2278674158457423E-2]
[{"$f":"A57+Model!$C$48","v":4.5000000000000033E-2},0.99470219577124419,null,0.99470219577124419,null,0.98943245827213455,null,4.4920445360621224E-2,4.4260739716296051E-2,1,null,4.4260739716296051E-2]
[{"$f":"A58+Model!$C$48","v":4.6000000000000034E-2},0.99418207884249321,null,0.99418207884249321,null,0.98839800589158133,null,4.5909360592703084E-2,0,0,null,4.4260739716296051E-2]
[{"$f":"A59+Model!$C$48","v":4.7000000000000035E-2},0.9936352574623083,null,0.9936352574623083,null,0.98731102487218769,null,4.6897215108084971E-2,4.6238914997919954E-2,1,null,4.6238914997919954E-2]
[{"$f":"A60+Model!$C$48","v":4.8000000000000036E-2},0.99306196096689237,null,0.99306196096689237,null,0.98617205831940968,null,4.7883956649680773E-2,0,0,null,4.6238914997919954E-2]
[{"$f":"A61+Model!$C$48","v":4.9000000000000037E-2},0.99246246746107869,null,0.99246246746107869,null,0.98498174931893268,null,4.8869533553499947E-2,4.8212777736629145E-2,1,null,4.8212777736629145E-2]
[{"$f":"A62+Model!$C$48","v":5.0000000000000037E-2},0.99183710167654382,null,0.99183710167654382,null,0.98374083626212672,null,4.9853894846290478E-2,0,0,null,4.8212777736629145E-2]
[{"$f":"A63+Model!$C$48","v":5.1000000000000038E-2},0.99118622821501134,null,0.99118622821501134,null,0.98245013900310052,null,5.0836990333923096E-2,5.018191395989581E-2,1,null,5.018191395989581E-2]
[{"$f":"A64+Model!$C$48","v":5.2000000000000039E-2},0.99051024739242666,null,0.99051024739242666,null,0.98111055018940629,null,5.1818770678519352E-2,0,0,null,5.018191395989581E-2]
[{"$f":"A65+Model!$C$48","v":5.300000000000004E-2},0.9898095909139718,null,0.9898095909139718,null,0.97972302626528418,null,5.2799187466746701E-2,5.2145921178692885E-2,1,null,5.2145921178692885E-2]
[{"$f":"A66+Model!$C$48","v":5.4000000000000041E-2},0.98908471782919827,null,0.98908471782919827,null,0.97828857904326472,null,5.3778193269400976E-2,0,0,null,5.2145921178692885E-2]
[{"$f":"A67+Model!$C$48","v":5.5000000000000042E-2},0.98833611076534023,null,0.98833611076534023,null,0.97680826784275887,null,5.4755741692843987E-2,5.4104410933075442E-2,1,null,5.4104410933075442E-2]
[{"$f":"A68+Model!$C$48","v":5.6000000000000043E-2},0.98756427243355926,null,0.98756427243355926,null,0.97528319218722526,null,5.5731787422858982E-2,0,0,null,5.4104410933075442E-2]
[{"$f":"A69+Model!$C$48","v":5.7000000000000044E-2},0.98676972240034766,null,0.98676972240034766,null,0.97371448504605917,null,5.6706286261475627E-2,5.6057010751657275E-2,1,null,5.6057010751657275E-2]
[{"$f":"A70+Model!$C$48","v":5.8000000000000045E-2},0.9859529941144265,null,0.9859529941144265,null,0.97210330660320232,null,5.7679195157300259E-2,0,0,null,5.6057010751657275E-2]
[{"$f":"A71+Model!$C$48","v":5.9000000000000045E-2},0.98511463360928297,null,0.98511463360928297,null,0.97045084135115178,null,5.8650472231277437E-2,5.8003365602787488E-2,1,null,5.8003365602787488E-2]
[{"$f":"A72+Model!$C$48","v":6.0000000000000046E-2},0.98425519155288377,null,0.98425519155288377,null,0.96875828209880388,null,5.9620076793002415E-2,0,0,null,5.8003365602787488E-2]
[{"$f":"A73+Model!$C$48","v":6.1000000000000047E-2},0.98337522878947348,null,0.98337522878947348,null,0.96702684059674926,null,6.0587969354350193E-2,5.9943138912654896E-2,1,null,5.9943138912654896E-2]
[{"$f":"A74+Model!$C$48","v":6.2000000000000048E-2},0.98247530927840976,null,0.98247530927840976,null,0.96525773334170695,null,6.1554111641319423E-2,0,0,null,5.9943138912654896E-2]
[{"$f":"A75+Model!$C$48","v":6.3000000000000042E-2},0.98155599941812488,null,0.98155599941812488,null,0.96345217999371402,null,6.2518466597987127E-2,6.1876013189011689E-2,1,null,6.1876013189011689E-2]
[{"$f":"A76+Model!$C$48","v":6.4000000000000043E-2},0.98061786635379178,null,0.98061786635379178,null,{"$f":"B77*D77","v":0.96161139981226307},null,6.348099838789012E-2,0,0,null,6.1876013189011689E-2]
[{"$f":"A77+Model!$C$48","v":6.5000000000000044E-2},{"$f":"IF($B$10>0,ERF($B$10/SQRT(A78)),-ERF(-$B$10/SQRT(A78)))","v":0.97966147645444634},null,{"$f":"ERF($B$11/SQRT(A78))","v":0.97966147645444634},null,0.95973660844890574,null,{"$f":"0.5*(F78+F77)*(A78-A77)+H77","v":6.4441672392020699E-2},6.3801690362211491E-2,1,null,6.3801690362211491E-2]
[{"$f":"A78+Model!$C$48","v":6.6000000000000045E-2},0.97868739394755666,null,0.97868739394755666,null,0.95782901507185991,null,6.5400455203781085E-2,0,{"$f":"IF(J78=1,0,1)","v":0},null,6.3801690362211491E-2]
[{"$f":"A79+Model!$C$48","v":6.7000000000000046E-2},0.97769617969948841,null,0.97769617969948841,null,0.95588981979897436,null,6.6357314621216509E-2,6.5719891850191267E-2,1,null,6.5719891850191267E-2]
[{"$f":"A80+Model!$C$48","v":6.8000000000000047E-2},0.97668839013082187,null,0.97668839013082187,null,0.95392021141633654,null,6.7312219636824169E-2,{"$f":"(I79+((A81-A80)/3)*(4*F79+2*F80))*J81","v":0},0,null,{"$f":"IF(J81=1,I81,I80)","v":6.5719891850191267E-2}]
[{"$f":"A81+Model!$C$48","v":6.9000000000000047E-2},0.97566457625602654,null,0.97566457625602654,null,0.95192136536085181,null,6.826514042521277E-2,6.763035841753412E-2,1,null,6.763035841753412E-2]
[{"$f":"A82+Model!$C$48","v":7.0000000000000048E-2},0.97462528552317773,null,0.97462528552317773,null,0.94989444718113569,null,6.9216048331483759E-2,0,0,null,6.763035841753412E-2]
[{"$f":"A83+Model!$C$48","v":7.1000000000000049E-2},0.97357105073364225,null,0.97357105073364225,null,0.94784059082660821,null,7.0164915850487633E-2,6.9532849869469351E-2,1,null,6.9532849869469351E-2]
[{"$f":"A84+Model!$C$48","v":7.200000000000005E-2},0.97250240435191504,null,0.97250240435191504,null,0.94576092647025567,null,7.1111716609136066E-2,0,0,null,6.9532849869469351E-2]
[{"$f":"A85+Model!$C$48","v":7.3000000000000051E-2},0.97141986832095839,null,0.97141986832095839,null,0.94365656056870817,null,7.2056425352655551E-2,7.1427144608218335E-2,1,null,7.1427144608218335E-2]
[{"$f":"A86+Model!$C$48","v":7.4000000000000052E-2},0.97032395591390741,null,0.97032395591390741,null,0.94152857942041457,null,7.2999017922650108E-2,0,0,null,7.1427144608218335E-2]
[{"$f":"A87+Model!$C$48","v":7.5000000000000053E-2},0.96921517133111423,null,0.96921517133111423,null,0.93937804833840111,null,7.3939471236529511E-2,7.3313039075256894E-2,1,null,7.3313039075256894E-2]
[{"$f":"A88+Model!$C$48","v":7.6000000000000054E-2},0.96809400936375956,null,0.96809400936375956,null,0.93720601096599898,null,7.4877763266181716E-2,0,0,null,7.3313039075256894E-2]
[{"$f":"A89+Model!$C$48","v":7.7000000000000055E-2},0.96696095511787483,null,0.96696095511787483,null,0.9350134887224727,null,7.5813873016025948E-2,7.5190347147018763E-2,1,null,7.5190347147018763E-2]
[{"$f":"A90+Model!$C$48","v":7.8000000000000055E-2},0.96581648379307639,null,0.96581648379307639,null,0.93280148036642174,null,7.6747780500570392E-2,0,0,null,7.5190347147018763E-2]
[{"$f":"A91+Model!$C$48","v":7.9000000000000056E-2},0.96466106051075351,null,0.96466106051075351,null,0.93057096166573161,null,7.7679466721586474E-2,7.705889945222634E-2,1,null,7.705889945222634E-2]
[{"$f":"A92+Model!$C$48","v":8.0000000000000057E-2},0.96349514018685789,null,0.96349514018685789,null,0.92832288516369299,null,7.860891364500118E-2,0,0,null,7.705889945222634E-2]
[{"$f":"A93+Model!$C$48","v":8.1000000000000058E-2},0.96231916744483004,null,0.96231916744483004,null,0.92605818003171081,null,7.9536104177598876E-2,7.8918542657889779E-2,1,null,7.8918542657889779E-2]
[{"$f":"A94+Model!$C$48","v":8.2000000000000059E-2},0.96113358129486715,null,0.96113358129486715,null,0.92377776109269694,null,8.0461022148161088E-2,0,0,null,7.8918542657889779E-2]
[{"$f":"A95+Model!$C$48","v":8.300000000000006E-2},0.9599387967694194,null,0.9599387967694194,null,0.92148249354312073,null,8.1383652275479001E-2,8.0769138738660526E-2,1,null,8.0769138738660526E-2]
[{"$f":"A96+Model!$C$48","v":8.4000000000000061E-2},0.95873523164593377,null,0.95873523164593377,null,0.91917324439918224,null,8.2303980144450159E-2,0,0,null,8.0769138738660526E-2]
[{"$f":"A97+Model!$C$48","v":8.5000000000000062E-2},0.9575232891774641,null,0.9575232891774641,null,0.91685084931722949,null,8.3221992191308367E-2,8.2610564226317476E-2,1,null,8.2610564226317476E-2]
[{"$f":"A98+Model!$C$48","v":8.6000000000000063E-2},0.95630336235910096,null,0.95630336235910096,null,0.91451612085932199,null,8.4137675676396642E-2,0,0,null,8.2610564226317476E-2]
[{"$f":"A99+Model!$C$48","v":8.7000000000000063E-2},0.95507583400651763,null,0.95507583400651763,null,0.91216984870324525,null,8.5051018661177924E-2,8.4442709439313327E-2,1,null,8.4442709439313327E-2]
[{"$f":"A100+Model!$C$48","v":8.8000000000000064E-2},0.95384107685221597,null,0.95384107685221597,null,0.90981279989059494,null,8.5962009985474847E-2,0,0,null,8.4442709439313327E-2]
[{"$f":"A101+Model!$C$48","v":8.9000000000000065E-2},0.95259945365727805,null,0.95259945365727805,null,0.90744571910814464,null,8.6870639244974221E-2,8.6265477770844715E-2,1,null,8.6265477770844715E-2]
[{"$f":"A102+Model!$C$48","v":9.0000000000000066E-2},0.95135131733662393,null,0.95135131733662393,null,0.90506932899812975,null,8.7776896769027363E-2,0,0,null,8.6265477770844715E-2]
[{"$f":"A103+Model!$C$48","v":9.1000000000000067E-2},0.95009701109595934,null,0.95009701109595934,null,0.90268433049347552,null,8.868077359877316E-2,8.807878494898766E-2,1,null,8.807878494898766E-2]
[{"$f":"A104+Model!$C$48","v":9.2000000000000068E-2},0.94883686857876559,null,0.94883686857876559,null,0.90029140317435774,null,8.9582261465607077E-2,0,0,null,8.807878494898766E-2]
[{"$f":"A105+Model!$C$48","v":9.3000000000000069E-2},0.94757121402183486,null,0.94757121402183486,null,0.89789120564281399,null,9.0481352770015663E-2,8.9882558325095202E-2,1,null,8.9882558325095202E-2]
[{"$f":"A106+Model!$C$48","v":9.400000000000007E-2},0.94630036958209651,null,0.94630036958209651,null,0.89548438947121245,null,9.1378040567572677E-2,0,0,null,8.9882558325095202E-2]
[{"$f":"A107+Model!$C$48","v":9.500000000000007E-2},0.94502462758006267,null,0.94502462758006267,null,0.89307154673283617,null,9.2272318535674705E-2,9.1676736192266434E-2,1,null,9.1676736192266434E-2]
[{"$f":"A108+Model!$C$48","v":9.6000000000000071E-2},0.94374429152555961,null,0.94374429152555961,null,0.89065328778708042,null,9.3164180952934661E-2,0,0,null,9.1676736192266434E-2]
[{"$f":"A109+Model!$C$48","v":9.7000000000000072E-2},0.94245964971411467,null,0.94245964971411467,null,0.88823019133925174,null,9.4053622692497826E-2,9.3461267113101598E-2,1,null,9.3461267113101598E-2]
[{"$f":"A110+Model!$C$48","v":9.8000000000000073E-2},0.94117098189757764,null,0.94117098189757764,null,0.88580281716605047,null,9.4940639196750484E-2,0,0,null,9.3461267113101598E-2]
[{"$f":"A111+Model!$C$48","v":9.9000000000000074E-2},0.93987855946670673,null,0.93987855946670673,null,0.8833717065452118,null,9.5825226458606111E-2,9.5236109246331302E-2,1,null,9.5236109246331302E-2]
[{"$f":"A112+Model!$C$48","v":0.10000000000000007},0.93858264563520544,null,0.93858264563520544,null,0.88093738268758159,null,9.6707381003222515E-2,0,0,null,9.5236109246331302E-2]
[{"$f":"A113+Model!$C$48","v":0.10100000000000008},0.93728349562456659,null,0.93728349562456659,null,0.87850035117020697,null,9.7587099870151406E-2,9.7001229776849968E-2,1,null,9.7001229776849968E-2]
[{"$f":"A114+Model!$C$48","v":0.10200000000000008},0.93598135684914607,null,0.93598135684914607,null,0.87606110036916851,null,9.8464380595921094E-2,0,0,null,9.7001229776849968E-2]
[{"$f":"A115+Model!$C$48","v":0.10300000000000008},0.9346764691009587,null,0.9346764691009587,null,0.87362010189103545,null,9.93392211970512E-2,9.8756604311989696E-2,1,null,9.8756604311989696E-2]
[{"$f":"A116+Model!$C$48","v":0.10400000000000008},0.93336906473373882,null,0.93336906473373882,null,0.87117781100193437,null,0.10021162015349769,0,0,null,9.8756604311989696E-2]
[{"$f":"A117+Model!$C$48","v":0.10500000000000008},0.93205936884586771,null,0.93205936884586771,null,0.86873466705335722,null,0.10108157639252534,0.10050221632184569,1,null,0.10050221632184569]
[{"$f":"A118+Model!$C$48","v":0.10600000000000008},0.93074760927342115,null,0.93074760927342115,null,0.86629111216818899,null,0.10194908928213611,0,0,null,0.10050221632184569]
[{"$f":"A119+Model!$C$48","v":0.10700000000000008},0.92943397838436714,null,0.92943397838436714,null,0.86384752017539224,null,0.10281415859830791,0.10223805661936231,1,null,0.10223805661936231]
[{"$f":"A120+Model!$C$48","v":0.10800000000000008},0.92811868960439037,null,0.92811868960439037,null,0.86140430199297069,null,0.10367678450939209,0,0,null,0.10223805661936231]
[{"$f":"A121+Model!$C$48","v":0.10900000000000008},0.92680194080890677,null,0.92680194080890677,null,0.85896183748715627,null,0.10453696757913215,0.10396412284759148,1,null,0.10396412284759148]
[{"$f":"A122+Model!$C$48","v":0.11000000000000008},0.92548392350478259,null,0.92548392350478259,null,0.85652049266580632,null,0.10539470874420863,0,0,null,0.10396412284759148]
[{"$f":"A123+Model!$C$48","v":0.11100000000000008},0.92416482300042169,null,0.92416482300042169,null,0.85408062007140073,null,0.10625000930057724,0.10568041895935155,1,null,0.10568041895935155]
[{"$f":"A124+Model!$C$48","v":0.11200000000000009},0.92284481857302492,null,0.92284481857302492,null,0.85164255916707932,null,0.10710287089019647,0,0,null,0.10568041895935155]
[{"$f":"A125+Model!$C$48","v":0.11300000000000009},0.92152408363290461,null,0.92152408363290461,null,0.84920663671546459,null,0.10795329548813774,0.10738695482555814,1,null,0.10738695482555814]
[{"$f":"A126+Model!$C$48","v":0.11400000000000009},0.92020278588474891,null,0.92020278588474891,null,0.84677316715005302,null,0.1088012853900705,0,0,null,0.10738695482555814]
[{"$f":"A127+Model!$C$48","v":0.11500000000000009},0.91888108748575625,null,0.91888108748575625,null,0.84434245293900601,null,0.10964684320011503,0.10908374578594547,1,null,0.10908374578594547]
[{"$f":"A128+Model!$C$48","v":0.11600000000000009},0.91755914520057535,null,0.91755914520057535,null,0.84191478494121053,null,0.11048997181905514,0,0,null,0.10908374578594547]
[{"$f":"A129+Model!$C$48","v":0.11700000000000009},0.91623711055300261,null,0.91623711055300261,null,0.83949044275451512,null,0.111330674432903,0.11077081224649162,1,null,0.11077081224649162]
[{"$f":"A130+Model!$C$48","v":0.11800000000000009},0.91491512997440294,null,0.91491512997440294,null,0.83706969505607864,null,0.11216895450180829,0,0,null,0.11077081224649162]
[{"$f":"A131+Model!$C$48","v":0.11900000000000009},0.91359335843818767,null,0.91359335843818767,null,0.83465282458236689,null,0.11300481576162752,0.11244817930020169,1,null,0.11244817930020169]
[{"$f":"A132+Model!$C$48","v":0.12000000000000009},0.912271906667524,null,0.912271906667524,null,0.83224003169479965,null,0.1138382621897661,0,0,null,0.11244817930020169]
[{"$f":"A133+Model!$C$48","v":0.12100000000000009},0.91095091920307614,null,0.91095091920307614,null,0.82983157719692935,null,0.11466929799421197,0.11411587642077471,1,null,0.11411587642077471]
[{"$f":"A134+Model!$C$48","v":0.12200000000000009},0.90963052352755891,null,0.90963052352755891,null,0.82742768933302091,null,0.11549792762747695,0,0,null,0.11411587642077471]
[{"$f":"A135+Model!$C$48","v":0.1230000000000001},0.9083108427238985,null,0.9083108427238985,null,0.82502858700979864,null,0.11632415576564836,0.1157739369832593,1,null,0.1157739369832593]
[{"$f":"A136+Model!$C$48","v":0.1240000000000001},0.90699199560388899,null,0.90699199560388899,null,0.822634480089525,null,0.11714798729919802,0,0,null,0.1157739369832593]
[{"$f":"A137+Model!$C$48","v":0.12500000000000008},0.90567409683361322,null,0.90567409683361322,null,0.82024556967538098,null,0.11796942732408046,0.11742239808599869,1,null,0.11742239808599869]
[{"$f":"A138+Model!$C$48","v":0.12600000000000008},0.90435725705566683,null,0.90435725705566683,null,0.81786204838924947,null,0.11878848113311277,0,0,null,0.11742239808599869]
[{"$f":"A139+Model!$C$48","v":0.12700000000000009},0.90304158300822313,null,0.90304158300822313,null,0.8154841006419975,null,0.11960515420762839,0.1190613002111587,1,null,0.1190613002111587]
[{"$f":"A140+Model!$C$48","v":0.12800000000000009},0.90172717764098043,null,0.90172717764098043,null,{"$f":"B141*D141","v":0.81311190289636825},null,0.12041945220939758,0,0,null,0.1190613002111587]
[{"$f":"A141+Model!$C$48","v":0.12900000000000009},{"$f":"IF($B$10>0,ERF($B$10/SQRT(A142)),-ERF(-$B$10/SQRT(A142)))","v":0.90041414022804123},null,{"$f":"ERF($B$11/SQRT(A142))","v":0.90041414022804123},null,0.81074562392260274,null,{"$f":"0.5*(F142+F141)*(A142-A141)+H141","v":0.12123138097280707},0.12069068694727894,1,null,0.12069068694727894]
[{"$f":"A142+Model!$C$48","v":0.13000000000000009},0.89910256647777098,null,0.89910256647777098,null,0.80838542504691457,null,0.12204094649729183,0,{"$f":"IF(J142=1,0,1)","v":0},null,0.12069068694727894]
[{"$f":"A143+Model!$C$48","v":0.13100000000000009},0.89779254863968805,null,0.89779254863968805,null,0.8060314603929466,null,0.12284815494001176,0.12231060472920702,1,null,0.12231060472920702]
[{"$f":"A144+Model!$C$48","v":0.13200000000000009},0.89648419294385473,null,0.89648419294385473,null,0.80368390819819457,null,0.12365301262430733,{"$f":"(I143+((A145-A144)/3)*(4*F143+2*F144))*J145","v":0},0,null,{"$f":"IF(J145=1,I145,I144)","v":0.12231060472920702}]
[{"$f":"A145+Model!$C$48","v":0.13300000000000009},0.89517755151718825,null,0.89517755151718825,null,0.80134284874030826,null,0.12445552600277658,0.12392110261519641,1,null,0.12392110261519641]
[{"$f":"A146+Model!$C$48","v":0.13400000000000009},0.89387272308624777,null,0.89387272308624777,null,0.79900844507762381,null,0.12525570164968555,0,0,null,0.12392110261519641]
[{"$f":"A147+Model!$C$48","v":0.13500000000000009},0.89256978707917378,null,0.89256978707917378,null,0.79668082480656166,null,0.12605354628462764,0.12552223204356858,1,null,0.12552223204356858]
[{"$f":"A148+Model!$C$48","v":0.13600000000000009},0.89126881995719798,null,0.89126881995719798,null,0.79436010942789614,null,0.12684906675174487,0,0,null,0.12552223204356858]
[{"$f":"A149+Model!$C$48","v":0.13700000000000009},0.88996989530490644,null,0.88996989530490644,null,0.79204641454902613,null,0.12764227001373332,0.12711404654959593,1,null,0.12711404654959593]
[{"$f":"A150+Model!$C$48","v":0.13800000000000009},0.88867308391793776,null,0.88867308391793776,null,0.78973985008021808,null,0.12843316314604794,0,0,null,0.12711404654959593]
[{"$f":"A151+Model!$C$48","v":0.1390000000000001},0.88737845388817349,null,0.88737845388817349,null,0.78744052042496526,null,0.12922175333130054,0.12869660166904812,1,null,0.12869660166904812]
[{"$f":"A152+Model!$C$48","v":0.1400000000000001},0.88608607068648448,null,0.88608607068648448,null,0.7851485246646136,null,0.13000804785384532,0,0,null,0.12869660166904812]
[{"$f":"A153+Model!$C$48","v":0.1410000000000001},0.88479599724308777,null,0.88479599724308777,null,0.78286395673739018,null,0.13079205409454631,0.13026995471272448,1,null,0.13026995471272448]
[{"$f":"A154+Model!$C$48","v":0.1420000000000001},0.88350829402557673,null,0.88350829402557673,null,0.78058690561198496,null,0.131573779525721,0,0,null,0.13026995471272448]
[{"$f":"A155+Model!$C$48","v":0.1430000000000001},0.88222301911468137,null,0.88222301911468137,null,0.77831745545582343,null,0.1323532317062549,0.13183416459211567,1,null,0.13183416459211567]
[{"$f":"A156+Model!$C$48","v":0.1440000000000001},0.88094024827485717,null,0.88094024827485717,null,0.77605572103056697,null,0.13313041829449809,0,0,null,0.13183416459211567]
[{"$f":"A157+Model!$C$48","v":0.1450000000000001},0.87965999624078961,null,0.87965999624078961,null,0.77380170898634604,null,0.13390534700950654,0.13338929168007715,1,null,0.13338929168007715]
[{"$f":"A158+Model!$C$48","v":0.1460000000000001},0.87838233321766224,null,0.87838233321766224,null,0.7715555233089042,null,0.13467802562565417,0,0,null,0.13338929168007715]
[{"$f":"A159+Model!$C$48","v":0.1470000000000001},0.87710730845511231,null,0.87710730845511231,null,0.76931723054537149,null,0.13544846200258132,0.13493539764093154,1,null,0.13493539764093154]
[{"$f":"A160+Model!$C$48","v":0.1480000000000001},0.87583496916272341,null,0.87583496916272341,null,0.76708689320826862,null,0.13621666406445815,0,0,null,0.13493539764093154]
[{"$f":"A161+Model!$C$48","v":0.1490000000000001},0.87456536057336109,null,0.87456536057336109,null,0.76486456991481311,null,0.13698263979601968,0.13647254521046423,1,null,0.13647254521046423]
[{"$f":"A162+Model!$C$48","v":0.15000000000000011},0.8732985260046271,null,0.8732985260046271,null,0.76265031552185436,null,0.13774639723873802,0,0,null,0.13647254521046423]
[{"$f":"A163+Model!$C$48","v":0.15100000000000011},0.87203450691848394,null,0.87203450691848394,null,0.76044418125656343,null,0.13850794448712722,0.13800079818069855,1,null,0.13800079818069855]
[{"$f":"A164+Model!$C$48","v":0.15200000000000011},0.87077334297910491,null,0.87077334297910491,null,0.75824621484300592,null,0.13926728968517701,0,0,null,0.13800079818069855]
[{"$f":"A165+Model!$C$48","v":0.15300000000000011},0.8695150721089947,null,0.8695150721089947,null,0.75605646062471021,null,0.14002444102291087,0.13952022123226931,1,null,0.13952022123226931]
[{"$f":"A166+Model!$C$48","v":0.15400000000000011},0.86825973054343109,null,0.86825973054343109,null,0.75387495968335161,null,0.14077940673306491,0,0,null,0.13952022123226931]
[{"$f":"A167+Model!$C$48","v":0.15500000000000011},0.86700735288327668,null,0.86700735288327668,null,0.75170174995366668,null,0.14153219508788342,0.14103087981955784,1,null,0.14103087981955784]
[{"$f":"A168+Model!$C$48","v":0.15600000000000011},0.86575797214620676,null,0.86575797214620676,null,0.74953686633471206,null,0.14228281439602761,0,0,null,0.14103087981955784]
[{"$f":"A169+Model!$C$48","v":0.15700000000000011},0.86451164350642928,null,0.86451164350642928,null,0.74738038175818744,null,0.14303127302007407,0.14253284006371919,1,null,0.14253284006371919]
[{"$f":"A170+Model!$C$48","v":0.15800000000000011},0.86326835086721987,null,0.86326835086721987,null,0.74523224560900947,null,0.14377757933375768,0,0,null,0.14253284006371919]
[{"$f":"A171+Model!$C$48","v":0.15900000000000011},0.86202814525063109,null,0.86202814525063109,null,0.74309252320424313,null,0.14452174171816431,0.14402616873646945,1,null,0.14402616873646945]
[{"$f":"A172+Model!$C$48","v":0.16000000000000011},0.86079105382557874,null,0.86079105382557874,null,0.74096123834615035,null,0.14526376859893952,0,0,null,0.14402616873646945]
[{"$f":"A173+Model!$C$48","v":0.16100000000000012},0.85955710241175809,null,0.85955710241175809,null,0.73883841230649761,null,0.14600366842426585,0.14551093292630587,1,null,0.14551093292630587]
[{"$f":"A174+Model!$C$48","v":0.16200000000000012},0.85832631552228422,null,0.85832631552228422,null,0.73672406391805978,null,0.14674144966237812,0,0,null,0.14551093292630587]
[{"$f":"A175+Model!$C$48","v":0.16300000000000012},0.85709871640504665,null,0.85709871640504665,null,0.73461820966317859,null,0.14747712079916875,0.14698720018532657,1,null,0.14698720018532657]
[{"$f":"A176+Model!$C$48","v":0.16400000000000012},0.85587432708281208,null,0.85587432708281208,null,0.73252086375945635,null,0.14821069033588008,0,0,null,0.14698720018532657]
[{"$f":"A177+Model!$C$48","v":0.16500000000000012},0.85465316839211691,null,0.85465316839211691,null,0.7304320382426841,null,0.14894216678688116,0.14845503837405044,1,null,0.14845503837405044]
[{"$f":"A178+Model!$C$48","v":0.16600000000000012},0.85343526002098158,null,0.85343526002098158,null,0.72835174304708039,null,0.14967155867752605,0,0,null,0.14845503837405044]
[{"$f":"A179+Model!$C$48","v":0.16700000000000012},0.85222062054548386,null,0.85222062054548386,null,0.72627998608292954,null,0.15039887454209105,0.14991451558707208,1,null,0.14991451558707208]
[{"$f":"A180+Model!$C$48","v":0.16800000000000012},0.8510092674652272,null,0.8510092674652272,null,0.72421677331170264,null,0.15112412292178837,0,0,null,0.14991451558707208]
[{"$f":"A181+Model!$C$48","v":0.16900000000000012},0.84980121723773017,null,0.84980121723773017,null,0.72216210881872789,null,0.15184731236285359,0.15136570008405711,1,null,0.15136570008405711]
[{"$f":"A182+Model!$C$48","v":0.17000000000000012},0.84859648531178067,null,0.84859648531178067,null,0.72011599488350719,null,0.15256845141470471,0,0,null,0.15136570008405711]
[{"$f":"A183+Model!$C$48","v":0.17100000000000012},0.84739511474289375,null,0.84739511474289375,null,0.71807848049012202,null,0.15328754865239153,0.15280866022573775,1,null,0.15280866022573775]
[{"$f":"A184+Model!$C$48","v":0.17200000000000013},0.84619706328889577,null,0.84619706328889577,null,0.71604946991875151,null,0.15400461262759596,0,0,null,0.15280866022573775]
[{"$f":"A185+Model!$C$48","v":0.17300000000000013},0.84500237080385088,null,0.84500237080385088,null,0.71402900666412872,null,0.1547196518658874,0.15424346451300375,1,null,0.15424346451300375]
[{"$f":"A186+Model!$C$48","v":0.17400000000000013},0.84381104901697068,null,0.84381104901697068,null,0.71201708644312045,null,0.15543267491244103,0,0,null,0.15424346451300375]
[{"$f":"A187+Model!$C$48","v":0.17500000000000013},0.8426231088009577,null,0.8426231088009577,null,0.71001370348539061,null,0.1561436903074053,0.15567018124618467,1,null,0.15567018124618467]
[{"$f":"A188+Model!$C$48","v":0.17600000000000013},0.8414385601997344,null,0.8414385601997344,null,0.708018850591002,null,0.1568527065844435,0,0,null,0.15567018124618467]
[{"$f":"A189+Model!$C$48","v":0.17700000000000013},0.84025741245533092,null,0.84025741245533092,null,0.70603251918612808,null,0.15755973226933206,0.15708887875122587,1,null,0.15708887875122587]
[{"$f":"A190+Model!$C$48","v":0.17800000000000013},0.83907967403395811,null,0.83907967403395811,null,0.70405469937693343,null,0.15826477587861359,0,0,null,0.15708887875122587]
[{"$f":"A191+Model!$C$48","v":0.17900000000000013},0.83790535265129074,null,0.83790535265129074,null,0.70208538000168386,null,0.1589678459183029,0.15849962524305866,1,null,0.15849962524305866]
[{"$f":"A192+Model!$C$48","v":0.18000000000000013},0.83673445529698443,null,0.83673445529698443,null,0.70012454868114127,null,0.15966895088264432,0,0,null,0.15849962524305866]
[{"$f":"A193+Model!$C$48","v":0.18100000000000013},0.83556698825844988,null,0.83556698825844988,null,0.69817219186729651,null,0.16036809925291853,0.15990248878218166,1,null,0.15990248878218166]
[{"$f":"A194+Model!$C$48","v":0.18200000000000013},0.83440295714390589,null,0.83440295714390589,null,0.69622829489049487,null,0.16106529949629744,0,0,null,0.15990248878218166]
[{"$f":"A195+Model!$C$48","v":0.18300000000000013},0.83324236690473596,null,0.83324236690473596,null,0.69429284200500663,null,0.16176056006474521,0.16129753723459839,1,null,0.16129753723459839]
[{"$f":"A196+Model!$C$48","v":0.18400000000000014},0.83208525383603449,null,0.83208525383603449,null,0.69236586965137792,null,0.1624538894205734,0,0,null,0.16129753723459839]
[{"$f":"A197+Model!$C$48","v":0.18500000000000014},0.83093155911565919,null,0.83093155911565919,null,0.69044725593438028,null,0.16314529598336627,0.16268483827037264,1,null,0.16268483827037264]
[{"$f":"A198+Model!$C$48","v":0.18600000000000014},0.82978131644890962,null,0.82978131644890962,null,0.68853703312768544,null,0.16383478812789731,0,0,null,0.16268483827037264]
[{"$f":"A199+Model!$C$48","v":0.18700000000000014},0.82863452837151486,null,0.82863452837151486,null,0.68663518160948289,null,0.16452237423526589,0.16406445930037028,1,null,0.16406445930037028]
[{"$f":"A200+Model!$C$48","v":0.18800000000000014},0.82749119686441386,null,0.82749119686441386,null,0.68474168088810017,null,0.16520806266651469,0,0,null,0.16406445930037028]
[{"$f":"A201+Model!$C$48","v":0.18900000000000014},0.82635132337234585,null,0.82635132337234585,null,0.68285650963922728,null,0.16589186176177836,0.16543646732977499,1,null,0.16543646732977499]
[{"$f":"A202+Model!$C$48","v":0.19000000000000014},0.82521490882187576,null,0.82521490882187576,null,0.68097964574189673,null,0.16657377983946892,0,0,null,0.16543646732977499]
[{"$f":"A203+Model!$C$48","v":0.19100000000000014},0.82408195363887871,null,0.82408195363887871,null,0.67911106631327101,null,0.1672538251954965,0.16680092910645522,1,null,0.16680092910645522]
[{"$f":"A204+Model!$C$48","v":0.19200000000000014},0.82295245776549153,null,0.82295245776549153,null,{"$f":"B205*D205","v":0.67725074774226313},null,0.16793200610252426,0,0,null,0.16680092910645522]
[{"$f":"A205+Model!$C$48","v":0.19300000000000014},{"$f":"IF($B$10>0,ERF($B$10/SQRT(A206)),-ERF(-$B$10/SQRT(A206)))","v":0.82182642067655332},null,{"$f":"ERF($B$11/SQRT(A206))","v":0.82182642067655332},null,0.67539866572203522,null,{"$f":"0.5*(F206+F205)*(A206-A205)+H205","v":0.16860833080925641},0.16815791102670108,1,null,0.16815791102670108]
[{"$f":"A206+Model!$C$48","v":0.19400000000000014},0.82070384139554897,null,0.82070384139554897,null,0.67355479528141038,null,0.16928280753975813,0,{"$f":"IF(J206=1,0,1)","v":0},null,0.16815791102670108]
[{"$f":"A207+Model!$C$48","v":0.19500000000000015},0.81958471851007153,null,0.81958471851007153,null,0.67171911081523317,null,0.16995544449280645,0.16950747911118474,1,null,0.16950747911118474]
[{"$f":"A208+Model!$C$48","v":0.19600000000000015},0.81846905018681404,null,0.81846905018681404,null,0.66989158611370547,null,0.17062624984127092,{"$f":"(I207+((A209-A208)/3)*(4*F207+2*F208))*J209","v":0},0,null,{"$f":"IF(J209=1,I209,I208)","v":0.16950747911118474}]
[{"$f":"A209+Model!$C$48","v":0.19700000000000015},0.8173568693213018,null,0.8173568693213018,null,0.66807225182671959,null,0.17129523176024114,0.17084969898301419,1,null,0.17084969898301419]
[{"$f":"A210+Model!$C$48","v":0.19800000000000015},0.81624810446563933,null,0.81624810446563933,null,0.66626096804374924,null,0.17196239837017638,0,0,null,0.17084969898301419]
[{"$f":"A211+Model!$C$48","v":0.19900000000000015},0.81514278633836612,null,0.81514278633836612,null,0.66445776211947516,null,0.17262775773525799,0.17218463596414565,1,null,0.17218463596414565]
[{"$f":"A212+Model!$C$48","v":0.20000000000000015},0.81404091156483727,null,0.81404091156483727,null,0.66266260570131119,null,0.17329131791916838,0,0,null,0.17218463596414565]
[{"$f":"A213+Model!$C$48","v":0.20100000000000015},0.81294247641796669,null,0.81294247641796669,null,0.66087546996457636,null,0.17395308695700132,0.17351235471743917,1,null,0.17351235471743917]
[{"$f":"A214+Model!$C$48","v":0.20200000000000015},0.8118474768306998,null,0.8118474768306998,null,0.65909632563637366,null,0.17461307285480179,0,0,null,0.17351235471743917]
[{"$f":"A215+Model!$C$48","v":0.20300000000000015},0.81075590840811018,null,0.81075590840811018,null,0.65732514301865996,null,0.1752712835891293,0.17483291956114952,1,null,0.17483291956114952]
[{"$f":"A216+Model!$C$48","v":0.20400000000000015},0.80966776643912897,null,0.80966776643912897,null,0.65556189201052795,null,0.17592772710664389,0,0,null,0.17483291956114952]
[{"$f":"A217+Model!$C$48","v":0.20500000000000015},0.80858304590792285,null,0.80858304590792285,null,0.6538065421297341,null,0.17658241132371402,0.17614639434651475,1,null,0.17614639434651475]
[{"$f":"A218+Model!$C$48","v":0.20600000000000016},0.8075017415049246,null,0.8075017415049246,null,0.65205906253348611,null,0.17723534412604564,0,0,null,0.17614639434651475]
[{"$f":"A219+Model!$C$48","v":0.20700000000000016},0.80642384763753405,null,0.80642384763753405,null,0.65031942203852477,null,0.17788653336833163,0.17745284244437673,1,null,0.17745284244437673]
[{"$f":"A220+Model!$C$48","v":0.20800000000000016},0.80534935844049416,null,0.80534935844049416,null,0.64858758914051551,null,0.17853598687392114,0,0,null,0.17745284244437673]
[{"$f":"A221+Model!$C$48","v":0.20900000000000016},0.80427826778595235,null,0.80427826778595235,null,0.64686353203277203,null,0.17918371243450779,0.17875232673318844,1,null,0.17875232673318844]
[{"$f":"A222+Model!$C$48","v":0.21000000000000016},0.80321056929322032,null,0.80321056929322032,null,0.6451472186243391,null,0.17982971780983634,0,0,null,0.17875232673318844]
[{"$f":"A223+Model!$C$48","v":0.21100000000000016},0.80214629584112573,null,0.80214629584112573,null,0.64343867993163884,null,0.18047401075911432,0.18004490958831504,1,null,0.18004490958831504]
[{"$f":"A224+Model!$C$48","v":0.21200000000000016},0.80108536307301614,null,0.80108536307301614,null,0.6417377589298261,null,0.18111659897854504,0,0,null,0.18004490958831504]
[{"$f":"A225+Model!$C$48","v":0.21300000000000016},0.80002780194685652,null,0.80002780194685652,null,0.64004448388791868,null,0.1817574900999539,0.18133065300084378,1,null,0.18133065300084378]
[{"$f":"A226+Model!$C$48","v":0.21400000000000016},0.79897360516346072,null,0.79897360516346072,null,0.6383588217478976,null,0.18239669175277182,0,0,null,0.18133065300084378]
[{"$f":"A227+Model!$C$48","v":0.21500000000000016},0.79792276521536176,null,0.79792276521536176,null,0.63668073924892932,null,0.18303421153327024,0.1826096181938596,1,null,0.1826096181938596]
[{"$f":"A228+Model!$C$48","v":0.21600000000000016},0.79687527439492856,null,0.79687527439492856,null,0.63501020294199273,null,0.1836700570043657,0,0,null,0.1826096181938596]
[{"$f":"A229+Model!$C$48","v":0.21700000000000016},0.79583112480223839,null,0.79583112480223839,null,0.63334717920399597,null,0.18430423569543869,0.18388186598148618,1,null,0.18388186598148618]
[{"$f":"A230+Model!$C$48","v":0.21800000000000017},0.79479030835270736,null,0.79479030835270736,null,0.63169163425139163,null,0.18493675510216639,0,0,null,0.18388186598148618]
[{"$f":"A231+Model!$C$48","v":0.21900000000000017},0.79375281678449405,null,0.79375281678449405,null,0.6300435341533186,null,0.18556762268636876,0.1851474566432591,1,null,0.1851474566432591]
[{"$f":"A232+Model!$C$48","v":0.22000000000000017},0.79271864166567529,null,0.79271864166567529,null,0.62840284484427333,null,0.18619684587586754,0,0,null,0.1851474566432591]
[{"$f":"A233+Model!$C$48","v":0.22100000000000017},0.79168777440120741,null,0.79168777440120741,null,0.62676953213633713,null,0.18682443206435784,0.18640644991869304,1,null,0.18640644991869304]
[{"$f":"A234+Model!$C$48","v":0.22200000000000017},0.79066020623967292,null,0.79066020623967292,null,0.62514356173096208,null,0.18745038861129149,0,0,null,0.18640644991869304]
[{"$f":"A235+Model!$C$48","v":0.22300000000000017},0.78963592827982565,null,0.78963592827982565,null,0.62352489923034193,null,0.18807472284177212,0.18765890500269547,1,null,0.18765890500269547]
[{"$f":"A236+Model!$C$48","v":0.22400000000000017},0.78861493147693573,null,0.78861493147693573,null,0.62191351014837204,null,0.18869744204646149,0,0,null,0.18765890500269547]
[{"$f":"A237+Model!$C$48","v":0.22500000000000017},0.78759725030452765,null,0.78759725030452765,null,0.62030942868725281,null,0.18931855351587931,0.18890488054176818,1,null,0.18890488054176818]
[{"$f":"A238+Model!$C$48","v":0.22600000000000017},0.78658278968263029,null,0.78658278968263029,null,0.61871248502490894,null,0.1899380644727354,0,0,null,0.18890488054176818]
[{"$f":"A239+Model!$C$48","v":0.22700000000000017},0.78557158232681701,null,0.78557158232681701,null,0.61712271095945903,null,0.19055598207072758,0.19014443477003445,1,null,0.19014443477003445]
[{"$f":"A240+Model!$C$48","v":0.22800000000000017},0.78456361867899904,null,0.78456361867899904,null,0.61554007175468584,null,0.19117231346208466,0,0,null,0.19014443477003445]
[{"$f":"A241+Model!$C$48","v":0.22900000000000018},0.78355888906655846,null,0.78355888906655846,null,0.61396453263521922,null,0.19178706576427962,0.19137762509915018,1,null,0.19137762509915018]
[{"$f":"A242+Model!$C$48","v":0.23000000000000018},0.78255738370761974,null,0.78255738370761974,null,0.61239605879531478,null,0.19240024605999489,0,0,null,0.19137762509915018]
[{"$f":"A243+Model!$C$48","v":0.23100000000000018},0.78155909271615875,null,0.78155909271615875,null,0.61083461540730521,null,0.1930118613970962,0.19260450851519403,1,null,0.19260450851519403]
[{"$f":"A244+Model!$C$48","v":0.23200000000000018},0.78056400610695775,null,0.78056400610695775,null,0.6092801676297428,null,0.19362191878861473,0,0,null,0.19260450851519403]
[{"$f":"A245+Model!$C$48","v":0.23300000000000018},0.77957211380040514,null,0.77957211380040514,null,0.60773268061523178,null,0.19423042521273723,0.19382514144749027,1,null,0.19382514144749027]
[{"$f":"A246+Model!$C$48","v":0.23400000000000018},0.77858340562715145,null,0.77858340562715145,null,0.60619211951797347,null,0.19483738761280384,0,0,null,0.19382514144749027]
[{"$f":"A247+Model!$C$48","v":0.23500000000000018},0.77759787133262137,null,0.77759787133262137,null,0.60465844950102399,null,0.19544281289731333,0.19503957976798925,1,null,0.19503957976798925]
[{"$f":"A248+Model!$C$48","v":0.23600000000000018},0.77661550058138706,null,0.77661550058138706,null,0.60313163574327844,null,0.19604670793993548,0,0,null,0.19503957976798925]
[{"$f":"A249+Model!$C$48","v":0.23700000000000018},0.77563628296140685,null,0.77563628296140685,null,0.60161164344618756,null,0.19664907957953021,0.1962478787911528,1,null,0.1962478787911528]
[{"$f":"A250+Model!$C$48","v":0.23800000000000018},0.7746602079881334,null,0.7746602079881334,null,0.6000984378402181,null,0.1972499346201734,0,0,null,0.1962478787911528]
[{"$f":"A251+Model!$C$48","v":0.23900000000000018},0.77368731267503843,null,0.77368731267503843,null,0.59859205779432267,null,0.19784927986799067,0.19745009327430785,1,null,0.19745009327430785]
[{"$f":"A252+Model!$C$48","v":0.24000000000000019},0.77271749283980451,null,0.77271749283980451,null,0.59709232374063337,null,0.19844712205875814,0,0,null,0.19745009327430785]
[{"$f":"A253+Model!$C$48","v":0.24100000000000019},0.77175078384302731,null,0.77175078384302731,null,0.59559927236232701,null,0.19904346785680962,0.19864627756719402,1,null,0.19864627756719402]
[{"$f":"A254+Model!$C$48","v":0.24200000000000019},0.77078717494952964,null,0.77078717494952964,null,0.59411286906667682,null,0.19963832392752412,0,0,null,0.19864627756719402]
[{"$f":"A255+Model!$C$48","v":0.24300000000000019},0.76982665537035289,null,0.76982665537035289,null,0.59263307931870413,null,0.2002316969017168,0.19983648517638825,1,null,0.19983648517638825]
[{"$f":"A256+Model!$C$48","v":0.24400000000000019},0.76886921426615706,null,0.76886921426615706,null,0.59115986864625769,null,0.20082359337569927,0,0,null,0.19983648517638825]
[{"$f":"A257+Model!$C$48","v":0.24500000000000019},0.76791484075051741,null,0.76791484075051741,null,0.58969320264489256,null,0.20141401991134486,0.20102076919457737,1,null,0.20102076919457737]
[{"$f":"A258+Model!$C$48","v":0.24600000000000019},0.76696352389311806,null,0.76696352389311806,null,0.58823304698254952,null,0.20200298303615857,0,0,null,0.20102076919457737]
[{"$f":"A259+Model!$C$48","v":0.24700000000000019},0.76601525272284321,null,0.76601525272284321,null,0.58677936740404135,null,0.20259048924335188,0.20219918216275892,1,null,0.20219918216275892]
[{"$f":"A260+Model!$C$48","v":0.24800000000000019},0.76507001623077497,null,0.76507001623077497,null,0.58533212973535831,null,0.20317654499192159,0,0,null,0.20219918216275892]
[{"$f":"A261+Model!$C$48","v":0.24900000000000019},0.76412780337309605,null,0.76412780337309605,null,0.58389129988779298,null,0.20376115670673317,0.20337177607245455,1,null,0.20337177607245455]
[{"$f":"A262+Model!$C$48","v":0.25000000000000017},0.76318860307389702,null,0.76318860307389702,null,0.58245684386188634,null,0.204344330778608,0,0,null,0.20337177607245455]
[{"$f":"A263+Model!$C$48","v":0.25100000000000017},0.76225240422790241,null,0.76225240422790241,null,0.5810287277512175,null,0.20492607356441456,0.20453860236821286,1,null,0.20453860236821286]
[{"$f":"A264+Model!$C$48","v":0.25200000000000017},0.7613191957031038,null,0.7613191957031038,null,0.57960691774602091,null,0.20550639138716317,0,0,null,0.20453860236821286]
[{"$f":"A265+Model!$C$48","v":0.25300000000000017},0.76038901756478583,null,0.76038901756478583,null,0.5781914580331402,null,0.20608529057505276,0.20569971195037851,1,null,0.20569971195037851]
[{"$f":"A266+Model!$C$48","v":0.25400000000000017},0.7594617577732431,null,0.7594617577732431,null,0.57678216152002415,null,0.20666277738482935,0,0,null,0.20569971195037851]
[{"$f":"A267+Model!$C$48","v":0.25500000000000017},0.75853745481042834,null,0.75853745481042834,null,0.57537907035028257,null,0.2072388580007645,0.20685515533543605,1,null,0.20685515533543605]
[{"$f":"A268+Model!$C$48","v":0.25600000000000017},0.75761609746281666,null,0.75761609746281666,null,{"$f":"B269*D269","v":0.57398215113478812},null,0.20781353861150703,0,0,null,0.20685515533543605]
[{"$f":"A269+Model!$C$48","v":0.25700000000000017},{"$f":"IF($B$10>0,ERF($B$10/SQRT(A270)),-ERF(-$B$10/SQRT(A270)))","v":0.75669767450213044},null,{"$f":"ERF($B$11/SQRT(A270))","v":0.75669767450213044},null,0.5725913705969321,null,{"$f":"0.5*(F270+F269)*(A270-A269)+H269","v":0.20838682537237288},0.20800498219665961,1,null,0.20800498219665961]
[{"$f":"A270+Model!$C$48","v":0.25800000000000017},0.75578217468750775,null,0.75578217468750775,null,0.57120669557537851,null,0.20895872440545904,0,{"$f":"IF(J270=1,0,1)","v":0},null,0.20800498219665961]
[{"$f":"A271+Model!$C$48","v":0.25900000000000017},0.75486958676760307,null,0.75486958676760307,null,0.5698280930266918,null,0.20952924179976007,0.20914924182117245,1,null,0.20914924182117245]
[{"$f":"A272+Model!$C$48","v":0.26000000000000018},0.75395989948261666,null,0.75395989948261666,null,0.56845553002783744,null,0.21009838361128733,{"$f":"(I271+((A273-A272)/3)*(4*F271+2*F272))*J273","v":0},0,null,{"$f":"IF(J273=1,I273,I272)","v":0.20914924182117245}]
[{"$f":"A273+Model!$C$48","v":0.26100000000000018},0.75305310156626093,null,0.75305310156626093,null,0.56708897377856526,null,0.21066615586319054,0.21028798296522661,1,null,0.21028798296522661]
[{"$f":"A274+Model!$C$48","v":0.26200000000000018},0.7521491817476611,null,0.7521491817476611,null,0.56572839160367616,null,0.21123256454588166,0,0,null,0.21028798296522661]
[{"$f":"A275+Model!$C$48","v":0.26300000000000018},0.7512481287531938,null,0.7512481287531938,null,0.56437375095517528,null,0.21179761561716109,0.21142125385800048,1,null,0.21142125385800048]
[{"$f":"A276+Model!$C$48","v":0.26400000000000018},0.75034993130826488,null,0.75034993130826488,null,0.56302501941431782,null,0.21236131500234584,0,0,null,0.21142125385800048]
[{"$f":"A277+Model!$C$48","v":0.26500000000000018},0.74945457813902983,null,0.74945457813902983,null,0.56168216469355114,null,0.21292366859439976,0.21254910220555026,1,null,0.21254910220555026]
[{"$f":"A278+Model!$C$48","v":0.26600000000000018},0.74856205797405573,null,0.74856205797405573,null,0.56034515463835355,null,0.21348468225406572,0,0,null,0.21254910220555026]
[{"$f":"A279+Model!$C$48","v":0.26700000000000018},0.74767241416126362,null,0.74767241416126362,null,0.55901403889773216,null,0.21404436185083375,0.21367157519490057,1,null,0.21367157519490057]
[{"$f":"A280+Model!$C$48","v":0.26800000000000018},0.74678552779258389,null,0.74678552779258389,null,0.5576886245204481,null,0.21460271318254284,0,0,null,0.21367157519490057]
[{"$f":"A281+Model!$C$48","v":0.26900000000000018},0.74590144068065678,null,0.74590144068065678,null,0.55636895920947937,null,0.21515974197440782,0.21478871966311117,1,null,0.21478871966311117]
[{"$f":"A282+Model!$C$48","v":0.27000000000000018},0.74502014157984553,null,0.74502014157984553,null,0.55505501135965307,null,0.21571545395969238,0,0,null,0.21478871966311117]
[{"$f":"A283+Model!$C$48","v":0.27100000000000019},0.744141619254444,null,0.744141619254444,null,0.55374674950662595,null,0.21626985484012554,0.21590058161629691,1,null,0.21590058161629691]
[{"$f":"A284+Model!$C$48","v":0.27200000000000019},0.7432658624800299,null,0.7432658624800299,null,0.55244414232818273,null,0.21682295028604295,0,0,null,0.21590058161629691]
[{"$f":"A285+Model!$C$48","v":0.27300000000000019},0.74239286004477412,null,0.74239286004477412,null,0.5511471586454596,null,0.21737474593652978,0.21700720671052454,1,null,0.21700720671052454]
[{"$f":"A286+Model!$C$48","v":0.27400000000000019},0.74152260075070053,null,0.74152260075070053,null,0.54985576742408282,null,0.21792524739956454,0,0,null,0.21700720671052454]
[{"$f":"A287+Model!$C$48","v":0.27500000000000019},0.74065507341490422,null,0.74065507341490422,null,0.5485699377752371,null,0.21847446025216419,0.21810864010033454,1,null,0.21810864010033454]
[{"$f":"A288+Model!$C$48","v":0.27600000000000019},0.73979026687073035,null,0.73979026687073035,null,0.54728963895666638,null,0.21902239004053015,0,0,null,0.21810864010033454]
[{"$f":"A289+Model!$C$48","v":0.27700000000000019},0.73892816996890387,null,0.73892816996890387,null,0.54601484037359327,null,0.21956904228019528,0.2192049264433393,1,null,0.2192049264433393]
[{"$f":"A290+Model!$C$48","v":0.27800000000000019},0.73806877157862893,null,0.73806877157862893,null,0.54474551157958628,null,0.22011442245617185,0,0,null,0.2192049264433393]
[{"$f":"A291+Model!$C$48","v":0.27900000000000019},0.73721206058864097,null,0.73721206058864097,null,0.54348162227735008,null,0.22065853602310032,0.22029610990489049,1,null,0.22029610990489049]
[{"$f":"A292+Model!$C$48","v":0.28000000000000019},0.7363580259082263,null,0.7363580259082263,null,0.54222314231946012,null,0.22120138840539871,0,0,null,0.22029610990489049]
[{"$f":"A293+Model!$C$48","v":0.28100000000000019},0.73550671421796165,null,0.73550671421796165,null,0.54097012665970234,null,0.22174298503988829,0.22138223416280658,1,null,0.22138223416280658]
[{"$f":"A294+Model!$C$48","v":0.28200000000000019},0.73465800055169839,null,0.73465800055169839,null,0.53972237777461929,null,0.22228333129210545,0,0,null,0.22138223416280658]
[{"$f":"A295+Model!$C$48","v":0.2830000000000002},0.73381193009009915,null,0.73381193009009915,null,0.53847994874255656,null,0.22282243245536404,0.22246334258353592,1,null,0.22246334258353592]
[{"$f":"A296+Model!$C$48","v":0.2840000000000002},0.7329684918346463,null,0.7329684918346463,null,0.53724281002235597,null,0.22336029383474651,0,0,null,0.22246334258353592]
[{"$f":"A297+Model!$C$48","v":0.2850000000000002},0.73212767481193752,null,0.73212767481193752,null,0.53601093222553409,null,0.22389692070587044,0.22353947772187424,1,null,0.22353947772187424]
[{"$f":"A298+Model!$C$48","v":0.2860000000000002},0.73128946807449768,null,0.73128946807449768,null,0.53478428611668172,null,0.22443231831504154,0,0,null,0.22353947772187424]
[{"$f":"A299+Model!$C$48","v":0.2870000000000002},0.73045386070156171,null,0.73045386070156171,null,0.53356284261381648,null,0.22496649187940679,0.22461068182225274,1,null,0.22461068182225274]
[{"$f":"A300+Model!$C$48","v":0.2880000000000002},0.72962084179982678,null,0.72962084179982678,null,0.53234657278868791,null,0.22549944658710805,0,0,null,0.22461068182225274]
[{"$f":"A301+Model!$C$48","v":0.2890000000000002},0.72879040050417632,null,0.72879040050417632,null,0.5311354478670377,null,0.2260311875974359,0.2256769966609303,1,null,0.2256769966609303]
[{"$f":"A302+Model!$C$48","v":0.2900000000000002},0.72796252597837408,null,0.72796252597837408,null,0.52992943922881497,null,0.22656172004098382,0,0,null,0.2256769966609303]
[{"$f":"A303+Model!$C$48","v":0.2910000000000002},0.72713720741573429,null,0.72713720741573429,null,0.52872851840835255,null,0.2270910490198024,0.22673846355090557,1,null,0.22673846355090557]
[{"$f":"A304+Model!$C$48","v":0.2920000000000002},0.72631443403976048,null,0.72631443403976048,null,0.52753265709449759,null,0.22761917960755382,0,0,null,0.22673846355090557]
[{"$f":"A305+Model!$C$48","v":0.2930000000000002},0.72549419510476432,null,0.72549419510476432,null,0.52634182713070987,null,0.22814611684966643,0.22779512334684637,1,null,0.22779512334684637]
[{"$f":"A306+Model!$C$48","v":0.29400000000000021},0.72467647989645312,null,0.72467647989645312,null,0.52515600051511446,null,0.22867186576348933,0,0,null,0.22779512334684637]
[{"$f":"A307+Model!$C$48","v":0.29500000000000021},0.72386133836355881,null,0.72386133836355881,null,0.52397523717748262,null,0.22919643138233564,0.22884701645003072,1,null,0.22884701645003072]
[{"$f":"A308+Model!$C$48","v":0.29600000000000021},0.72304864016360293,null,0.72304864016360293,null,0.52279933604243534,null,0.22971981866894561,0,0,null,0.22884701645003072]
[{"$f":"A309+Model!$C$48","v":0.29700000000000021},0.72223843377357477,null,0.72223843377357477,null,0.52162835521970641,null,0.23024203251457667,0.22989418299029565,1,null,0.22989418299029565]
[{"$f":"A310+Model!$C$48","v":0.29800000000000021},0.72143070861067704,null,0.72143070861067704,null,0.52046226732650358,null,0.23076307782584979,0,0,null,0.22989418299029565]
[{"$f":"A311+Model!$C$48","v":0.29900000000000021},0.72062545412611723,null,0.72062545412611723,null,0.51930104513447273,null,0.23128295948208027,0.23093666230880627,1,null,0.23093666230880627]
[{"$f":"A312+Model!$C$48","v":0.30000000000000021},0.7198226598055627,null,0.7198226598055627,null,0.51814466156955485,null,0.2318016823354323,0,0,null,0.23093666230880627]
[{"$f":"A313+Model!$C$48","v":0.30100000000000021},0.71902231516957582,null,0.71902231516957582,null,0.51699308971181679,null,0.232319251211073,0.2319744934766986,1,null,0.2319744934766986]
[{"$f":"A314+Model!$C$48","v":0.30200000000000021},0.71822440977402935,null,0.71822440977402935,null,0.51584630279525279,null,0.23283567090732654,0,0,null,0.2319744934766986]
[{"$f":"A315+Model!$C$48","v":0.30300000000000021},0.71742893321050227,null,0.71742893321050227,null,0.51470427420755938,null,0.23335094619582794,0.23300771513151119,1,null,0.23300771513151119]
[{"$f":"A316+Model!$C$48","v":0.30400000000000021},0.71663587510665838,null,0.71663587510665838,null,0.51356697748988611,null,0.23386508182167667,0,0,null,0.23300771513151119]
[{"$f":"A317+Model!$C$48","v":0.30500000000000022},0.71584522512660587,null,0.71584522512660587,null,0.51243438633656102,null,0.23437808250358991,0.23403636548211454,1,null,0.23403636548211454]
[{"$f":"A318+Model!$C$48","v":0.30600000000000022},0.71505697297123816,null,0.71505697297123816,null,0.51130647459479006,null,0.2348899529340556,0,0,null,0.23403636548211454]
[{"$f":"A319+Model!$C$48","v":0.30700000000000022},0.71427110837856045,null,0.71427110837856045,null,0.51018321626433727,null,0.23540069777948516,0.23506048231362647,1,null,0.23506048231362647]
[{"$f":"A320+Model!$C$48","v":0.30800000000000022},0.71348762112399788,null,0.71348762112399788,null,0.50906458549718159,null,0.23591032168036594,0,0,null,0.23506048231362647]
[{"$f":"A321+Model!$C$48","v":0.30900000000000022},0.71270650102068811,null,0.71270650102068811,null,0.50795055659715205,null,0.23641882925141311,0.23608010299231039,1,null,0.23608010299231039]
[{"$f":"A322+Model!$C$48","v":0.31000000000000022},0.71192780274229139,null,0.71192780274229139,null,0.50684119631746694,null,0.23692622512787043,0,0,null,0.23608010299231039]
[{"$f":"A323+Model!$C$48","v":0.31100000000000022},0.71115138811713829,null,0.71115138811713829,null,0.50573629682093268,null,0.23743251387443962,0.2370952645319849,1,null,0.2370952645319849]
[{"$f":"A324+Model!$C$48","v":0.31200000000000022},0.71037731034224461,null,0.71037731034224461,null,0.50463592304908167,null,0.23793769998437461,0,0,null,0.2370952645319849]
[{"$f":"A325+Model!$C$48","v":0.31300000000000022},0.70960555938464731,null,0.70960555938464731,null,0.50354004990959822,null,0.23844178797085394,0.2381060035431122,1,null,0.2381060035431122]
[{"$f":"A326+Model!$C$48","v":0.31400000000000022},0.70883612525033957,null,0.70883612525033957,null,0.5024486524599151,null,0.2389447823220387,0,0,null,0.2381060035431122]
[{"$f":"A327+Model!$C$48","v":0.31500000000000022},0.70806899798447742,null,0.70806899798447742,null,0.50136170590674189,null,0.23944668750122203,0.2391123560446316,1,null,0.2391123560446316]
[{"$f":"A328+Model!$C$48","v":0.31600000000000023},0.70730416767157434,null,0.70730416767157434,null,0.50027918560557849,null,0.23994750794697819,0,0,null,0.2391123560446316]
[{"$f":"A329+Model!$C$48","v":0.31700000000000023},0.70654162443568014,null,0.70654162443568014,null,0.49920106706020967,null,0.24044724807331108,0.24011435777624432,1,null,0.24011435777624432]
[{"$f":"A330+Model!$C$48","v":0.31800000000000023},0.70578135844055168,null,0.70578135844055168,null,0.4981273259221905,null,0.24094591226980228,0,0,null,0.24011435777624432]
[{"$f":"A331+Model!$C$48","v":0.31900000000000023},0.70502335988980902,null,0.70502335988980902,null,0.49705793799031517,null,0.24144350490175853,0.2411120440829394,1,null,0.2411120440829394]
[{"$f":"A332+Model!$C$48","v":0.32000000000000023},0.7042676190270819,null,0.7042676190270819,null,{"$f":"B333*D333","v":0.49599287921007496},null,0.24194003031035874,0,0,null,0.2411120440829394]
[{"$f":"A333+Model!$C$48","v":0.32100000000000023},{"$f":"IF($B$10>0,ERF($B$10/SQRT(A334)),-ERF(-$B$10/SQRT(A334)))","v":0.70351412613614295},null,{"$f":"ERF($B$11/SQRT(A334))","v":0.70351412613614295},null,0.49493212567310085,null,{"$f":"0.5*(F334+F333)*(A334-A333)+H333","v":0.24243549281280033},0.24210544991973321,1,null,0.24210544991973321]
[{"$f":"A334+Model!$C$48","v":0.32200000000000023},0.70276287154103412,null,0.70276287154103412,null,0.49387565361660002,null,0.24292989670244519,0,{"$f":"IF(J334=1,0,1)","v":0},null,0.24210544991973321]
[{"$f":"A335+Model!$C$48","v":0.32300000000000023},0.7020138456061773,null,0.7020138456061773,null,0.49282343942277373,null,0.24342324624896489,0.24309460985637507,1,null,0.24309460985637507]
[{"$f":"A336+Model!$C$48","v":0.32400000000000023},0.70126710594487052,null,0.70126710594487052,null,0.49177555388029426,null,0.24391554574561641,{"$f":"(I335+((A337-A336)/3)*(4*F335+2*F336))*J337","v":0},0,null,{"$f":"IF(J337=1,I337,I336)","v":0.24309460985637507}]
[{"$f":"A337+Model!$C$48","v":0.32500000000000023},0.7005225101483008,null,0.7005225101483008,null,0.49073178722447619,null,0.2444067994161688,0.24407955814485896,1,null,0.24407955814485896]
[{"$f":"A338+Model!$C$48","v":0.32600000000000023},0.69978011437722409,null,0.69978011437722409,null,0.48969220847780082,null,0.24489701141401993,0,0,null,0.24407955814485896]
[{"$f":"A339+Model!$C$48","v":0.32700000000000023},0.69903990915890146,null,0.69903990915890146,null,0.48865679459688521,null,0.24538618591555728,0.24506032866681013,1,null,0.24506032866681013]
[{"$f":"A340+Model!$C$48","v":0.32800000000000024},0.69830188506139979,null,0.69830188506139979,null,0.4876255226803044,null,0.24587432707419588,0,0,null,0.24506032866681013]
[{"$f":"A341+Model!$C$48","v":0.32900000000000024},0.69756603269364947,null,0.69756603269364947,null,0.48659836996795763,null,0.24636143902052002,0.24603695474139284,1,null,0.24603695474139284]
[{"$f":"A342+Model!$C$48","v":0.33000000000000024},0.6968323427054941,null,0.6968323427054941,null,0.48557531384042718,null,0.2468475258624242,0,0,null,0.24603695474139284]
[{"$f":"A343+Model!$C$48","v":0.33100000000000024},0.69610080578773192,null,0.69610080578773192,null,0.48455633181832969,null,0.24733259168525357,0.24700946944391039,1,null,0.24700946944391039]
[{"$f":"A344+Model!$C$48","v":0.33200000000000024},0.69537141267214664,null,0.69537141267214664,null,0.48354140156165687,null,0.24781664055194355,0,0,null,0.24700946944391039]
[{"$f":"A345+Model!$C$48","v":0.33300000000000024},0.69464415413153557,null,0.69464415413153557,null,0.48253050086911653,null,0.24829967650315893,0.24797790548737594,1,null,0.24797790548737594]
[{"$f":"A346+Model!$C$48","v":0.33400000000000024},0.69391902097972735,null,0.69391902097972735,null,0.48152360767746327,null,0.24878170355743223,0,0,null,0.24797790548737594]
[{"$f":"A347+Model!$C$48","v":0.33500000000000024},0.69319600407159321,null,0.69319600407159321,null,0.48052070006082426,null,0.24926272571130137,0.24894229522698641,1,null,0.24894229522698641]
[{"$f":"A348+Model!$C$48","v":0.33600000000000024},0.69247509430305021,null,0.69247509430305021,null,0.4795217562300183,null,0.24974274693944679,0,0,null,0.24894229522698641]
[{"$f":"A349+Model!$C$48","v":0.33700000000000024},0.6917562826110607,null,0.6917562826110607,null,0.47852675453187371,null,0.25022177119482775,0.24990267066455418,1,null,0.24990267066455418]
[{"$f":"A350+Model!$C$48","v":0.33800000000000024},0.69103955997362188,null,0.69103955997362188,null,0.47753567344853692,null,0.25069980240881795,0,0,null,0.24990267066455418]
[{"$f":"A351+Model!$C$48","v":0.33900000000000025},0.69032498831932565,null,0.69032498831932565,null,0.4765485894980771,null,0.25117684454029127,0.25085906345289571,1,null,0.25085906345289571]
[{"$f":"A352+Model!$C$48","v":0.34000000000000025},0.68961241845387555,null,0.68961241845387555,null,0.47556528768580314,null,0.2516529014788832,0,0,null,0.25085906345289571]
[{"$f":"A353+Model!$C$48","v":0.34100000000000025},0.6889019108502491,null,0.6889019108502491,null,0.47458584277312454,null,0.25212797704411266,0.25181150509735034,1,null,0.25181150509735034]
[{"$f":"A354+Model!$C$48","v":0.34200000000000025},0.6881934566507143,null,0.6881934566507143,null,0.47361023377685857,null,0.25260207508238763,0,0,null,0.25181150509735034]
[{"$f":"A355+Model!$C$48","v":0.34300000000000025},0.68748704703844488,null,0.68748704703844488,null,0.47263843984564091,null,0.25307519941919887,0.25276002637689909,1,null,0.25276002637689909]
[{"$f":"A356+Model!$C$48","v":0.34400000000000025},0.68678267323747377,null,0.68678267323747377,null,0.47167044025921068,null,0.25354735385925131,0,0,null,0.25276002637689909]
[{"$f":"A357+Model!$C$48","v":0.34500000000000025},0.68608032651265005,null,0.68608032651265005,null,0.47070621442770449,null,0.25401854218659475,0.25370465792353275,1,null,0.25370465792353275]
[{"$f":"A358+Model!$C$48","v":0.34600000000000025},0.68537999816958062,null,0.68537999816958062,null,0.46974574189093432,null,0.25448876816475408,0,0,null,0.25370465792353275]
[{"$f":"A359+Model!$C$48","v":0.34700000000000025},0.68468167955457615,null,0.68468167955457615,null,0.46878900231767529,null,0.25495803553685836,0.25464543003736367,1,null,0.25464543003736367]
[{"$f":"A360+Model!$C$48","v":0.34800000000000025},0.68398536205458638,null,0.68398536205458638,null,0.4678359755049436,null,0.25542634802576969,0,0,null,0.25464543003736367]
[{"$f":"A361+Model!$C$48","v":0.34900000000000025},0.68329103709713235,null,0.68329103709713235,null,0.4668866413772747,null,0.25589370933421079,0.25558237269079054,1,null,0.25558237269079054]
[{"$f":"A362+Model!$C$48","v":0.35000000000000026},0.682599001465651,null,0.682599001465651,null,0.46594139680190383,null,0.25636012335330038,0,0,null,0.25558237269079054]
[{"$f":"A363+Model!$C$48","v":0.35100000000000026},0.68190864299266341,null,0.68190864299266341,null,0.46499939738809565,null,0.25682559375039538,0.25651551581049487,1,null,0.25651551581049487]
[{"$f":"A364+Model!$C$48","v":0.35200000000000026},0.68122025171340606,null,0.68122025171340606,null,0.46406103134447629,null,0.25729012396476164,0,0,null,0.25651551581049487]
[{"$f":"A365+Model!$C$48","v":0.35300000000000026},0.68053381921866529,null,0.68053381921866529,null,0.46312627910034304,null,0.25775371761998406,0.25744488902790863,1,null,0.25744488902790863]
[{"$f":"A366+Model!$C$48","v":0.35400000000000026},0.67984933713941709,null,0.67984933713941709,null,0.46219512120890482,null,0.25821637832013866,0,0,null,0.25744488902790863]
[{"$f":"A367+Model!$C$48","v":0.35500000000000026},0.67916679714673889,null,0.67916679714673889,null,0.46126753834655959,null,0.25867810964991639,0.25837052081418171,1,null,0.25837052081418171]
[{"$f":"A368+Model!$C$48","v":0.35600000000000026},0.67848619095171148,null,0.67848619095171148,null,0.46034351131216228,null,0.25913891517474574,0,0,null,0.25837052081418171]
[{"$f":"A369+Model!$C$48","v":0.35700000000000026},0.67780751030532704,null,0.67780751030532704,null,0.459423021026306,null,0.25959879844091499,0.25929243987285189,1,null,0.25929243987285189]
[{"$f":"A370+Model!$C$48","v":0.35800000000000026},0.6771307469983846,null,0.6771307469983846,null,0.45850604853059035,null,0.26005776297569344,0,0,null,0.25929243987285189]
[{"$f":"A371+Model!$C$48","v":0.35900000000000026},0.67645588143516266,null,0.67645588143516266,null,0.45759255952822286,null,0.26051581227972287,0.26021067459990738,1,null,0.26021067459990738]
[{"$f":"A372+Model!$C$48","v":0.36000000000000026},0.67578292859009348,null,0.67578292859009348,null,0.45668256657380341,null,0.26097294984277386,0,0,null,0.26021067459990738]
[{"$f":"A373+Model!$C$48","v":0.36100000000000027},0.67511186868847872,null,0.67511186868847872,null,0.45577603524404975,null,0.2614291791436828,0.26112525305699419,1,null,0.26112525305699419]
[{"$f":"A374+Model!$C$48","v":0.36200000000000027},0.6744426936794552,null,0.6744426936794552,null,0.45487294705759945,null,0.26188450363483362,0,0,null,0.26112525305699419]
[{"$f":"A375+Model!$C$48","v":0.36300000000000027},0.67377539555141819,null,0.67377539555141819,null,0.45397328365047002,null,0.26233892675018766,0.2620362030686913,1,null,0.2620362030686913]
[{"$f":"A376+Model!$C$48","v":0.36400000000000027},0.67310996633190279,null,0.67310996633190279,null,0.45307702677533529,null,0.26279245190540057,0,0,null,0.2620362030686913]
[{"$f":"A377+Model!$C$48","v":0.36500000000000027},0.67244639808746676,null,0.67244639808746676,null,0.45218415830080783,null,0.26324508249793865,0.2629435521314088,1,null,0.2629435521314088]
[{"$f":"A378+Model!$C$48","v":0.36600000000000027},0.67178468292356552,null,0.67178468292356552,null,0.45129466021071546,null,0.2636968219071944,0,0,null,0.2629435521314088]
[{"$f":"A379+Model!$C$48","v":0.36700000000000027},0.67112481298443249,null,0.67112481298443249,null,0.45040851460338949,null,0.26414767349460144,0.26384732744928369,1,null,0.26384732744928369]
[{"$f":"A380+Model!$C$48","v":0.36800000000000027},0.67046678045294839,null,0.67046678045294839,null,0.44952570369094208,null,0.26459764060374863,0,0,null,0.26384732744928369]
[{"$f":"A381+Model!$C$48","v":0.36900000000000027},0.66981057755051598,null,0.66981057755051598,null,0.4486462097985558,null,0.26504672656049338,0.26474755593788218,1,null,0.26474755593788218]
[{"$f":"A382+Model!$C$48","v":0.37000000000000027},0.66915619653693015,null,0.66915619653693015,null,0.4477700153637707,null,0.26549493467307456,0,0,null,0.26474755593788218]
[{"$f":"A383+Model!$C$48","v":0.37100000000000027},0.66850362971024313,null,0.66850362971024313,null,0.44689710293576984,null,0.26594226823222433,0.26564426422785609,1,null,0.26564426422785609]
[{"$f":"A384+Model!$C$48","v":0.37200000000000027},0.66785286940663247,null,0.66785286940663247,null,0.44602745517467246,null,0.26638873051127954,0,0,null,0.26564426422785609]
[{"$f":"A385+Model!$C$48","v":0.37300000000000028},0.66720390800026697,null,0.66720390800026697,null,0.44516105485082869,null,0.26683432476629226,0.26653747866855354,1,null,0.26653747866855354]
[{"$f":"A386+Model!$C$48","v":0.37400000000000028},0.66655673790316528,null,0.66655673790316528,null,0.44429788484410898,null,0.26727905423613973,0,0,null,0.26653747866855354]
[{"$f":"A387+Model!$C$48","v":0.37500000000000028},0.66591135156506065,null,0.66591135156506065,null,0.44343792814320582,null,0.26772292214263338,0.26742722533158403,1,null,0.26742722533158403]
[{"$f":"A388+Model!$C$48","v":0.37600000000000028},0.66526774147325984,null,0.66526774147325984,null,0.44258116784493212,null,0.26816593169062747,0,0,null,0.26742722533158403]
[{"$f":"A389+Model!$C$48","v":0.37700000000000028},0.66462590015249978,null,0.66462590015249978,null,0.44172758715352062,null,0.26860808606812669,0.26831353001433828,1,null,0.26831353001433828]
[{"$f":"A390+Model!$C$48","v":0.37800000000000028},0.66398582016480689,null,0.66398582016480689,null,0.44087716937993127,null,0.26904938844639342,0,0,null,0.26831353001433828]
[{"$f":"A391+Model!$C$48","v":0.37900000000000028},0.66334749410934979,null,0.66334749410934979,null,0.44002989794115388,null,0.26948984198005399,0.26919641824346291,1,null,0.26919641824346291]
[{"$f":"A392+Model!$C$48","v":0.38000000000000028},0.6627109146222967,null,0.6627109146222967,null,0.43918575635952101,null,0.26992944980720435,0,0,null,0.26919641824346291]
[{"$f":"A393+Model!$C$48","v":0.38100000000000028},0.66207607437666627,null,0.66207607437666627,null,0.43834472826201692,null,0.27036821504951514,0.27007591527829078,1,null,0.27007591527829078]
[{"$f":"A394+Model!$C$48","v":0.38200000000000028},0.66144296608218112,null,0.66144296608218112,null,0.43750679737959342,null,0.27080614081233595,0,0,null,0.27007591527829078]
[{"$f":"A395+Model!$C$48","v":0.38300000000000028},0.66081158248511729,null,0.66081158248511729,null,0.43667194754648497,null,0.27124323018479901,0.27095204611422652,1,null,0.27095204611422652]
[{"$f":"A396+Model!$C$48","v":0.38400000000000029},0.66018191636815671,null,0.66018191636815671,null,{"$f":"B397*D397","v":0.43584016269953185},null,0.271679486239922,0,0,null,0.27095204611422652]
[{"$f":"A397+Model!$C$48","v":0.38500000000000029},{"$f":"IF($B$10>0,ERF($B$10/SQRT(A398)),-ERF(-$B$10/SQRT(A398)))","v":0.65955396055023374},null,{"$f":"ERF($B$11/SQRT(A398))","v":0.65955396055023374},null,0.43501142687749927,null,{"$f":"0.5*(F398+F397)*(A398-A397)+H397","v":0.2721149120347105},0.27182483548608821,1,null,0.27182483548608821]
[{"$f":"A398+Model!$C$48","v":0.38600000000000029},0.65892770788638533,null,0.65892770788638533,null,0.43418572422040558,null,0.27254951061025945,0,{"$f":"IF(J398=1,0,1)","v":0},null,0.27182483548608821]
[{"$f":"A399+Model!$C$48","v":0.38700000000000029},0.65830315126759731,null,0.65830315126759731,null,0.43336303896884909,null,0.27298328499185409,0.27269430787140514,1,null,0.27269430787140514]
[{"$f":"A400+Model!$C$48","v":0.38800000000000029},0.6576802836206509,null,0.6576802836206509,null,0.43254335546333983,null,0.27341623818907018,{"$f":"(I399+((A401-A400)/3)*(4*F399+2*F400))*J401","v":0},0,null,{"$f":"IF(J401=1,I401,I400)","v":0.27269430787140514}]
[{"$f":"A401+Model!$C$48","v":0.38900000000000029},0.65705909790797012,null,0.65705909790797012,null,0.43172665814363548,null,0.27384837319587368,0.27356048749367251,1,null,0.27356048749367251]
[{"$f":"A402+Model!$C$48","v":0.39000000000000029},0.65643958712746575,null,0.65643958712746575,null,0.43091293154807769,null,0.27427969299071953,0,0,null,0.27356048749367251]
[{"$f":"A403+Model!$C$48","v":0.39100000000000029},0.65582174431237961,null,0.65582174431237961,null,0.43010216031293219,null,0.27471020053665002,0.27442339832556273,1,null,0.27442339832556273]
[{"$f":"A404+Model!$C$48","v":0.39200000000000029},0.65520556253113016,null,0.65520556253113016,null,0.42929432917173471,null,0.27513989878139233,0,0,null,0.27442339832556273]
[{"$f":"A405+Model!$C$48","v":0.39300000000000029},0.65459103488715409,null,0.65459103488715409,null,0.42848942295463538,null,0.27556879065745554,0.27528306409209446,1,null,0.27528306409209446]
[{"$f":"A406+Model!$C$48","v":0.39400000000000029},0.65397815451875141,null,0.65397815451875141,null,0.42768742658775188,null,0.27599687908222675,0,0,null,0.27528306409209446]
[{"$f":"A407+Model!$C$48","v":0.3950000000000003},0.65336691459892615,null,0.65336691459892615,null,0.42688832509252045,null,0.27642416695806687,0.27613950827375916,1,null,0.27613950827375916]
[{"$f":"A408+Model!$C$48","v":0.3960000000000003},0.65275730833522938,null,0.65275730833522938,null,0.42609210358505373,null,0.27685065717240565,0,0,null,0.27613950827375916]
[{"$f":"A409+Model!$C$48","v":0.3970000000000003},0.65214932896960054,null,0.65214932896960054,null,0.42529874727550027,null,0.2772763525978359,0.27699275410960589,1,null,0.27699275410960589]
[{"$f":"A410+Model!$C$48","v":0.3980000000000003},0.65154296977821025,null,0.65154296977821025,null,0.42450824146740979,null,0.27770125609220736,0,0,null,0.27699275410960589]
[{"$f":"A411+Model!$C$48","v":0.3990000000000003},0.65093822407129909,null,0.65093822407129909,null,0.4237205715570968,null,0.2781253704987196,0.27784282460028481,1,null,0.27784282460028481]
[{"$f":"A412+Model!$C$48","v":0.4000000000000003},0.65033508519302052,null,0.65033508519302052,null,0.42293572303301324,null,0.27854869864601467,0,0,null,0.27784282460028481]
[{"$f":"A413+Model!$C$48","v":0.4010000000000003},0.64973354652128024,null,0.64973354652128024,null,0.42215368147512061,null,0.27897124334826873,0.27868974251104961,1,null,0.27868974251104961]
[{"$f":"A414+Model!$C$48","v":0.4020000000000003},0.6491336014675777,null,0.6491336014675777,null,0.42137443255426799,null,0.27939300740528344,0,0,null,0.27868974251104961]
[{"$f":"A415+Model!$C$48","v":0.4030000000000003},0.64853524347684521,null,0.64853524347684521,null,0.4205979620315709,null,0.27981399360257636,0.27953353037471929,1,null,0.27953353037471929]
[{"$f":"A416+Model!$C$48","v":0.4040000000000003},0.647938466027289,null,0.647938466027289,null,0.41982425575779636,null,0.28023420471147104,0,0,null,0.27953353037471929]
[{"$f":"A417+Model!$C$48","v":0.4050000000000003},0.64734326263022901,null,0.64734326263022901,null,0.41905329967274962,null,0.28065364348918631,0.28037421049459993,1,null,0.28037421049459993]
[{"$f":"A418+Model!$C$48","v":0.40600000000000031},0.64674962682993875,null,0.64674962682993875,null,0.41828507980466501,null,0.28107231267892502,0,0,null,0.28037421049459993]
[{"$f":"A419+Model!$C$48","v":0.40700000000000031},0.64615755220348481,null,0.64615755220348481,null,0.41751958226959918,null,0.28149021500996213,0.28121180494736669,1,null,0.28121180494736669]
[{"$f":"A420+Model!$C$48","v":0.40800000000000031},0.64556703236056823,null,0.64556703236056823,null,0.41675679327083093,null,0.28190735319773236,0,0,null,0.28121180494736669]
[{"$f":"A421+Model!$C$48","v":0.40900000000000031},0.6449780609433623,null,0.6449780609433623,null,0.41599669909825959,null,0.28232372994391691,0.28204633558590669,1,null,0.28204633558590669]
[{"$f":"A422+Model!$C$48","v":0.41000000000000031},0.64439063162635446,null,0.64439063162635446,null,0.41523928612781208,null,0.28273934793652994,0,0,null,0.28204633558590669]
[{"$f":"A423+Model!$C$48","v":0.41100000000000031},0.64380473811618522,null,0.64380473811618522,null,0.41448454082084984,null,0.28315420985000428,0.28287782404212292,1,null,0.28287782404212292]
[{"$f":"A424+Model!$C$48","v":0.41200000000000031},0.64322037415148903,null,0.64322037415148903,null,0.41373244972358153,null,0.28356831834527652,0,0,null,0.28287782404212292]
[{"$f":"A425+Model!$C$48","v":0.41300000000000031},0.64263753350273378,null,0.64263753350273378,null,0.41298299946647726,null,0.28398167606987157,0.28370629172969974,1,null,0.28370629172969974]
[{"$f":"A426+Model!$C$48","v":0.41400000000000031},0.64205620997206081,null,0.64205620997206081,null,0.41223617676368701,null,0.28439428565798663,0,0,null,0.28370629172969974]
[{"$f":"A427+Model!$C$48","v":0.41500000000000031},0.64147639739312734,null,0.64147639739312734,null,0.41149196841246544,null,0.28480614973057472,0.28453175984683082,1,null,0.28453175984683082]
[{"$f":"A428+Model!$C$48","v":0.41600000000000031},0.64089808963094463,null,0.64089808963094463,null,0.41075036129259435,null,0.28521727089542726,0,0,null,0.28453175984683082]
[{"$f":"A429+Model!$C$48","v":0.41700000000000031},0.64032128058172111,null,0.64032128058172111,null,0.41001134236581521,null,0.28562765174725646,0.28535424937890919,1,null,0.28535424937890919]
[{"$f":"A430+Model!$C$48","v":0.41800000000000032},0.63974596417270191,null,0.63974596417270191,null,0.40927489867526001,null,0.28603729486777701,0,0,null,0.28535424937890919]
[{"$f":"A431+Model!$C$48","v":0.41900000000000032},0.63917213436201115,null,0.63917213436201115,null,0.40854101734488885,null,0.28644620282578709,0.28617378110118047,1,null,0.28617378110118047]
[{"$f":"A432+Model!$C$48","v":0.42000000000000032},0.63859978513849347,null,0.63859978513849347,null,0.40780968557893005,null,0.28685437817724901,0,0,null,0.28617378110118047]
[{"$f":"A433+Model!$C$48","v":0.42100000000000032},0.6380289105215543,null,0.6380289105215543,null,0.40708089066132153,null,0.28726182346536916,0.28699037558135959,1,null,0.28699037558135959]
[{"$f":"A434+Model!$C$48","v":0.42200000000000032},0.63745950456100509,null,0.63745950456100509,null,0.40635461995516209,null,0.28766854122067742,0,0,null,0.28699037558135959]
[{"$f":"A435+Model!$C$48","v":0.42300000000000032},0.63689156133690294,null,0.63689156133690294,null,0.405630860902158,null,0.28807453396110611,0.28780405318221147,1,null,0.28780405318221147]
[{"$f":"A436+Model!$C$48","v":0.42400000000000032},0.63632507495939439,null,0.63632507495939439,null,0.4049096010220789,null,0.2884798041920682,0,0,null,0.28780405318221147]
[{"$f":"A437+Model!$C$48","v":0.42500000000000032},0.63576003956855953,null,0.63576003956855953,null,0.40419082791221639,null,0.28888435440653537,0.28861483406409572,1,null,0.28861483406409572]
[{"$f":"A438+Model!$C$48","v":0.42600000000000032},0.63519644933425423,null,0.63519644933425423,null,0.40347452924684379,null,0.28928818708511489,0,0,null,0.28861483406409572]
[{"$f":"A439+Model!$C$48","v":0.42700000000000032},0.63463429845595365,null,0.63463429845595365,null,0.40276069277668047,null,0.28969130469612664,0.28942273818747655,1,null,0.28942273818747655]
[{"$f":"A440+Model!$C$48","v":0.42800000000000032},0.63407358116259882,null,0.63407358116259882,null,0.40204930632836278,null,0.29009370969567916,0,0,null,0.28942273818747655]
[{"$f":"A441+Model!$C$48","v":0.42900000000000033},0.63351429171243767,null,0.63351429171243767,null,0.40134035780391158,null,0.2904954045277453,0.29022778531539772,1,null,0.29022778531539772]
[{"$f":"A442+Model!$C$48","v":0.43000000000000033},0.63295642439287381,null,0.63295642439287381,null,0.40063383518021178,null,0.29089639162423736,0,0,null,0.29022778531539772]
[{"$f":"A443+Model!$C$48","v":0.43100000000000033},0.63239997352030908,null,0.63239997352030908,null,0.39992972650848763,null,0.2912966734050817,0.29102999501592308,1,null,0.29102999501592308]
[{"$f":"A444+Model!$C$48","v":0.43200000000000033},0.63184493343999149,null,0.63184493343999149,null,0.39922801991378726,null,0.29169625227829282,0,0,null,0.29102999501592308]
[{"$f":"A445+Model!$C$48","v":0.43300000000000033},0.63129129852586052,null,0.63129129852586052,null,0.39852870359446713,null,0.29209513064004694,0.29182938666454361,1,null,0.29182938666454361]
[{"$f":"A446+Model!$C$48","v":0.43400000000000033},0.6307390631803933,null,0.6307390631803933,null,0.39783176582168017,null,0.292493310874755,0,0,null,0.29182938666454361]
[{"$f":"A447+Model!$C$48","v":0.43500000000000033},0.63018822183445344,null,0.63018822183445344,null,0.39713719493887029,null,0.29289079535513529,0.29262597944655067,1,null,0.29262597944655067]
[{"$f":"A448+Model!$C$48","v":0.43600000000000033},0.62963876894713822,null,0.62963876894713822,null,0.39644497936126771,null,0.29328758644228536,0,0,null,0.29262597944655067]
[{"$f":"A449+Model!$C$48","v":0.43700000000000033},0.62909069900562686,null,0.62909069900562686,null,0.39575510757538823,null,0.29368368648575371,0.29341979235937665,1,null,0.29341979235937665]
[{"$f":"A450+Model!$C$48","v":0.43800000000000033},0.6285440065250274,null,0.6285440065250274,null,0.39506756813853366,null,0.29407909782361069,0,0,null,0.29341979235937665]
[{"$f":"A451+Model!$C$48","v":0.43900000000000033},0.6279986860482295,null,0.6279986860482295,null,0.39438234967830271,null,0.2944738227825191,0.29421084421490284,1,null,0.29421084421490284]
[{"$f":"A452+Model!$C$48","v":0.44000000000000034},0.62745473214575109,null,0.62745473214575109,null,0.39369944089209624,null,0.29486786367780432,0,0,null,0.29421084421490284]
[{"$f":"A453+Model!$C$48","v":0.44100000000000034},0.62691213941559087,null,0.62691213941559087,null,0.39301883054663322,null,0.29526122281352368,0.29499915364173529,1,null,0.29499915364173529]
[{"$f":"A454+Model!$C$48","v":0.44200000000000034},0.6263709024830767,null,0.6263709024830767,null,0.39234050747746396,null,0.29565390248253576,0,0,null,0.29499915364173529]
[{"$f":"A455+Model!$C$48","v":0.44300000000000034},0.62583101600071978,null,0.62583101600071978,null,0.39166446058849319,null,0.29604590496656874,0.29578473908744912,1,null,0.29578473908744912]
[{"$f":"A456+Model!$C$48","v":0.44400000000000034},0.62529247464806381,null,0.62529247464806381,null,0.39099067885149952,null,0.29643723253628873,0,0,null,0.29578473908744912]
[{"$f":"A457+Model!$C$48","v":0.44500000000000034},0.62475527313154011,null,0.62475527313154011,null,0.3903191513056653,null,0.29682788745136729,0.29656761882080146,1,null,0.29656761882080146]
[{"$f":"A458+Model!$C$48","v":0.44600000000000034},0.62421940618431793,null,0.62421940618431793,null,0.38964986705710247,null,0.29721787196054866,0,0,null,0.29656761882080146]
[{"$f":"A459+Model!$C$48","v":0.44700000000000034},0.62368486856616046,null,0.62368486856616046,null,0.38898281527838885,null,0.2976071883017164,0.29734781093391377,1,null,0.29734781093391377]
[{"$f":"A460+Model!$C$48","v":0.44800000000000034},0.62315165506327685,null,0.62315165506327685,null,{"$f":"B461*D461","v":0.38831798520810118},null,0.29799583870195961,0,0,null,0.29734781093391377]
[{"$f":"A461+Model!$C$48","v":0.44900000000000034},{"$f":"IF($B$10>0,ERF($B$10/SQRT(A462)),-ERF(-$B$10/SQRT(A462)))","v":0.62261976048817924},null,{"$f":"ERF($B$11/SQRT(A462))","v":0.62261976048817924},null,0.38765536615035767,null,{"$f":"0.5*(F462+F461)*(A462-A461)+H461","v":0.29838382537763886},0.2981253333444237,1,null,0.2981253333444237]
[{"$f":"A462+Model!$C$48","v":0.45000000000000034},0.6220891796795357,null,0.6220891796795357,null,0.38699494747435764,null,0.29877115053445119,0,{"$f":"IF(J462=1,0,1)","v":0},null,0.2981253333444237]
[{"$f":"A463+Model!$C$48","v":0.45100000000000035},0.62155990750202705,null,0.62155990750202705,null,0.38633671861392843,null,0.29915781636749533,0.29890020379760707,1,null,0.29890020379760707]
[{"$f":"A464+Model!$C$48","v":0.45200000000000035},0.62103193884620578,null,0.62103193884620578,null,0.38568066906707749,null,0.29954382506133581,{"$f":"(I463+((A465-A464)/3)*(4*F463+2*F464))*J465","v":0},0,null,{"$f":"IF(J465=1,I465,I464)","v":0.29890020379760707}]
[{"$f":"A465+Model!$C$48","v":0.45300000000000035},0.62050526862834798,null,0.62050526862834798,null,0.38502678839553828,null,0.29992917879006714,0.29967243986847036,1,null,0.29967243986847036]
[{"$f":"A466+Model!$C$48","v":0.45400000000000035},0.61997989179031554,null,0.61997989179031554,null,0.38437506622433137,null,0.30031387971737705,0,0,null,0.29967243986847036]
[{"$f":"A467+Model!$C$48","v":0.45500000000000035},0.61945580329941363,null,0.61945580329941363,null,0.38372549224132185,null,0.30069792999660988,0.30044205896381398,1,null,0.30044205896381398]
[{"$f":"A468+Model!$C$48","v":0.45600000000000035},0.61893299814824709,null,0.61893299814824709,null,0.38307805619677804,null,0.30108133177082891,0,0,null,0.30044205896381398]
[{"$f":"A469+Model!$C$48","v":0.45700000000000035},0.61841147135458341,null,0.61841147135458341,null,0.38243274790294074,null,0.30146408717287876,0.30120907832426691,1,null,0.30120907832426691]
[{"$f":"A470+Model!$C$48","v":0.45800000000000035},0.6178912179612106,null,0.6178912179612106,null,0.38178955723358826,null,0.30184619832544701,0,0,null,0.30120907832426691]
[{"$f":"A471+Model!$C$48","v":0.45900000000000035},0.61737223303579847,null,0.61737223303579847,null,0.38114847412360825,null,0.30222766734112561,0.30197351502629322,1,null,0.30197351502629322]
[{"$f":"A472+Model!$C$48","v":0.46000000000000035},0.61685451167076089,null,0.61685451167076089,null,0.38050948856857286,null,0.30260849632247172,0,0,null,0.30197351502629322]
[{"$f":"A473+Model!$C$48","v":0.46100000000000035},0.6163380489831165,null,0.6163380489831165,null,0.3798725906243145,null,0.30298868736206819,0.30273538598417044,1,null,0.30273538598417044]
[{"$f":"A474+Model!$C$48","v":0.46200000000000035},0.61582284011435207,null,0.61582284011435207,null,0.3792377704065068,null,0.3033682425425836,0,0,null,0.30273538598417044]
[{"$f":"A475+Model!$C$48","v":0.46300000000000036},0.61530888023028696,null,0.61530888023028696,null,0.3786050180902496,null,0.30374716393683199,0.3034947079519405,1,null,0.3034947079519405]
[{"$f":"A476+Model!$C$48","v":0.46400000000000036},0.61479616452093444,null,0.61479616452093444,null,0.37797432390965191,null,0.30412545360783194,0,0,null,0.3034947079519405]
[{"$f":"A477+Model!$C$48","v":0.46500000000000036},0.61428468820036874,null,0.61428468820036874,null,0.37734567815742426,null,0.30450311360886551,0.30425149752533392,1,null,0.30425149752533392]
[{"$f":"A478+Model!$C$48","v":0.46600000000000036},0.6137744465065883,null,0.6137744465065883,null,0.37671907118446885,null,0.30488014598353647,0,0,null,0.30425149752533392]
[{"$f":"A479+Model!$C$48","v":0.46700000000000036},0.61326543470138417,null,0.61326543470138417,null,0.3760944933994777,null,0.30525655276582842,0.30500577114366678,1,null,0.30500577114366678]
[{"$f":"A480+Model!$C$48","v":0.46800000000000036},0.61275764807020372,null,0.61275764807020372,null,0.37547193526852762,null,0.30563233598016243,0,0,null,0.30500577114366678]
[{"$f":"A481+Model!$C$48","v":0.46900000000000036},0.61225108192201894,null,0.61225108192201894,null,0.37485138731468276,null,0.30600749764145402,0.30575754509171177,1,null,0.30575754509171177]
[{"$f":"A482+Model!$C$48","v":0.47000000000000036},0.61174573158919554,null,0.61174573158919554,null,0.37423284011760005,null,0.30638203975517014,0,0,null,0.30575754509171177]
[{"$f":"A483+Model!$C$48","v":0.47100000000000036},0.61124159242735931,null,0.61124159242735931,null,0.37361628431313404,null,0.3067559643173855,0.30650683550154306,1,null,0.30650683550154306]
[{"$f":"A484+Model!$C$48","v":0.47200000000000036},0.61073865981526609,null,0.61073865981526609,null,0.37300171059294734,null,0.30712927331483852,0,0,null,0.30650683550154306]
[{"$f":"A485+Model!$C$48","v":0.47300000000000036},0.61023692915467231,null,0.61023692915467231,null,0.37238910970412453,null,0.30750196872498708,0.30725365835435586,1,null,0.30725365835435586]
[{"$f":"A486+Model!$C$48","v":0.47400000000000037},0.60973639587020401,null,0.60973639587020401,null,0.37177847244878615,null,0.30787405251606353,0,0,null,0.30725365835435586]
[{"$f":"A487+Model!$C$48","v":0.47500000000000037},0.60923705540922868,null,0.60923705540922868,null,0.37116978968370756,null,0.30824552664712979,0.30799802948226057,1,null,0.30799802948226057]
[{"$f":"A488+Model!$C$48","v":0.47600000000000037},0.60873890324172786,null,0.60873890324172786,null,0.37056305231994169,null,0.3086163930681316,0,0,null,0.30799802948226057]
[{"$f":"A489+Model!$C$48","v":0.47700000000000037},0.60824193486016698,null,0.60824193486016698,null,0.36995825132243959,null,0.30898665371995276,0.30873996457005215,1,null,0.30873996457005215]
[{"$f":"A490+Model!$C$48","v":0.47800000000000037},0.60774614577937069,null,0.60774614577937069,null,0.36935537770968008,null,0.30935631053446883,0,0,null,0.30873996457005215]
[{"$f":"A491+Model!$C$48","v":0.47900000000000037},0.60725153153639611,null,0.60725153153639611,null,0.36875442255329866,null,0.30972536543460033,0.30947947915695517,1,null,0.30947947915695517]
[{"$f":"A492+Model!$C$48","v":0.48000000000000037},0.60675808769040618,null,0.60675808769040618,null,0.36815537697771861,null,0.31009382033436583,0,0,null,0.30947947915695517]
[{"$f":"A493+Model!$C$48","v":0.48100000000000037},0.60626580982254552,null,0.60626580982254552,null,0.36755823215978695,null,0.31046167713893458,0.31021658863834473,1,null,0.31021658863834473]
[{"$f":"A494+Model!$C$48","v":0.48200000000000037},0.60577469353581581,null,0.60577469353581581,null,0.36696297932841154,null,0.31082893774467868,0,0,null,0.31021658863834473]
[{"$f":"A495+Model!$C$48","v":0.48300000000000037},0.60528473445495279,null,0.60528473445495279,null,0.36636960976420269,null,0.31119560403922497,0.31095130826744338,1,null,0.31095130826744338]
[{"$f":"A496+Model!$C$48","v":0.48400000000000037},0.60479592822630091,null,0.60479592822630091,null,0.36577811479911293,null,0.31156167790150663,0,0,null,0.31095130826744338]
[{"$f":"A497+Model!$C$48","v":0.48500000000000038},0.6043082705176942,null,0.6043082705176942,null,0.36518848581608665,null,0.31192716120181424,0.31168365315699509,1,null,0.31168365315699509]
[{"$f":"A498+Model!$C$48","v":0.48600000000000038},0.60382175701833185,null,0.60382175701833185,null,0.36460071424870538,null,0.31229205580184666,0,0,null,0.31168365315699509]
[{"$f":"A499+Model!$C$48","v":0.48700000000000038},0.60333638343865825,null,0.60333638343865825,null,0.36401479158083966,null,0.31265636355476145,0.31241363828091567,1,null,0.31241363828091567]
[{"$f":"A500+Model!$C$48","v":0.48800000000000038},0.60285214551024269,null,0.60285214551024269,null,0.36343070934630284,null,0.31302008630522504,0,0,null,0.31241363828091567]
[{"$f":"A501+Model!$C$48","v":0.48900000000000038},0.60236903898565908,null,0.60236903898565908,null,0.36284845912850644,null,0.31338322588946244,0.31314127847592099,1,null,0.31314127847592099]
[{"$f":"A502+Model!$C$48","v":0.49000000000000038},0.60188705963836731,null,0.60188705963836731,null,0.36226803256011952,null,0.31374578413530674,0,0,null,0.31314127847592099]
[{"$f":"A503+Model!$C$48","v":0.49100000000000038},0.6014062032625932,null,0.6014062032625932,null,0.36168942132272758,null,0.31410776286224817,0.31386658844313242,1,null,0.31386658844313242]
[{"$f":"A504+Model!$C$48","v":0.49200000000000038},0.60092646567321306,null,0.60092646567321306,null,0.36111261714649934,null,0.31446916388148277,0,0,null,0.31386658844313242]
[{"$f":"A505+Model!$C$48","v":0.49300000000000038},0.60044784270563545,null,0.60044784270563545,null,0.36053761180985155,null,0.31482998899596093,0.31458958274966037,1,null,0.31458958274966037]
[{"$f":"A506+Model!$C$48","v":0.49400000000000038},0.59997033021568325,null,0.59997033021568325,null,0.35996439713911599,null,0.31519024000043544,0,0,null,0.31458958274966037]
[{"$f":"A507+Model!$C$48","v":0.49500000000000038},0.5994939240794791,null,0.5994939240794791,null,0.35939296500821227,null,0.31554991868150911,0.31531027583016624,1,null,0.31531027583016624]
[{"$f":"A508+Model!$C$48","v":0.49600000000000039},0.59901862019333119,null,0.59901862019333119,null,0.35882330733832235,null,0.3159090268176824,0,0,null,0.31531027583016624]
[{"$f":"A509+Model!$C$48","v":0.49700000000000039},0.5985444144736155,null,0.5985444144736155,null,0.35825541609756323,null,0.31626756617940033,0.31602868198840273,1,null,0.31602868198840273]
[{"$f":"A510+Model!$C$48","v":0.49800000000000039},0.5980713028566651,null,0.5980713028566651,null,0.35768928330066885,null,0.31662553852909947,0,0,null,0.31602868198840273]
[{"$f":"A511+Model!$C$48","v":0.49900000000000039},0.59759928129865425,null,0.59759928129865425,null,0.35712490100866812,null,0.31698294562125412,0.31674481539873328,1,null,0.31674481539873328]
[{"$f":"A512+Model!$C$48","v":0.50000000000000033},0.59712834577548746,null,0.59712834577548746,null,0.35656226132857011,null,0.31733978920242273,0,0,null,0.31674481539873328]
[{"$f":"A513+Model!$C$48","v":0.50100000000000033},0.5966584922826863,null,0.5966584922826863,null,0.35600135641304842,null,0.31769607101129355,0.31745869010763056,1,null,0.31745869010763056]
[{"$f":"A514+Model!$C$48","v":0.50200000000000033},0.59618971683527777,null,0.59618971683527777,null,0.35544217846012871,null,0.31805179277873014,0,0,null,0.31745869010763056]
[{"$f":"A515+Model!$C$48","v":0.50300000000000034},0.59572201546768433,null,0.59572201546768433,null,0.35488471971287994,null,0.31840695622781662,0.31817032003515472,1,null,0.31817032003515472]
[{"$f":"A516+Model!$C$48","v":0.50400000000000034},0.59525538423361413,null,0.59525538423361413,null,0.35432897245910761,null,0.31876156307390263,0,0,null,0.31817032003515472]
[{"$f":"A517+Model!$C$48","v":0.50500000000000034},0.59478981920594876,null,0.59478981920594876,null,0.35377492903104518,null,0.31911561502464769,0.31887971897641132,1,null,0.31887971897641132]
[{"$f":"A518+Model!$C$48","v":0.50600000000000034},0.59432531647663756,null,0.59432531647663756,null,0.35322258180505539,null,0.31946911378006576,0,0,null,0.31887971897641132]
[{"$f":"A519+Model!$C$48","v":0.50700000000000034},0.59386187215658714,null,0.59386187215658714,null,0.35267192320132668,null,0.31982206103256894,0.31958690060298944,1,null,0.31958690060298944]
[{"$f":"A520+Model!$C$48","v":0.50800000000000034},0.59339948237555462,null,0.59339948237555462,null,0.35212294568357616,null,0.32017445846701137,0,0,null,0.31958690060298944]
[{"$f":"A521+Model!$C$48","v":0.50900000000000034},0.5929381432820402,null,0.5929381432820402,null,0.35157564175875322,null,0.32052630776073254,0.32029187846438029,1,null,0.32029187846438029]
[{"$f":"A522+Model!$C$48","v":0.51000000000000034},0.59247785104318007,null,0.59247785104318007,null,0.35103000397674466,null,0.32087761058360031,0,0,null,0.32029187846438029]
[{"$f":"A523+Model!$C$48","v":0.51100000000000034},0.59201860184464228,null,0.59201860184464228,null,0.35048602493008507,null,0.3212283685980537,0.32099466598937648,1,null,0.32099466598937648]
[{"$f":"A524+Model!$C$48","v":0.51200000000000034},0.59156039189051957,null,0.59156039189051957,null,{"$f":"B525*D525","v":0.34994369725366509},null,0.32157858345914558,0,0,null,0.32099466598937648]
[{"$f":"A525+Model!$C$48","v":0.51300000000000034},{"$f":"IF($B$10>0,ERF($B$10/SQRT(A526)),-ERF(-$B$10/SQRT(A526)))","v":0.59110321740322525},null,{"$f":"ERF($B$11/SQRT(A526))","v":0.59110321740322525},null,0.34940301362444459,null,{"$f":"0.5*(F526+F525)*(A526-A525)+H525","v":0.32192825681458465},0.32169527648745239,1,null,0.32169527648745239]
[{"$f":"A526+Model!$C$48","v":0.51400000000000035},0.59064707462339028,null,0.59064707462339028,null,0.34886396676116876,null,0.32227739030477748,0,{"$f":"IF(J526=1,0,1)","v":0},null,0.32169527648745239]
[{"$f":"A527+Model!$C$48","v":0.51500000000000035},0.59019195980975836,null,0.59019195980975836,null,0.34832654942408342,null,0.32262598556287009,0.32239372315012577,1,null,0.32239372315012577]
[{"$f":"A528+Model!$C$48","v":0.51600000000000035},0.58973786923908356,null,0.58973786923908356,null,0.3477907544146544,null,0.32297404421478948,{"$f":"(I527+((A529-A528)/3)*(4*F527+2*F528))*J529","v":0},0,null,{"$f":"IF(J529=1,I529,I528)","v":0.32239372315012577}]
[{"$f":"A529+Model!$C$48","v":0.51700000000000035},0.58928479920602872,null,0.58928479920602872,null,0.34725657457528958,null,0.32332156787928445,0.323090019052301,1,null,0.323090019052301]
[{"$f":"A530+Model!$C$48","v":0.51800000000000035},0.58883274602306268,null,0.58883274602306268,null,0.34672400278906063,null,0.32366855816796664,0,0,null,0.323090019052301]
[{"$f":"A531+Model!$C$48","v":0.51900000000000035},0.58838170602036044,null,0.58838170602036044,null,0.34619303197942985,null,0.32401501668535088,0.32378417715359409,1,null,0.32378417715359409]
[{"$f":"A532+Model!$C$48","v":0.52000000000000035},0.58793167554570125,null,0.58793167554570125,null,0.34566365510997571,null,0.32436094502889556,0,0,null,0.32378417715359409]
[{"$f":"A533+Model!$C$48","v":0.52100000000000035},0.58748265096437047,null,0.58748265096437047,null,0.34513586518412431,null,0.32470634478904259,0.32447621029963997,1,null,0.32447621029963997]
[{"$f":"A534+Model!$C$48","v":0.52200000000000035},0.58703462865905909,null,0.58703462865905909,null,0.34460965524487941,null,0.32505121754925709,0,0,null,0.32447621029963997]
[{"$f":"A535+Model!$C$48","v":0.52300000000000035},0.58658760502976504,null,0.58658760502976504,null,0.34408501837455563,null,0.3253955648860668,0.32516613122338206,1,null,0.32516613122338206]
[{"$f":"A536+Model!$C$48","v":0.52400000000000035},0.5861415764936958,null,0.5861415764936958,null,0.34356194769451504,null,0.32573938836910132,0,0,null,0.32516613122338206]
[{"$f":"A537+Model!$C$48","v":0.52500000000000036},0.58569653948517042,null,0.58569653948517042,null,0.34304043636490378,null,0.32608268956113101,0.32585395254634447,1,null,0.32585395254634447]
[{"$f":"A538+Model!$C$48","v":0.52600000000000036},0.58525249045552274,null,0.58525249045552274,null,0.34252047758439175,null,0.32642547001810568,0,0,null,0.32585395254634447]
[{"$f":"A539+Model!$C$48","v":0.52700000000000036},0.58480942587300422,null,0.58480942587300422,null,0.34200206458991284,null,0.32676773128919284,0.32653968677988726,1,null,0.32653968677988726]
[{"$f":"A540+Model!$C$48","v":0.52800000000000036},0.5843673422226896,null,0.5843673422226896,null,0.34148519065641003,null,0.32710947491681602,0,0,null,0.32653968677988726]
[{"$f":"A541+Model!$C$48","v":0.52900000000000036},0.58392623600638072,null,0.58392623600638072,null,0.34096984909657946,null,0.3274507024366925,0.32722334632644473,1,null,0.32722334632644473]
[{"$f":"A542+Model!$C$48","v":0.53000000000000036},0.58348610374251197,null,0.58348610374251197,null,0.34045603326061746,null,0.3277914153778711,0,0,null,0.32722334632644473]
[{"$f":"A543+Model!$C$48","v":0.53100000000000036},0.58304694196605578,null,0.58304694196605578,null,0.33994373653596921,null,0.3281316152627694,0.32790494348074722,1,null,0.32790494348074722]
[{"$f":"A544+Model!$C$48","v":0.53200000000000036},0.58260874722843048,null,0.58260874722843048,null,0.33943295234708121,null,0.32847130360721094,0,0,null,0.32790494348074722]
[{"$f":"A545+Model!$C$48","v":0.53300000000000036},0.58217151609740614,null,0.58217151609740614,null,0.3389236741551524,null,0.32881048192046208,0.32858449043102655,1,null,0.32858449043102655]
[{"$f":"A546+Model!$C$48","v":0.53400000000000036},0.58173524515701147,null,0.58173524515701147,null,0.33841589545788825,null,0.32914915170526859,0,0,null,0.32858449043102655]
[{"$f":"A547+Model!$C$48","v":0.53500000000000036},0.58129993100744359,null,0.58129993100744359,null,0.33790960978925866,null,0.32948731445789214,0.32926199926020533,1,null,0.32926199926020533]
[{"$f":"A548+Model!$C$48","v":0.53600000000000037},0.58086557026497665,null,0.58086557026497665,null,0.33740481071925654,null,0.32982497166814639,0,0,null,0.32926199926020533]
[{"$f":"A549+Model!$C$48","v":0.53700000000000037},0.58043215956187011,null,0.58043215956187011,null,0.33690149185365625,null,0.33016212481943286,0.32993748194707051,1,null,0.32993748194707051]
[{"$f":"A550+Model!$C$48","v":0.53800000000000037},0.57999969554627751,null,0.57999969554627751,null,0.3363996468337746,null,0.33049877538877659,0,0,null,0.32993748194707051]
[{"$f":"A551+Model!$C$48","v":0.53900000000000037},0.57956817488215995,null,0.57956817488215995,null,0.33589926933623793,null,0.33083492484686161,0.33061095036743121,1,null,0.33061095036743121]
[{"$f":"A552+Model!$C$48","v":0.54000000000000037},0.57913759424919431,null,0.57913759424919431,null,0.33540035307274441,null,0.3311705746580661,0,0,null,0.33061095036743121]
[{"$f":"A553+Model!$C$48","v":0.54100000000000037},0.57870795034268563,null,0.57870795034268563,null,0.33490289178983229,null,0.3315057262804974,0.33128241629526134,1,null,0.33128241629526134]
[{"$f":"A554+Model!$C$48","v":0.54200000000000037},0.57827923987347862,null,0.57827923987347862,null,0.33440687926864821,null,0.33184038116602665,0,0,null,0.33128241629526134]
[{"$f":"A555+Model!$C$48","v":0.54300000000000037},0.57785145956787098,null,0.57785145956787098,null,0.33391230932471883,null,0.33217454076032332,0.33195189140382686,1,null,0.33195189140382686]
[{"$f":"A556+Model!$C$48","v":0.54400000000000037},0.57742460616752533,null,0.57742460616752533,null,0.33341917580772173,null,0.33250820650288954,0,0,null,0.33195189140382686]
[{"$f":"A557+Model!$C$48","v":0.54500000000000037},0.57699867642938363,null,0.57699867642938363,null,0.33292747260126054,null,0.33284137982709405,0.33261938726679829,1,null,0.33261938726679829]
[{"$f":"A558+Model!$C$48","v":0.54600000000000037},0.57657366712558067,null,0.57657366712558067,null,0.3324371936226399,null,0.33317406216020601,0,0,null,0.33261938726679829]
[{"$f":"A559+Model!$C$48","v":0.54700000000000037},0.57614957504335873,null,0.57614957504335873,null,0.33194833282264286,null,0.33350625492342867,0.3332849153593484,1,null,0.3332849153593484]
[{"$f":"A560+Model!$C$48","v":0.54800000000000038},0.57572639698498307,null,0.57572639698498307,null,0.33146088418531033,null,0.33383795953193263,0,0,null,0.3332849153593484]
[{"$f":"A561+Model!$C$48","v":0.54900000000000038},0.57530412976765699,null,0.57530412976765699,null,0.33097484172772113,null,0.33416917739488916,0.33394848705923547,1,null,0.33394848705923547]
[{"$f":"A562+Model!$C$48","v":0.55000000000000038},0.57488277022343859,null,0.57488277022343859,null,0.33049019949977487,null,0.33449990991550294,0,0,null,0.33394848705923547]
[{"$f":"A563+Model!$C$48","v":0.55100000000000038},0.57446231519915625,null,0.57446231519915625,null,0.33000695158397475,null,0.3348301584910448,0.3346101136478723,1,null,0.3346101136478723]
[{"$f":"A564+Model!$C$48","v":0.55200000000000038},0.57404276155632739,null,0.57404276155632739,null,0.32952509209521452,null,0.3351599245128844,0,0,null,0.3346101136478723]
[{"$f":"A565+Model!$C$48","v":0.55300000000000038},0.57362410617107473,null,0.57362410617107473,null,0.32904461518056444,null,0.33548920936652227,0.33526980631138109,1,null,0.33526980631138109]
[{"$f":"A566+Model!$C$48","v":0.55400000000000038},0.57320634593404551,null,0.57320634593404551,null,0.32856551501906067,null,0.33581801443162207,0,0,null,0.33526980631138109]
[{"$f":"A567+Model!$C$48","v":0.55500000000000038},0.57278947775032896,null,0.57278947775032896,null,0.32808778582149462,null,0.33614634108204233,0.33592757614163454,1,null,0.33592757614163454]
[{"$f":"A568+Model!$C$48","v":0.55600000000000038},0.57237349853937669,null,0.57237349853937669,null,0.32761142183020586,null,0.3364741906858682,0,0,null,0.33592757614163454]
[{"$f":"A569+Model!$C$48","v":0.55700000000000038},0.57195840523492136,null,0.57195840523492136,null,0.3271364173188745,null,0.33680156460544275,0.33658343413728337,1,null,0.33658343413728337]
[{"$f":"A570+Model!$C$48","v":0.55800000000000038},0.57154419478489726,null,0.57154419478489726,null,0.32666276659231658,null,0.33712846419739834,0,0,null,0.33658343413728337]
[{"$f":"A571+Model!$C$48","v":0.55900000000000039},0.57113086415136061,null,0.57113086415136061,null,0.32619046398627993,null,0.33745489081268765,0.33723739120477009,1,null,0.33723739120477009]
[{"$f":"A572+Model!$C$48","v":0.56000000000000039},0.57071841031041193,null,0.57071841031041193,null,0.32571950386724369,null,0.33778084579661438,0,0,null,0.33723739120477009]
[{"$f":"A573+Model!$C$48","v":0.56100000000000039},0.57030683025211526,null,0.57030683025211526,null,0.32524988063221499,null,0.33810633048886413,0.33788945815932997,1,null,0.33788945815932997]
[{"$f":"A574+Model!$C$48","v":0.56200000000000039},0.5698961209804223,null,0.5698961209804223,null,0.32478158870853213,null,0.33843134622353449,0,0,null,0.33788945815932997]
[{"$f":"A575+Model!$C$48","v":0.56300000000000039},0.56948627951309438,null,0.56948627951309438,null,0.32431462255366628,null,0.33875589432916559,0.33853964572597861,1,null,0.33853964572597861]
[{"$f":"A576+Model!$C$48","v":0.56400000000000039},0.56907730288162461,null,0.56907730288162461,null,0.32384897665502432,null,0.33907997612876994,0,0,null,0.33853964572597861]
[{"$f":"A577+Model!$C$48","v":0.56500000000000039},0.56866918813116341,null,0.56866918813116341,null,0.32338464552975654,null,0.33940359293986233,0.33918796454048683,1,null,0.33918796454048683]
[{"$f":"A578+Model!$C$48","v":0.56600000000000039},0.56826193232043953,null,0.56826193232043953,null,0.32292162372455979,null,0.33972674607448949,0,0,null,0.33918796454048683]
[{"$f":"A579+Model!$C$48","v":0.56700000000000039},0.56785553252168741,null,0.56785553252168741,null,0.32245990581548917,null,0.34004943683925953,0.3398344251503429,1,null,0.3398344251503429]
[{"$f":"A580+Model!$C$48","v":0.56800000000000039},0.56744998582056982,null,0.56744998582056982,null,0.32199948640776488,null,0.34037166653537115,0,0,null,0.3398344251503429]
[{"$f":"A581+Model!$C$48","v":0.56900000000000039},0.56704528931610487,null,0.56704528931610487,null,0.32154036013558507,null,0.34069343645864281,0.34047903801570206,1,null,0.34047903801570206]
[{"$f":"A582+Model!$C$48","v":0.5700000000000004},0.56664144012059092,null,0.56664144012059092,null,0.32108252166193724,null,0.34101474789954156,0,0,null,0.34047903801570206]
[{"$f":"A583+Model!$C$48","v":0.5710000000000004},0.56623843535953278,null,0.56623843535953278,null,0.32062596567841178,null,0.34133560214321174,0.34112181351032411,1,null,0.34112181351032411]
[{"$f":"A584+Model!$C$48","v":0.5720000000000004},0.56583627217156918,null,0.56583627217156918,null,0.3201706869050181,null,0.34165600046950345,0,0,null,0.34112181351032411]
[{"$f":"A585+Model!$C$48","v":0.5730000000000004},0.56543494770839897,null,0.56543494770839897,null,0.31971668008999987,null,0.34197594415300098,0.34176276192249866,1,null,0.34176276192249866]
[{"$f":"A586+Model!$C$48","v":0.5740000000000004},0.56503445913470962,null,0.56503445913470962,null,0.31926394000965386,null,0.34229543446305083,0,0,null,0.34176276192249866]
[{"$f":"A587+Model!$C$48","v":0.5750000000000004},0.5646348036281047,null,0.5646348036281047,null,0.31881246146814834,null,0.34261447266378975,0.34240189345595845,1,null,0.34240189345595845]
[{"$f":"A588+Model!$C$48","v":0.5760000000000004},0.56423597837903217,null,0.56423597837903217,null,{"$f":"B589*D589","v":0.31836223929734364},null,0.34293306001417251,0,0,null,0.34240189345595845]
[{"$f":"A589+Model!$C$48","v":0.5770000000000004},{"$f":"IF($B$10>0,ERF($B$10/SQRT(A590)),-ERF(-$B$10/SQRT(A590)))","v":0.56383797376912814},null,{"$f":"ERF($B$11/SQRT(A590))","v":0.56383797376912814},null,0.31791326066407605,null,{"$f":"0.5*(F590+F589)*(A590-A589)+H589","v":0.34325119776415319},0.34303921823078087,1,null,0.34303921823078087]
[{"$f":"A590+Model!$C$48","v":0.5780000000000004},0.56344080074197744,null,0.56344080074197744,null,0.31746553594076071,null,0.34356888716245559,0,{"$f":"IF(J590=1,0,1)","v":0},null,0.34303921823078087]
[{"$f":"A591+Model!$C$48","v":0.5790000000000004},0.56304444961888145,null,0.56304444961888145,null,0.31701905224662913,null,0.34388612945654928,0.34367474626896016,1,null,0.34367474626896016]
[{"$f":"A592+Model!$C$48","v":0.5800000000000004},0.56264891764098079,null,0.56264891764098079,null,0.31657380452256717,null,0.3442029258849339,{"$f":"(I591+((A593-A592)/3)*(4*F591+2*F592))*J593","v":0},0,null,{"$f":"IF(J593=1,I593,I592)","v":0.34367474626896016}]
[{"$f":"A593+Model!$C$48","v":0.58100000000000041},0.56225420206190824,null,0.56225420206190824,null,0.31612978773627315,null,0.34451927768106333,0.3443084875416374,1,null,0.3443084875416374]
[{"$f":"A594+Model!$C$48","v":0.58200000000000041},0.56186030014772204,null,0.56186030014772204,null,0.31568699688208829,null,0.34483518607337249,0,0,null,0.3443084875416374]
[{"$f":"A595+Model!$C$48","v":0.58300000000000041},0.56146720917683723,null,0.56146720917683723,null,0.3152454269808263,null,0.34515065228530395,0.34494045192320716,1,null,0.34494045192320716]
[{"$f":"A596+Model!$C$48","v":0.58400000000000041},0.56107492643995627,null,0.56107492643995627,null,0.31480507307960232,null,0.34546567753533414,0,0,null,0.34494045192320716]
[{"$f":"A597+Model!$C$48","v":0.58500000000000041},0.56068344924000224,null,0.56068344924000224,null,0.31436593025166615,null,0.34578026303699977,0.34557064920790131,1,null,0.34557064920790131]
[{"$f":"A598+Model!$C$48","v":0.58600000000000041},0.56029277489205209,null,0.56029277489205209,null,0.31392799359623574,null,0.34609440999892371,0,0,null,0.34557064920790131]
[{"$f":"A599+Model!$C$48","v":0.58700000000000041},0.55990290072326887,null,0.55990290072326887,null,0.31349125823833068,null,0.34640811962484097,0.34619908911063435,1,null,0.34619908911063435]
[{"$f":"A600+Model!$C$48","v":0.58800000000000041},0.55951382407283579,null,0.55951382407283579,null,0.31305571932860826,null,0.34672139311362443,0,0,null,0.34619908911063435]
[{"$f":"A601+Model!$C$48","v":0.58900000000000041},0.55912554229189071,null,0.55912554229189071,null,0.31262137204320084,null,0.34703423165931035,0.34682578126783786,1,null,0.34682578126783786]
[{"$f":"A602+Model!$C$48","v":0.59000000000000041},0.55873805274346011,null,0.55873805274346011,null,0.31218821158355359,null,0.34734663645112374,0,0,null,0.34682578126783786]
[{"$f":"A603+Model!$C$48","v":0.59100000000000041},0.55835135280239345,null,0.55835135280239345,null,0.31175623317626283,null,0.34765860867350362,0.34745073523828451,1,null,0.34745073523828451]
[{"$f":"A604+Model!$C$48","v":0.59200000000000041},0.55796543985529945,null,0.55796543985529945,null,0.3113254320729178,null,0.3479701495061282,0,0,null,0.34745073523828451]
[{"$f":"A605+Model!$C$48","v":0.59300000000000042},0.55758031130048125,null,0.55758031130048125,null,0.31089580354994156,null,0.34828126012393962,0.34807396050390149,1,null,0.34807396050390149]
[{"$f":"A606+Model!$C$48","v":0.59400000000000042},0.5571959645478719,null,0.5571959645478719,null,0.31046734290843331,null,0.34859194169716878,0,0,null,0.34807396050390149]
[{"$f":"A607+Model!$C$48","v":0.59500000000000042},0.55681239701897212,null,0.55681239701897212,null,0.31004004547401343,null,0.34890219539136003,0.3486954664705737,1,null,0.3486954664705737]
[{"$f":"A608+Model!$C$48","v":0.59600000000000042},0.55642960614678572,null,0.55642960614678572,null,0.3096139065966671,null,0.34921202236739535,0,0,null,0.3486954664705737]
[{"$f":"A609+Model!$C$48","v":0.59700000000000042},0.55604758937575749,null,0.55604758937575749,null,0.30918892165059103,null,0.34952142378151896,0.34931526246893685,1,null,0.34931526246893685]
[{"$f":"A610+Model!$C$48","v":0.59800000000000042},0.5556663441617109,null,0.5556663441617109,null,0.30876508603404096,null,0.34983040078536126,0,0,null,0.34931526246893685]
[{"$f":"A611+Model!$C$48","v":0.59900000000000042},0.55528586797178592,null,0.55528586797178592,null,0.30834239516917966,null,0.35013895452596289,0.34993335775516032,1,null,0.34993335775516032]
[{"$f":"A612+Model!$C$48","v":0.60000000000000042},0.55490615828437706,null,0.55490615828437706,null,0.30792084450192614,null,0.35044708614579845,0,0,null,0.34993335775516032]
[{"$f":"A613+Model!$C$48","v":0.60100000000000042},0.55452721258907278,null,0.55452721258907278,null,0.30750042950180673,null,0.3507547967828003,0.35054976151172051,1,null,0.35054976151172051]
[{"$f":"A614+Model!$C$48","v":0.60200000000000042},0.55414902838659408,null,0.55414902838659408,null,0.30708114566180628,null,0.3510620875703821,0,0,null,0.35054976151172051]
[{"$f":"A615+Model!$C$48","v":0.60300000000000042},0.5537716031887342,null,0.5537716031887342,null,0.30666298849822088,null,0.35136895963746212,0.35116448284816415,1,null,0.35116448284816415]
[{"$f":"A616+Model!$C$48","v":0.60400000000000043},0.55339493451829846,null,0.55339493451829846,null,0.30624595355051182,null,0.35167541410848646,0,0,null,0.35116448284816415]
[{"$f":"A617+Model!$C$48","v":0.60500000000000043},0.55301901990904512,null,0.55301901990904512,null,0.30583003638116085,null,0.35198145210345227,0.35177753080186214,1,null,0.35177753080186214]
[{"$f":"A618+Model!$C$48","v":0.60600000000000043},0.55264385690562412,null,0.55264385690562412,null,0.30541523257552394,null,0.35228707473793064,0,0,null,0.35177753080186214]
[{"$f":"A619+Model!$C$48","v":0.60700000000000043},0.55226944306352044,null,0.55226944306352044,null,0.30500153774169103,null,0.35259228312308927,0.35238891433875402,1,null,0.35238891433875402]
[{"$f":"A620+Model!$C$48","v":0.60800000000000043},0.55189577594899375,null,0.55189577594899375,null,0.30458894751034193,null,0.35289707836571527,0,0,null,0.35238891433875402]
[{"$f":"A621+Model!$C$48","v":0.60900000000000043},0.5515228531390205,null,0.5515228531390205,null,0.30417745753460557,null,0.35320146156823773,0.35299864235408318,1,null,0.35299864235408318]
[{"$f":"A622+Model!$C$48","v":0.61000000000000043},0.55115067222123681,null,0.55115067222123681,null,0.30376706348992122,null,0.35350543382874999,0,0,null,0.35299864235408318]
[{"$f":"A623+Model!$C$48","v":0.61100000000000043},0.5507792307938798,null,0.5507792307938798,null,0.30335776107389789,null,0.3538089962410319,0.35360672367312262,1,null,0.35360672367312262]
[{"$f":"A624+Model!$C$48","v":0.61200000000000043},0.55040852646573035,null,0.55040852646573035,null,0.30294954600617657,null,0.35411214989457196,0,0,null,0.35360672367312262]
[{"$f":"A625+Model!$C$48","v":0.61300000000000043},0.55003855685605807,null,0.55003855685605807,null,0.30254241402829501,null,0.35441489587458919,0.35421316705189193,1,null,0.35421316705189193]
[{"$f":"A626+Model!$C$48","v":0.61400000000000043},0.54966931959456145,null,0.54966931959456145,null,0.30213636090354812,null,0.35471723526205512,0,0,null,0.35421316705189193]
[{"$f":"A627+Model!$C$48","v":0.61500000000000044},0.54930081232131467,null,0.54930081232131467,null,0.30173138241685615,null,0.35501916913371534,0.35481798117786534,1,null,0.35481798117786534]
[{"$f":"A628+Model!$C$48","v":0.61600000000000044},0.54893303268671001,null,0.54893303268671001,null,0.30132747437462865,null,0.35532069856211107,0,0,null,0.35481798117786534]
[{"$f":"A629+Model!$C$48","v":0.61700000000000044},0.5485659783514043,null,0.5485659783514043,null,0.30092463260463337,null,0.35562182461560071,0.35542117467067091,1,null,0.35542117467067091]
[{"$f":"A630+Model!$C$48","v":0.61800000000000044},0.54819964698626078,null,0.54819964698626078,null,0.30052285295586095,null,0.35592254835838094,0,0,null,0.35542117467067091]
[{"$f":"A631+Model!$C$48","v":0.61900000000000044},0.54783403627229743,null,0.54783403627229743,null,0.30012213129839688,null,0.35622287085050808,0.356022756082781,1,null,0.356022756082781]
[{"$f":"A632+Model!$C$48","v":0.62000000000000044},0.54746914390062973,null,0.54746914390062973,null,0.29972246352328841,null,0.3565227931479189,0,0,null,0.356022756082781]
[{"$f":"A633+Model!$C$48","v":0.62100000000000044},0.54710496757241833,null,0.54710496757241833,null,0.29932384554241692,null,0.35682231630245176,0.35662273390019439,1,null,0.35662273390019439]
[{"$f":"A634+Model!$C$48","v":0.62200000000000044},0.5467415049988148,null,0.5467415049988148,null,0.29892627328836902,null,0.35712144136186713,0,0,null,0.35662273390019439]
[{"$f":"A635+Model!$C$48","v":0.62300000000000044},0.5463787539009084,null,0.5463787539009084,null,0.29852974271430943,null,0.35742016936986848,0.35722111654310984,1,null,0.35722111654310984]
[{"$f":"A636+Model!$C$48","v":0.62400000000000044},0.54601671200967106,null,0.54601671200967106,null,0.29813424979385206,null,0.35771850136612254,0,0,null,0.35722111654310984]
[{"$f":"A637+Model!$C$48","v":0.62500000000000044},0.54565537706590828,null,0.54565537706590828,null,0.29773979052093852,null,0.35801643838627994,0.3578179123665915,1,null,0.3578179123665915]
[{"$f":"A638+Model!$C$48","v":0.62600000000000044},0.54529474682020207,null,0.54529474682020207,null,0.29734636090970828,null,0.35831398146199528,0,0,null,0.3578179123665915]
[{"$f":"A639+Model!$C$48","v":0.62700000000000045},0.544934819032863,null,0.544934819032863,null,0.29695395699437915,null,0.35861113162094732,0.3584131296612259,1,null,0.3584131296612259]
[{"$f":"A640+Model!$C$48","v":0.62800000000000045},0.54457559147387502,null,0.54457559147387502,null,0.2965625748291208,null,0.35890788988685907,0,0,null,0.3584131296612259]
[{"$f":"A641+Model!$C$48","v":0.62900000000000045},0.54421706192284613,null,0.54421706192284613,null,0.29617221048793496,null,0.3592042572795176,0.35900677665377118,1,null,0.35900677665377118]
[{"$f":"A642+Model!$C$48","v":0.63000000000000045},0.54385922816895582,null,0.54385922816895582,null,0.29578286006453236,null,0.35950023481479382,0,0,null,0.35900677665377118]
[{"$f":"A643+Model!$C$48","v":0.63100000000000045},0.54350208801090494,null,0.54350208801090494,null,0.29539451967221347,null,0.35979582350466222,0.35959886150779813,1,null,0.35959886150779813]
[{"$f":"A644+Model!$C$48","v":0.63200000000000045},0.54314563925686432,null,0.54314563925686432,null,0.29500718544374777,null,0.36009102435722018,0,0,null,0.35959886150779813]
[{"$f":"A645+Model!$C$48","v":0.63300000000000045},0.54278987972442572,null,0.54278987972442572,null,0.29462085353125655,null,0.36038583837670768,0.36018939232432357,1,null,0.36018939232432357]
[{"$f":"A646+Model!$C$48","v":0.63400000000000045},0.5424348072405506,null,0.5424348072405506,null,0.29423552010609327,null,0.36068026656352636,0,0,null,0.36018939232432357]
[{"$f":"A647+Model!$C$48","v":0.63500000000000045},0.54208041964151998,null,0.54208041964151998,null,0.2938511813587264,null,0.36097430991425877,0.36077837714243599,1,null,0.36077837714243599]
[{"$f":"A648+Model!$C$48","v":0.63600000000000045},0.54172671477288759,null,0.54172671477288759,null,0.29346783349862549,null,0.36126796942168743,0,0,null,0.36077837714243599]
[{"$f":"A649+Model!$C$48","v":0.63700000000000045},0.54137369048942785,null,0.54137369048942785,null,0.29308547275414282,null,0.36156124607481382,0.3613658239399134,1,null,0.3613658239399134]
[{"$f":"A650+Model!$C$48","v":0.63800000000000046},0.54102134465508933,null,0.54102134465508933,null,0.29270409537240094,null,0.36185414085887707,0,0,null,0.3613658239399134]
[{"$f":"A651+Model!$C$48","v":0.63900000000000046},0.54066967514294417,null,0.54066967514294417,null,0.29232369761917676,null,0.36214665475537289,0.36195174063383384,1,null,0.36195174063383384]
[{"$f":"A652+Model!$C$48","v":0.64000000000000046},0.5403186798351417,null,0.5403186798351417,null,{"$f":"B653*D653","v":0.29194427577879034},null,0.36243878874207186,0,0,null,0.36195174063383384]
[{"$f":"A653+Model!$C$48","v":0.64100000000000046},{"$f":"IF($B$10>0,ERF($B$10/SQRT(A654)),-ERF(-$B$10/SQRT(A654)))","v":0.53996835662286025},null,{"$f":"ERF($B$11/SQRT(A654))","v":0.53996835662286025},null,0.2915658261539924,null,{"$f":"0.5*(F654+F653)*(A654-A653)+H653","v":0.36273054379303826},0.3625361350811786,1,null,0.3625361350811786]
[{"$f":"A654+Model!$C$48","v":0.64200000000000046},0.53961870340625806,null,0.53961870340625806,null,0.29118834506585112,null,0.36302192087864821,0,{"$f":"IF(J654=1,0,1)","v":0},null,0.3625361350811786]
[{"$f":"A655+Model!$C$48","v":0.64300000000000046},0.5392697180944277,null,0.5392697180944277,null,0.29081182885364354,null,0.36331292096560797,0.36311901507942784,1,null,0.36311901507942784]
[{"$f":"A656+Model!$C$48","v":0.64400000000000046},0.53892139860534849,null,0.53892139860534849,null,0.29043627387474491,null,0.36360354501697217,{"$f":"(I655+((A657-A656)/3)*(4*F655+2*F656))*J657","v":0},0,null,{"$f":"IF(J657=1,I657,I656)","v":0.36311901507942784}]
[{"$f":"A657+Model!$C$48","v":0.64500000000000046},0.53857374286583903,null,0.53857374286583903,null,0.29006167650451892,null,0.36389379399216182,0.36370038836714919,1,null,0.36370038836714919]
[{"$f":"A658+Model!$C$48","v":0.64600000000000046},0.53822674881151211,null,0.53822674881151211,null,0.28968803313621055,null,0.36418366884698217,0,0,null,0.36370038836714919]
[{"$f":"A659+Model!$C$48","v":0.64700000000000046},0.53788041438672696,null,0.53788041438672696,null,0.2893153401808371,null,0.3644731705336407,0.36428026262457935,1,null,0.36428026262457935]
[{"$f":"A660+Model!$C$48","v":0.64800000000000046},0.53753473754454451,null,0.53753473754454451,null,0.28894359406708237,null,0.36476230000076465,0,0,null,0.36428026262457935]
[{"$f":"A661+Model!$C$48","v":0.64900000000000047},0.53718971624668155,null,0.53718971624668155,null,0.28857279124119023,null,0.36505105819341876,0.36485864547419855,1,null,0.36485864547419855]
[{"$f":"A662+Model!$C$48","v":0.65000000000000047},0.53684534846346488,null,0.53684534846346488,null,0.28820292816685905,null,0.3653394460531228,0,0,null,0.36485864547419855]
[{"$f":"A663+Model!$C$48","v":0.65100000000000047},0.53650163217378743,null,0.53650163217378743,null,0.28783400132513792,null,0.36562746451786882,0.36543554448129806,1,null,0.36543554448129806]
[{"$f":"A664+Model!$C$48","v":0.65200000000000047},0.53615856536506135,null,0.53615856536506135,null,0.28746600721432075,null,0.36591511452213854,0,0,null,0.36543554448129806]
[{"$f":"A665+Model!$C$48","v":0.65300000000000047},0.5358161460331754,null,0.5358161460331754,null,0.28709894234984512,null,0.36620239699692064,0.36601096715454112,1,null,0.36601096715454112]
[{"$f":"A666+Model!$C$48","v":0.65400000000000047},0.53547437218245053,null,0.53547437218245053,null,0.28673280326418954,null,0.36648931286972763,0,0,null,0.36601096715454112]
[{"$f":"A667+Model!$C$48","v":0.65500000000000047},0.53513324182559441,null,0.53513324182559441,null,0.28636758650677008,null,0.36677586306461313,0.36658492094651707,1,null,0.36658492094651707]
[{"$f":"A668+Model!$C$48","v":0.65600000000000047},0.53479275298365958,null,0.53479275298365958,null,0.28600328864384156,null,0.36706204850218843,0,0,null,0.36658492094651707]
[{"$f":"A669+Model!$C$48","v":0.65700000000000047},0.53445290368599874,null,0.53445290368599874,null,0.28563990625839542,null,0.36734787009963954,0.36715741325428863,1,null,0.36715741325428863]
[{"$f":"A670+Model!$C$48","v":0.65800000000000047},0.53411369197022174,null,0.53411369197022174,null,0.28527743595006089,null,0.36763332877074378,0,0,null,0.36715741325428863]
[{"$f":"A671+Model!$C$48","v":0.65900000000000047},0.53377511588215343,null,0.53377511588215343,null,0.28491587433500631,null,0.36791842542588632,0.36772845141993321,1,null,0.36772845141993321]
[{"$f":"A672+Model!$C$48","v":0.66000000000000048},0.53343717347578978,null,0.53343717347578978,null,0.28455521804583983,null,0.36820316097207673,0,0,null,0.36772845141993321]
[{"$f":"A673+Model!$C$48","v":0.66100000000000048},0.53309986281325594,null,0.53309986281325594,null,0.28419546373151233,null,0.36848753631296538,0.36829804273107714,1,null,0.36829804273107714]
[{"$f":"A674+Model!$C$48","v":0.66200000000000048},0.53276318196476524,null,0.53276318196476524,null,0.28383660805722155,null,0.36877155234885972,0,0,null,0.36829804273107714]
[{"$f":"A675+Model!$C$48","v":0.66300000000000048},0.53242712900857536,null,0.53242712900857536,null,0.28347864770431414,null,0.36905520997674052,0.36886619442142399,1,null,0.36886619442142399]
[{"$f":"A676+Model!$C$48","v":0.66400000000000048},0.53209170203094758,null,0.53209170203094758,null,0.28312157937019072,null,0.36933851009027779,0,0,null,0.36886619442142399]
[{"$f":"A677+Model!$C$48","v":0.66500000000000048},0.53175689912610524,null,0.53175689912610524,null,0.28276539976821086,null,0.36962145357984699,0.36943291367127651,1,null,0.36943291367127651]
[{"$f":"A678+Model!$C$48","v":0.66600000000000048},0.53142271839619382,null,0.53142271839619382,null,0.28241010562760033,null,0.3699040413325449,0,0,null,0.36943291367127651]
[{"$f":"A679+Model!$C$48","v":0.66700000000000048},0.53108915795123757,null,0.53108915795123757,null,0.28205569369335459,null,0.37018627423220535,0.36999820760805252,1,null,0.36999820760805252]
[{"$f":"A680+Model!$C$48","v":0.66800000000000048},0.53075621590910083,null,0.53075621590910083,null,0.28170216072614807,null,0.37046815315941511,0,0,null,0.36999820760805252]
[{"$f":"A681+Model!$C$48","v":0.66900000000000048},0.53042389039544657,null,0.53042389039544657,null,0.28134950350224069,null,0.37074967899152933,0.37056208330679441,1,null,0.37056208330679441]
[{"$f":"A682+Model!$C$48","v":0.67000000000000048},0.53009217954369703,null,0.53009217954369703,null,0.28099771881338714,null,0.37103085260268714,0,0,null,0.37056208330679441]
[{"$f":"A683+Model!$C$48","v":0.67100000000000048},0.5297610814949929,null,0.5297610814949929,null,0.28064680346674453,null,0.37131167486382721,0.371124547790673,1,null,0.371124547790673]
[{"$f":"A684+Model!$C$48","v":0.67200000000000049},0.52943059439815532,null,0.52943059439815532,null,0.28029675428478407,null,0.37159214664270296,0,0,null,0.371124547790673]
[{"$f":"A685+Model!$C$48","v":0.67300000000000049},0.52910071640964251,null,0.52910071640964251,null,0.27994756810519694,null,0.37187226880389795,0.3716856080314852,1,null,0.3716856080314852]
[{"$f":"A686+Model!$C$48","v":0.67400000000000049},0.5287714456935162,null,0.5287714456935162,null,0.27959924178081114,null,0.37215204220884096,0,0,null,0.3716856080314852]
[{"$f":"A687+Model!$C$48","v":0.67500000000000049},0.52844278042139781,null,0.52844278042139781,null,0.27925177217949765,null,0.37243146771582114,0.37224527095014603,1,null,0.37224527095014603]
[{"$f":"A688+Model!$C$48","v":0.67600000000000049},0.52811471877243221,null,0.52811471877243221,null,0.27890515618408518,null,0.37271054618000293,0,0,null,0.37224527095014603]
[{"$f":"A689+Model!$C$48","v":0.67700000000000049},0.52778725893324852,null,0.52778725893324852,null,0.27855939069227192,null,0.3729892784534411,0.37280354341717475,1,null,0.37280354341717475]
[{"$f":"A690+Model!$C$48","v":0.67800000000000049},0.52746039909792142,null,0.52746039909792142,null,0.27821447261653853,null,0.37326766538509548,0,0,null,0.37280354341717475]
[{"$f":"A691+Model!$C$48","v":0.67900000000000049},0.52713413746793358,null,0.52713413746793358,null,0.27787039888406229,null,0.37354570782084578,0.3733604322531755,1,null,0.3733604322531755]
[{"$f":"A692+Model!$C$48","v":0.68000000000000049},0.52680847225213845,null,0.52680847225213845,null,0.27752716643663211,null,0.37382340660350616,0,0,null,0.3733604322531755]
[{"$f":"A693+Model!$C$48","v":0.68100000000000049},0.52648340166672103,null,0.52648340166672103,null,0.27718477223056193,null,0.37410076257283975,0.37391594422931201,1,null,0.37391594422931201]
[{"$f":"A694+Model!$C$48","v":0.68200000000000049},0.52615892393516139,null,0.52615892393516139,null,0.27684321323660693,null,0.37437777656557336,0,0,null,0.37391594422931201]
[{"$f":"A695+Model!$C$48","v":0.6830000000000005},0.52583503728819847,null,0.52583503728819847,null,0.27650248643988107,null,0.37465444941541159,0.37447008606777715,1,null,0.37447008606777715]
[{"$f":"A696+Model!$C$48","v":0.6840000000000005},0.52551173996379108,null,0.52551173996379108,null,0.27616258883977118,null,0.37493078195305141,0,0,null,0.37447008606777715]
[{"$f":"A697+Model!$C$48","v":0.6850000000000005},0.5251890302070823,null,0.5251890302070823,null,0.27582351744985562,null,0.3752067750061962,0.37502286444225685,1,null,0.37502286444225685]
[{"$f":"A698+Model!$C$48","v":0.6860000000000005},0.52486690627036392,null,0.52486690627036392,null,0.27548526929782297,null,0.37548242939957005,0,0,null,0.37502286444225685]
[{"$f":"A699+Model!$C$48","v":0.6870000000000005},0.52454536641303817,null,0.52454536641303817,null,0.27514784142538845,null,0.37575774595493167,0.37557428597838854,1,null,0.37557428597838854]
[{"$f":"A700+Model!$C$48","v":0.6880000000000005},0.52422440890158328,null,0.52422440890158328,null,0.27481123088821441,null,0.37603272549108846,0,0,null,0.37557428597838854]
[{"$f":"A701+Model!$C$48","v":0.6890000000000005},0.52390403200951619,null,0.52390403200951619,null,0.27447543475582814,null,0.37630736882391047,0.37612435725421456,1,null,0.37612435725421456]
[{"$f":"A702+Model!$C$48","v":0.6900000000000005},0.52358423401735876,null,0.52358423401735876,null,0.27414045011154431,null,0.37658167676634413,0,0,null,0.37612435725421456]
[{"$f":"A703+Model!$C$48","v":0.6910000000000005},0.52326501321260011,null,0.52326501321260011,null,0.27380627405238256,null,0.37685565012842609,0.37667308480063005,1,null,0.37667308480063005]
[{"$f":"A704+Model!$C$48","v":0.6920000000000005},0.52294636788966342,null,0.52294636788966342,null,0.27347290368899119,null,0.37712928971729676,0,0,null,0.37667308480063005]
[{"$f":"A705+Model!$C$48","v":0.6930000000000005},0.5226282963498694,null,0.5226282963498694,null,0.27314033614556693,null,0.37740259633721401,0.37722047510182588,1,null,0.37722047510182588]
[{"$f":"A706+Model!$C$48","v":0.69400000000000051},0.52231079690140314,null,0.52231079690140314,null,0.27280856855977881,null,0.37767557078956671,0,0,null,0.37722047510182588]
[{"$f":"A707+Model!$C$48","v":0.69500000000000051},0.52199386785927682,null,0.52199386785927682,null,0.27247759808268812,null,0.37794821387288796,0.37776653459572651,1,null,0.37776653459572651]
[{"$f":"A708+Model!$C$48","v":0.69600000000000051},0.52167750754529851,null,0.52167750754529851,null,0.27214742187867497,null,0.37822052638286863,0,0,null,0.37776653459572651]
[{"$f":"A709+Model!$C$48","v":0.69700000000000051},0.52136171428803568,null,0.52136171428803568,null,0.27181803712535935,null,0.37849250911237065,0.37831126967442252,1,null,0.37831126967442252]
[{"$f":"A710+Model!$C$48","v":0.69800000000000051},0.52104648642278217,null,0.52104648642278217,null,0.27148944101352651,null,0.3787641628514401,0,0,null,0.37831126967442252]
[{"$f":"A711+Model!$C$48","v":0.69900000000000051},0.52073182229152437,null,0.52073182229152437,null,0.27116163074705174,null,0.37903548838732037,0.37885468668459871,1,null,0.37885468668459871]
[{"$f":"A712+Model!$C$48","v":0.70000000000000051},0.52041772024290656,null,0.52041772024290656,null,0.27083460354282413,null,0.3793064865044653,0,0,null,0.37885468668459871]
[{"$f":"A713+Model!$C$48","v":0.70100000000000051},0.52010417863219971,null,0.52010417863219971,null,0.27050835663067513,null,0.37957715798455205,0.37939679192795667,1,null,0.37939679192795667]
[{"$f":"A714+Model!$C$48","v":0.70200000000000051},0.51979119582126598,null,0.51979119582126598,null,0.2701828872533017,null,0.37984750360649405,0,0,null,0.37939679192795667]
[{"$f":"A715+Model!$C$48","v":0.70300000000000051},0.51947877017852706,null,0.51947877017852706,null,0.26985819266619493,null,0.38011752414645378,0.3799375916616331,1,null,0.3799375916616331]
[{"$f":"A716+Model!$C$48","v":0.70400000000000051},0.51916690007893085,null,0.51916690007893085,null,{"$f":"B717*D717","v":0.26953427013756659},null,0.38038722037785566,0,0,null,0.3799375916616331]
[{"$f":"A717+Model!$C$48","v":0.70500000000000052},{"$f":"IF($B$10>0,ERF($B$10/SQRT(A718)),-ERF(-$B$10/SQRT(A718)))","v":0.51885558390391928},null,{"$f":"ERF($B$11/SQRT(A718))","v":0.51885558390391928},null,0.26921111694827704,null,{"$f":"0.5*(F718+F717)*(A718-A717)+H717","v":0.3806565930713986},0.38047709209861308,1,null,0.38047709209861308]
[{"$f":"A718+Model!$C$48","v":0.70600000000000052},0.51854482004139513,null,0.51854482004139513,null,0.26888873039176286,null,0.38092564299506859,0,{"$f":"IF(J718=1,0,1)","v":0},null,0.38047709209861308]
[{"$f":"A719+Model!$C$48","v":0.70700000000000052},0.51823460688569067,null,0.51823460688569067,null,0.26856710777396636,null,0.38119437091415148,0.38101529940813861,1,null,0.38101529940813861]
[{"$f":"A720+Model!$C$48","v":0.70800000000000052},0.5179249428375351,null,0.5179249428375351,null,0.268246246413264,null,0.38146277759124508,{"$f":"(I719+((A721-A720)/3)*(4*F719+2*F720))*J721","v":0},0,null,{"$f":"IF(J721=1,I721,I720)","v":0.38101529940813861}]
[{"$f":"A721+Model!$C$48","v":0.70900000000000052},0.51761582630402247,null,0.51761582630402247,null,0.26792614364039596,null,0.38173086378627191,0.38155221971611275,1,null,0.38155221971611275]
[{"$f":"A722+Model!$C$48","v":0.71000000000000052},0.51730725569858094,null,0.51730725569858094,null,0.267606796798397,null,0.38199863025649133,0,0,null,0.38155221971611275]
[{"$f":"A723+Model!$C$48","v":0.71100000000000052},0.51699922944093968,null,0.51699922944093968,null,0.26728820324252539,null,0.38226607775651178,0.38208785910549886,1,null,0.38208785910549886]
[{"$f":"A724+Model!$C$48","v":0.71200000000000052},0.51669174595709966,null,0.51669174595709966,null,0.266970360340196,null,0.38253320703830312,0,0,null,0.38208785910549886]
[{"$f":"A725+Model!$C$48","v":0.71300000000000052},0.51638480367930073,null,0.51638480367930073,null,0.26665326547090995,null,0.38280001885120868,0.38262222361671572,1,null,0.38262222361671572]
[{"$f":"A726+Model!$C$48","v":0.71400000000000052},0.51607840104599156,null,0.51607840104599156,null,0.26633691602618731,null,0.38306651394195723,0,0,null,0.38262222361671572]
[{"$f":"A727+Model!$C$48","v":0.71500000000000052},0.51577253650179899,null,0.51577253650179899,null,0.26602130940949958,null,0.3833326930546751,0.3831553192480277,1,null,0.3831553192480277]
[{"$f":"A728+Model!$C$48","v":0.71600000000000052},0.51546720849749617,null,0.51546720849749617,null,0.26570644303620117,null,0.38359855693089795,0,0,null,0.3831553192480277]
[{"$f":"A729+Model!$C$48","v":0.71700000000000053},0.51516241548997432,null,0.51516241548997432,null,0.26539231433346494,null,0.38386410630958279,0.38368715195593117,1,null,0.38368715195593117]
[{"$f":"A730+Model!$C$48","v":0.71800000000000053},0.51485815594221096,null,0.51485815594221096,null,0.265078920740214,null,0.38412934192711962,0,0,null,0.38368715195593117]
[{"$f":"A731+Model!$C$48","v":0.71900000000000053},0.51455442832323983,null,0.51455442832323983,null,0.26476625970705614,null,0.38439426451734326,0.38421772765553591,1,null,0.38421772765553591]
[{"$f":"A732+Model!$C$48","v":0.72000000000000053},0.51425123110812165,null,0.51425123110812165,null,0.26445432869621877,null,0.38465887481154493,0,0,null,0.38421772765553591]
[{"$f":"A733+Model!$C$48","v":0.72100000000000053},0.51394856277791423,null,0.51394856277791423,null,0.26414312518148364,null,0.38492317353848376,0.3847470522209428,1,null,0.3847470522209428]
[{"$f":"A734+Model!$C$48","v":0.72200000000000053},0.51364642181964315,null,0.51364642181964315,null,0.26383264664812278,null,0.38518716142439857,0,0,null,0.3847470522209428]
[{"$f":"A735+Model!$C$48","v":0.72300000000000053},0.51334480672627136,null,0.51334480672627136,null,0.2635228905928329,null,0.38545083919301903,0.38527513148561687,1,null,0.38527513148561687]
[{"$f":"A736+Model!$C$48","v":0.72400000000000053},0.51304371599667187,null,0.51304371599667187,null,0.26321385452367368,null,0.38571420756557728,0,0,null,0.38527513148561687]
[{"$f":"A737+Model!$C$48","v":0.72500000000000053},0.5127431481355964,null,0.5127431481355964,null,0.26290553596000216,null,0.3859772672608191,0.38580197124275645,1,null,0.38580197124275645]
[{"$f":"A738+Model!$C$48","v":0.72600000000000053},0.51244310165364904,null,0.51244310165364904,null,0.26259793243241208,null,0.38624001899501531,0,0,null,0.38580197124275645]
[{"$f":"A739+Model!$C$48","v":0.72700000000000053},0.51214357506725539,null,0.51214357506725539,null,0.26229104148266946,null,0.38650246348197287,0.38632757724565808,1,null,0.38632757724565808]
[{"$f":"A740+Model!$C$48","v":0.72800000000000054},0.51184456689863533,null,0.51184456689863533,null,0.26198486066365156,null,0.38676460143304603,0,0,null,0.38632757724565808]
[{"$f":"A741+Model!$C$48","v":0.72900000000000054},0.51154607567577404,null,0.51154607567577404,null,0.26167938753928471,null,0.3870264335571475,0.38685195520807741,1,null,0.38685195520807741]
[{"$f":"A742+Model!$C$48","v":0.73000000000000054},0.51124809993239428,null,0.51124809993239428,null,0.26137461968448339,null,0.38728796056075937,0,0,null,0.38685195520807741]
[{"$f":"A743+Model!$C$48","v":0.73100000000000054},0.51095063820792852,null,0.51095063820792852,null,0.26107055468508944,null,0.38754918314794418,0.38737511080458614,1,null,0.38737511080458614]
[{"$f":"A744+Model!$C$48","v":0.73200000000000054},0.51065368904748987,null,0.51065368904748987,null,0.26076719013781047,null,0.38781010202035565,0,0,null,0.38737511080458614]
[{"$f":"A745+Model!$C$48","v":0.73300000000000054},0.51035725100184537,null,0.51035725100184537,null,0.2604645236501606,null,0.38807071787724962,0.38789704967092481,1,null,0.38789704967092481]
[{"$f":"A746+Model!$C$48","v":0.73400000000000054},0.51006132262738901,null,0.51006132262738901,null,0.26016255284040141,null,0.38833103141549491,0,0,null,0.38789704967092481]
[{"$f":"A747+Model!$C$48","v":0.73500000000000054},0.50976590248611298,null,0.50976590248611298,null,0.25986127533748127,null,0.38859104332958383,0.38841777740435196,1,null,0.38841777740435196]
[{"$f":"A748+Model!$C$48","v":0.73600000000000054},0.5094709891455812,null,0.5094709891455812,null,0.25956068878097693,null,0.38885075431164307,0,0,null,0.38841777740435196]
[{"$f":"A749+Model!$C$48","v":0.73700000000000054},0.50917658117890197,null,0.50917658117890197,null,0.25926079082103493,null,0.38911016505144408,0.38893729956398926,1,null,0.38893729956398926]
[{"$f":"A750+Model!$C$48","v":0.73800000000000054},0.5088826771647017,null,0.5088826771647017,null,0.25896157911831402,null,0.38936927623641376,0,0,null,0.38893729956398926]
[{"$f":"A751+Model!$C$48","v":0.73900000000000055},0.50858927568709744,null,0.50858927568709744,null,0.25866305134392642,null,0.38962808855164488,0.38945562167116282,1,null,0.38945562167116282]
[{"$f":"A752+Model!$C$48","v":0.74000000000000055},0.50829637533566996,null,0.50829637533566996,null,0.25836520517938028,null,0.38988660267990655,0,0,null,0.38945562167116282]
[{"$f":"A753+Model!$C$48","v":0.74100000000000055},0.50800397470543857,null,0.50800397470543857,null,0.25806803831652386,null,0.39014481930165451,0.38997274920974095,1,null,0.38997274920974095]
[{"$f":"A754+Model!$C$48","v":0.74200000000000055},0.50771207239683402,null,0.50771207239683402,null,0.25777154845748801,null,0.39040273909504153,0,0,null,0.38997274920974095]
[{"$f":"A755+Model!$C$48","v":0.74300000000000055},0.50742066701567168,null,0.50742066701567168,null,0.25747573331462914,null,0.39066036273592758,0.39048868762646799,1,null,0.39048868762646799]
[{"$f":"A756+Model!$C$48","v":0.74400000000000055},0.50712975717312692,null,0.50712975717312692,null,0.25718059061047466,null,0.39091769089789014,0,0,null,0.39048868762646799]
[{"$f":"A757+Model!$C$48","v":0.74500000000000055},0.50683934148570819,null,0.50683934148570819,null,0.25688611807766631,null,0.39117472425223421,0.39100344233129447,1,null,0.39100344233129447]
[{"$f":"A758+Model!$C$48","v":0.74600000000000055},0.50654941857523228,null,0.50654941857523228,null,0.25659231345890587,null,0.39143146346800251,0,0,null,0.39100344233129447]
[{"$f":"A759+Model!$C$48","v":0.74700000000000055},0.50625998706879771,null,0.50625998706879771,null,0.25629917450689921,null,0.39168790921198543,0.39151701869770394,1,null,0.39151701869770394]
[{"$f":"A760+Model!$C$48","v":0.74800000000000055},0.50597104559875972,null,0.50597104559875972,null,0.25600669898430217,null,0.39194406214873101,0,0,null,0.39151701869770394]
[{"$f":"A761+Model!$C$48","v":0.74900000000000055},0.50568259280270511,null,0.50568259280270511,null,0.25571488466366649,null,0.392199922940555,0.39202942206303604,1,null,0.39202942206303604]
[{"$f":"A762+Model!$C$48","v":0.75000000000000056},0.50539462732342766,null,0.50539462732342766,null,0.25542372932738633,null,0.39245549224755055,0,0,null,0.39202942206303604]
[{"$f":"A763+Model!$C$48","v":0.75100000000000056},0.50510714780890187,null,0.50510714780890187,null,0.25513323076764383,null,0.39271077072759808,0.39254065772880586,1,null,0.39254065772880586]
[{"$f":"A764+Model!$C$48","v":0.75200000000000056},0.50482015291225868,null,0.50482015291225868,null,0.25484338678635626,null,0.3929657590363751,0,0,null,0.39254065772880586]
[{"$f":"A765+Model!$C$48","v":0.75300000000000056},0.50453364129176159,null,0.50453364129176159,null,0.25455419519512396,null,0.39322045782736581,0.39305073096102028,1,null,0.39305073096102028]
[{"$f":"A766+Model!$C$48","v":0.75400000000000056},0.50424761161078113,null,0.50424761161078113,null,0.25426565381517718,null,0.39347486775187096,0,0,null,0.39305073096102028]
[{"$f":"A767+Model!$C$48","v":0.75500000000000056},0.50396206253777021,null,0.50396206253777021,null,0.2539777604773234,null,0.39372898945901719,0.39355964699049056,1,null,0.39355964699049056]
[{"$f":"A768+Model!$C$48","v":0.75600000000000056},0.503676992746241,null,0.503676992746241,null,0.25369051302189694,null,0.39398282359576681,0,0,null,0.39355964699049056]
[{"$f":"A769+Model!$C$48","v":0.75700000000000056},0.50339240091473969,null,0.50339240091473969,null,0.25340390929870604,null,0.39423637080692708,0.39406741101314158,1,null,0.39406741101314158]
[{"$f":"A770+Model!$C$48","v":0.75800000000000056},0.50310828572682331,null,0.50310828572682331,null,0.25311794716698288,null,0.39448963173515994,0,0,null,0.39406741101314158]
[{"$f":"A771+Model!$C$48","v":0.75900000000000056},0.50282464587103493,null,0.50282464587103493,null,0.25283262449533167,null,0.39474260702099112,0.39457402819031784,1,null,0.39457402819031784]
[{"$f":"A772+Model!$C$48","v":0.76000000000000056},0.50254148004088062,null,0.50254148004088062,null,0.25254793916167884,null,0.39499529730281963,0,0,null,0.39457402819031784]
[{"$f":"A773+Model!$C$48","v":0.76100000000000056},0.50225878693480597,null,0.50225878693480597,null,0.25226388905322283,null,0.39524770321692709,0.39507950364908606,1,null,0.39507950364908606]
[{"$f":"A774+Model!$C$48","v":0.76200000000000057},0.50197656525617229,null,0.50197656525617229,null,0.25198047206638419,null,0.3954998253974869,0,0,null,0.39507950364908606]
[{"$f":"A775+Model!$C$48","v":0.76300000000000057},0.50169481371323243,null,0.50169481371323243,null,0.25169768610675497,null,0.39575166447657345,0.39558384248253464,1,null,0.39558384248253464]
[{"$f":"A776+Model!$C$48","v":0.76400000000000057},0.5014135310191099,null,0.5014135310191099,null,0.2514155290890519,null,0.39600322108417135,0,0,null,0.39558384248253464]
[{"$f":"A777+Model!$C$48","v":0.76500000000000057},0.50113271589177288,null,0.50113271589177288,null,0.25113399893706434,null,0.3962544958481844,0.3960870497500697,1,null,0.3960870497500697]
[{"$f":"A778+Model!$C$48","v":0.76600000000000057},0.50085236705401426,null,0.50085236705401426,null,0.25085309358360902,null,0.39650548939444474,0,0,null,0.3960870497500697]
[{"$f":"A779+Model!$C$48","v":0.76700000000000057},0.50057248323342518,null,0.50057248323342518,null,0.25057281097047773,null,0.39675620234672176,0.39658913047770816,1,null,0.39658913047770816]
[{"$f":"A780+Model!$C$48","v":0.76800000000000057},0.50029306316237632,null,0.50029306316237632,null,{"$f":"B781*D781","v":0.25029314904839345},null,0.39700663532673119,0,0,null,0.39658913047770816]
[{"$f":"A781+Model!$C$48","v":0.76900000000000057},{"$f":"IF($B$10>0,ERF($B$10/SQRT(A782)),-ERF(-$B$10/SQRT(A782)))","v":0.50001410557799275},null,{"$f":"ERF($B$11/SQRT(A782))","v":0.50001410557799275},null,0.25001410577696009,null,{"$f":"0.5*(F782+F781)*(A782-A781)+H781","v":0.39725678895414385},0.39709008965836773,1,null,0.39709008965836773]
[{"$f":"A782+Model!$C$48","v":0.77000000000000057},0.49973560922213217,null,0.49973560922213217,null,0.24973567912461558,null,0.39750666384659461,0,{"$f":"IF(J782=1,0,1)","v":0},null,0.39709008965836773]
[{"$f":"A783+Model!$C$48","v":0.77100000000000057},0.499457572841363,null,0.499457572841363,null,0.24945786706858541,null,0.39775626061969122,0.39758993225215344,1,null,0.39758993225215344]
[{"$f":"A784+Model!$C$48","v":0.77200000000000057},0.49917999518694101,null,0.49917999518694101,null,0.24918066759483445,null,0.3980055798870229,{"$f":"(I783+((A785-A784)/3)*(4*F783+2*F784))*J785","v":0},0,null,{"$f":"IF(J785=1,I785,I784)","v":0.39758993225215344}]
[{"$f":"A785+Model!$C$48","v":0.77300000000000058},0.49890287501478864,null,0.49890287501478864,null,0.24890407869802181,null,0.39825462226016933,0.39808866318664143,1,null,0.39808866318664143]
[{"$f":"A786+Model!$C$48","v":0.77400000000000058},0.49862621108547245,null,0.49862621108547245,null,0.24862809838145414,null,0.39850338834870908,0,0,null,0.39808866318664143]
[{"$f":"A787+Model!$C$48","v":0.77500000000000058},0.49835000216418174,null,0.49835000216418174,null,0.24835272465703995,null,0.39875187876022833,0.39858628735715979,1,null,0.39858628735715979]
[{"$f":"A788+Model!$C$48","v":0.77600000000000058},0.49807424702070552,null,0.49807424702070552,null,0.24807795554524278,null,0.39900009410032949,0,0,null,0.39858628735715979]
[{"$f":"A789+Model!$C$48","v":0.77700000000000058},0.4977989444294128,null,0.4977989444294128,null,0.24780378907503761,null,0.39924803497263961,0.39908280962706599,1,null,0.39908280962706599]
[{"$f":"A790+Model!$C$48","v":0.77800000000000058},0.49752409316922935,null,0.49752409316922935,null,0.24753022328386401,null,0.39949570197881906,0,0,null,0.39908280962706599]
[{"$f":"A791+Model!$C$48","v":0.77900000000000058},0.49724969202361774,null,0.49724969202361774,null,0.24725725621758268,null,0.39974309571856981,0.39957823482802196,1,null,0.39957823482802196]
[{"$f":"A792+Model!$C$48","v":0.78000000000000058},0.49697573978055587,null,0.49697573978055587,null,0.24698488593043078,null,0.3999902167896438,0,0,null,0.39957823482802196]
[{"$f":"A793+Model!$C$48","v":0.78100000000000058},0.49670223523251483,null,0.49670223523251483,null,0.24671311048497649,null,0.40023706578785151,0.40007256776026567,1,null,0.40007256776026567]
[{"$f":"A794+Model!$C$48","v":0.78200000000000058},0.49642917717643964,null,0.49642917717643964,null,0.24644192795207689,null,0.40048364330707004,0,0,null,0.40007256776026567]
[{"$f":"A795+Model!$C$48","v":0.78300000000000058},0.49615656441372669,null,0.49615656441372669,null,0.24617133641083253,null,0.40072994993925148,0.40056581319288037,1,null,0.40056581319288037]
[{"$f":"A796+Model!$C$48","v":0.78400000000000059},0.49588439575020365,null,0.49588439575020365,null,0.2459013339485446,null,0.40097598627443115,0,0,null,0.40056581319288037]
[{"$f":"A797+Model!$C$48","v":0.78500000000000059},0.49561266999611003,null,0.49561266999611003,null,0.24563191866067308,null,0.40122175290073575,0.4010579758640605,1,null,0.4010579758640605]
[{"$f":"A798+Model!$C$48","v":0.78600000000000059},0.4953413859660743,null,0.4953413859660743,null,0.2453630886507914,null,0.40146725040439146,0,0,null,0.4010579758640605]
[{"$f":"A799+Model!$C$48","v":0.78700000000000059},0.49507054247909543,null,0.49507054247909543,null,0.24509484203054582,null,0.40171247936973214,0.40154906048137529,1,null,0.40154906048137529]
[{"$f":"A800+Model!$C$48","v":0.78800000000000059},0.49480013835852199,null,0.49480013835852199,null,0.2448271769196125,null,0.40195744037920722,0,0,null,0.40154906048137529]
[{"$f":"A801+Model!$C$48","v":0.78900000000000059},0.49453017243203146,null,0.49453017243203146,null,0.24456009144565477,null,0.40220213401338983,0.40203907172202907,1,null,0.40203907172202907]
[{"$f":"A802+Model!$C$48","v":0.79000000000000059},0.49426064353161087,null,0.49426064353161087,null,0.24429358374428212,null,0.40244656085098479,0,0,null,0.40203907172202907]
[{"$f":"A803+Model!$C$48","v":0.79100000000000059},0.49399155049353644,null,0.49399155049353644,null,0.24402765195900816,null,0.40269072146883644,0.40252801423311946,1,null,0.40252801423311946]
[{"$f":"A804+Model!$C$48","v":0.79200000000000059},0.49372289215835435,null,0.49372289215835435,null,0.24376229424121001,null,0.40293461644193657,0,0,null,0.40252801423311946]
[{"$f":"A805+Model!$C$48","v":0.79300000000000059},0.49345466737085969,null,0.49345466737085969,null,0.24349750875008577,null,0.40317824634343219,0.4030158926318923,1,null,0.4030158926318923]
[{"$f":"A806+Model!$C$48","v":0.79400000000000059},0.49318687498007835,null,0.49318687498007835,null,0.24323329365261542,null,0.40342161174463353,0,0,null,0.4030158926318923]
[{"$f":"A807+Model!$C$48","v":0.7950000000000006},0.49291951383924665,null,0.49291951383924665,null,0.24296964712351926,null,0.40366471321502162,0.40350271150599415,1,null,0.40350271150599415]
[{"$f":"A808+Model!$C$48","v":0.7960000000000006},0.49265258280579155,null,0.49265258280579155,null,0.24270656734521731,null,0.40390755132225598,0,0,null,0.40350271150599415]
[{"$f":"A809+Model!$C$48","v":0.7970000000000006},0.49238608074131263,null,0.49238608074131263,null,0.24244405250779044,null,0.40415012663218247,0.40398847541372235,1,null,0.40398847541372235]
[{"$f":"A810+Model!$C$48","v":0.7980000000000006},0.49212000651156174,null,0.49212000651156174,null,0.24218210080893957,null,0.40439243970884081,0,0,null,0.40398847541372235]
[{"$f":"A811+Model!$C$48","v":0.7990000000000006},0.49185435898642432,null,0.49185435898642432,null,0.24192071045394636,null,0.40463449111447225,0.40447318888427203,1,null,0.40447318888427203]
[{"$f":"A812+Model!$C$48","v":0.8000000000000006},0.49158913703990026,null,0.49158913703990026,null,0.24165987965563385,null,0.40487628140952703,0,0,null,0.40447318888427203]
[{"$f":"A813+Model!$C$48","v":0.8010000000000006},0.49132433955008536,null,0.49132433955008536,null,0.24139960663432758,null,0.40511781115267204,0.40495685641798107,1,null,0.40495685641798107]
[{"$f":"A814+Model!$C$48","v":0.8020000000000006},0.49105996539915248,null,0.49105996539915248,null,0.24113988961781682,null,0.40535908090079809,0,0,null,0.40495685641798107]
[{"$f":"A815+Model!$C$48","v":0.8030000000000006},0.49079601347333224,null,0.49079601347333224,null,0.24088072684131531,null,0.40560009120902762,0.40543948248657208,1,null,0.40543948248657208]
[{"$f":"A816+Model!$C$48","v":0.8040000000000006},0.49053248266289518,null,0.49053248266289518,null,0.24062211654742355,null,0.40584084263072201,0,0,null,0.40543948248657208]
[{"$f":"A817+Model!$C$48","v":0.8050000000000006},0.4902693718621326,null,0.4902693718621326,null,0.24036405698609006,null,0.40608133571748878,0.40592107153339213,1,null,0.40592107153339213]
[{"$f":"A818+Model!$C$48","v":0.8060000000000006},0.49000667996933905,null,0.49000667996933905,null,0.24010654641457427,null,0.40632157101918909,0,0,null,0.40592107153339213]
[{"$f":"A819+Model!$C$48","v":0.80700000000000061},0.48974440588679363,null,0.48974440588679363,null,0.23984958309740848,null,0.4065615490839451,0.40640162797364998,1,null,0.40640162797364998]
[{"$f":"A820+Model!$C$48","v":0.80800000000000061},0.48948254852074136,null,0.48948254852074136,null,0.23959316530635991,null,0.40680127045814696,0,0,null,0.40640162797364998]
[{"$f":"A821+Model!$C$48","v":0.80900000000000061},0.48922110678137565,null,0.48922110678137565,null,0.23933729132039416,null,0.40704073568646032,0.40688115619465076,1,null,0.40688115619465076]
[{"$f":"A822+Model!$C$48","v":0.81000000000000061},0.48896007958282006,null,0.48896007958282006,null,0.23908195942563773,null,0.40727994531183331,0,0,null,0.40688115619465076]
[{"$f":"A823+Model!$C$48","v":0.81100000000000061},0.48869946584311086,null,0.48869946584311086,null,0.23882716791534186,null,0.40751889987550383,0.4073596605560284,1,null,0.4073596605560284]
[{"$f":"A824+Model!$C$48","v":0.81200000000000061},0.48843926448417874,null,0.48843926448417874,null,0.23857291508984552,null,0.40775759991700644,0,0,null,0.4073596605560284]
[{"$f":"A825+Model!$C$48","v":0.81300000000000061},0.48817947443183102,null,0.48817947443183102,null,0.23831919925653874,null,0.40799604597417966,0.4078371453899754,1,null,0.4078371453899754]
[{"$f":"A826+Model!$C$48","v":0.81400000000000061},0.48792009461573466,null,0.48792009461573466,null,0.23806601872982747,null,0.40823423858317281,0,0,null,0.4078371453899754]
[{"$f":"A827+Model!$C$48","v":0.81500000000000061},0.48766112396939848,null,0.48766112396939848,null,0.23781337183109702,null,0.40847217827845328,0.40831361500147068,1,null,0.40831361500147068]
[{"$f":"A828+Model!$C$48","v":0.81600000000000061},0.48740256143015526,null,0.48740256143015526,null,0.23756125688867627,null,0.40870986559281319,0,0,null,0.40831361500147068]
[{"$f":"A829+Model!$C$48","v":0.81700000000000061},0.4871444059391451,null,0.4871444059391451,null,0.23730967223780258,null,0.40894730105737642,0.40878907366850459,1,null,0.40878907366850459]
[{"$f":"A830+Model!$C$48","v":0.81800000000000062},0.48688665644129825,null,0.48688665644129825,null,0.2370586162205868,null,0.40918448520160561,0,0,null,0.40878907366850459]
[{"$f":"A831+Model!$C$48","v":0.81900000000000062},0.48662931188531722,null,0.48662931188531722,null,0.23680808718597735,null,0.40942141855330888,0.40926352564230206,1,null,0.40926352564230206]
[{"$f":"A832+Model!$C$48","v":0.82000000000000062},0.48637237122366078,null,0.48637237122366078,null,0.23655808348972648,null,0.40965810163864674,0,0,null,0.40926352564230206]
[{"$f":"A833+Model!$C$48","v":0.82100000000000062},0.48611583341252601,null,0.48611583341252601,null,0.23630860349435473,null,0.40989453498213879,0.4097369751475432,1,null,0.4097369751475432]
[{"$f":"A834+Model!$C$48","v":0.82200000000000062},0.48585969741183177,null,0.48585969741183177,null,0.23605964556911674,null,0.41013071910667054,0,0,null,0.4097369751475432]
[{"$f":"A835+Model!$C$48","v":0.82300000000000062},0.48560396218520285,null,0.48560396218520285,null,0.23581120808996792,null,0.41036665453350007,0.41020942638258173,1,null,0.41020942638258173]
[{"$f":"A836+Model!$C$48","v":0.82400000000000062},0.48534862669995205,null,0.48534862669995205,null,0.23556328943952939,null,0.41060234178226485,0,0,null,0.41020942638258173]
[{"$f":"A837+Model!$C$48","v":0.82500000000000062},0.48509368992706392,null,0.48509368992706392,null,0.23531588800705444,null,0.41083778137098814,0.41068088351966137,1,null,0.41068088351966137]
[{"$f":"A838+Model!$C$48","v":0.82600000000000062},0.4848391508411789,null,0.4848391508411789,null,0.23506900218839544,null,0.41107297381608587,0,0,null,0.41068088351966137]
[{"$f":"A839+Model!$C$48","v":0.82700000000000062},0.48458500842057606,null,0.48458500842057606,null,0.23482263038596976,null,0.41130791963237306,0.4111513507051297,1,null,0.4111513507051297]
[{"$f":"A840+Model!$C$48","v":0.82800000000000062},0.4843312616471574,null,0.4843312616471574,null,0.23457677100872723,null,0.4115426193330704,0,0,null,0.4111513507051297]
[{"$f":"A841+Model!$C$48","v":0.82900000000000063},0.48407790950643137,null,0.48407790950643137,null,0.23433142247211675,null,0.41177707342981085,0.41162083205965017,1,null,0.41162083205965017]
[{"$f":"A842+Model!$C$48","v":0.83000000000000063},0.48382495098749689,null,0.48382495098749689,null,0.23408658319805378,null,0.41201128243264595,0,0,null,0.41162083205965017]
[{"$f":"A843+Model!$C$48","v":0.83100000000000063},0.4835723850830268,null,0.4835723850830268,null,0.23384225161488717,null,0.41224524685005243,0.41208933167841166,1,null,0.41208933167841166]
[{"$f":"A844+Model!$C$48","v":0.83200000000000063},0.4833202107892528,null,0.4833202107892528,null,{"$f":"B845*D845","v":0.23359842615736776},null,0.41247896718893856,0,0,null,0.41208933167841166]
[{"$f":"A845+Model!$C$48","v":0.83300000000000063},{"$f":"IF($B$10>0,ERF($B$10/SQRT(A846)),-ERF(-$B$10/SQRT(A846)))","v":0.48306842710594894},null,{"$f":"ERF($B$11/SQRT(A846))","v":0.48306842710594894},null,0.23335510526661551,null,{"$f":"0.5*(F846+F845)*(A846-A845)+H845","v":0.41271244395465057},0.41255685363133643,1,null,0.41255685363133643]
[{"$f":"A846+Model!$C$48","v":0.83400000000000063},0.48281703303641549,null,0.48281703303641549,null,0.23311228739008713,null,0.41294567765097889,0,{"$f":"IF(J846=1,0,1)","v":0},null,0.41255685363133643]
[{"$f":"A847+Model!$C$48","v":0.83500000000000063},0.48256602758746409,null,0.48256602758746409,null,0.23286997098154516,null,0.41317866878016468,0.4130234019632853,1,null,0.4130234019632853]
[{"$f":"A848+Model!$C$48","v":0.83600000000000063},0.4823154097694014,null,0.4823154097694014,null,0.23262815450102559,null,0.41341141784290597,{"$f":"(I847+((A849-A848)/3)*(4*F847+2*F848))*J849","v":0},0,null,{"$f":"IF(J849=1,I849,I848)","v":0.4130234019632853}]
[{"$f":"A849+Model!$C$48","v":0.83700000000000063},0.48206517859601428,null,0.48206517859601428,null,0.23238683641480715,null,0.41364392533836386,0.41348898069426138,1,null,0.41348898069426138]
[{"$f":"A850+Model!$C$48","v":0.83800000000000063},0.48181533308455365,null,0.48181533308455365,null,0.23214601519537939,null,0.41387619176416895,0,0,null,0.41348898069426138]
[{"$f":"A851+Model!$C$48","v":0.83900000000000063},0.48156587225571929,null,0.48156587225571929,null,0.23190568932141176,null,0.41410821761642735,0.41395359381961139,1,null,0.41395359381961139]
[{"$f":"A852+Model!$C$48","v":0.84000000000000064},0.481316795133645,null,0.481316795133645,null,0.23166585727772321,null,0.41434000338972693,0,0,null,0.41395359381961139]
[{"$f":"A853+Model!$C$48","v":0.84100000000000064},0.48106810074588224,null,0.48106810074588224,null,0.23142651755525032,null,0.41457154957714343,0.41441724531022511,1,null,0.41441724531022511]
[{"$f":"A854+Model!$C$48","v":0.84200000000000064},0.48081978812338599,null,0.48081978812338599,null,0.23118766865101781,null,0.41480285667024658,0,0,null,0.41441724531022511]
[{"$f":"A855+Model!$C$48","v":0.84300000000000064},0.48057185630050053,null,0.48057185630050053,null,0.23094930906810893,null,0.41503392515910614,0.4148799391127328,1,null,0.4148799391127328]
[{"$f":"A856+Model!$C$48","v":0.84400000000000064},0.48032430431494155,null,0.48032430431494155,null,0.23071143731563257,null,0.41526475553229802,0,0,null,0.4148799391127328]
[{"$f":"A857+Model!$C$48","v":0.84500000000000064},0.48007713120778478,null,0.48007713120778478,null,0.2304740519086966,null,0.4154953482769102,0.41534167914970072,1,null,0.41534167914970072]
[{"$f":"A858+Model!$C$48","v":0.84600000000000064},0.47983033602344816,null,0.47983033602344816,null,0.23023715136837516,null,0.41572570387854874,0,0,null,0.41534167914970072]
[{"$f":"A859+Model!$C$48","v":0.84700000000000064},0.47958391780967946,null,0.47958391780967946,null,0.23000073422168138,null,0.41595582282134375,0.41580246931982456,1,null,0.41580246931982456]
[{"$f":"A860+Model!$C$48","v":0.84800000000000064},0.47933787561753982,null,0.47933787561753982,null,0.22976479900153607,null,0.41618570558795537,0,0,null,0.41580246931982456]
[{"$f":"A861+Model!$C$48","v":0.84900000000000064},0.47909220850139012,null,0.47909220850139012,null,0.22952934424673946,null,0.41641535265957952,0.41626231349812115,1,null,0.41626231349812115]
[{"$f":"A862+Model!$C$48","v":0.85000000000000064},0.47884691551887693,null,0.47884691551887693,null,0.22929436850194246,null,0.41664476451595384,0,0,null,0.41626231349812115]
[{"$f":"A863+Model!$C$48","v":0.85100000000000064},0.478601995730916,null,0.478601995730916,null,0.22905987031761574,null,0.41687394163536362,0.41672121553611807,1,null,0.41672121553611807]
[{"$f":"A864+Model!$C$48","v":0.85200000000000065},0.47835744820168052,null,0.47835744820168052,null,0.22882584825002347,null,0.41710288449464744,0,0,null,0.41672121553611807]
[{"$f":"A865+Model!$C$48","v":0.85300000000000065},0.47811327199858517,null,0.47811327199858517,null,0.22859230086119309,null,0.41733159356920307,0.41717917926204157,1,null,0.41717917926204157]
[{"$f":"A866+Model!$C$48","v":0.85400000000000065},0.47786946619227261,null,0.47786946619227261,null,0.22835922671888756,null,0.41756006933299311,0,0,null,0.41717917926204157]
[{"$f":"A867+Model!$C$48","v":0.85500000000000065},0.47762602985659897,null,0.47762602985659897,null,0.22812662439657677,null,0.41778831225855084,0.41763620848100241,1,null,0.41763620848100241]
[{"$f":"A868+Model!$C$48","v":0.85600000000000065},0.47738296206861969,null,0.47738296206861969,null,0.22789449247340918,null,0.41801632281698581,0,0,null,0.41763620848100241]
[{"$f":"A869+Model!$C$48","v":0.85700000000000065},0.47714026190857606,null,0.47714026190857606,null,0.22766282953418457,null,0.41824410147798963,0.41809230697518013,1,null,0.41809230697518013]
[{"$f":"A870+Model!$C$48","v":0.85800000000000065},0.47689792845988133,null,0.47689792845988133,null,0.22743163416932607,null,0.41847164870984138,0,0,null,0.41809230697518013]
[{"$f":"A871+Model!$C$48","v":0.85900000000000065},0.47665596080910588,null,0.47665596080910588,null,0.22720090497485187,null,0.41869896497941345,0.41854747850400525,1,null,0.41854747850400525]
[{"$f":"A872+Model!$C$48","v":0.86000000000000065},0.4764143580459646,null,0.4764143580459646,null,0.22697064055234856,null,0.41892605075217704,0,0,null,0.41854747850400525]
[{"$f":"A873+Model!$C$48","v":0.86100000000000065},0.47617311926330252,null,0.47617311926330252,null,0.22674083950894333,null,0.41915290649220771,0.41900172680433995,1,null,0.41900172680433995]
[{"$f":"A874+Model!$C$48","v":0.86200000000000065},0.47593224355708175,null,0.47593224355708175,null,0.22651150045727739,null,0.4193795326621908,0,0,null,0.41900172680433995]
[{"$f":"A875+Model!$C$48","v":0.86300000000000066},0.47569173002636739,null,0.47569173002636739,null,0.22628262201547839,null,0.4196059297234272,0.41945505559065671,1,null,0.41945505559065671]
[{"$f":"A876+Model!$C$48","v":0.86400000000000066},0.47545157777331448,null,0.47545157777331448,null,0.22605420280713412,null,0.41983209813583849,0,0,null,0.41945505559065671]
[{"$f":"A877+Model!$C$48","v":0.86500000000000066},0.47521178590315344,null,0.47521178590315344,null,0.22582624146126454,null,0.42005803835797267,0.41990746855521544,1,null,0.41990746855521544]
[{"$f":"A878+Model!$C$48","v":0.86600000000000066},0.47497235352417871,null,0.47497235352417871,null,0.2255987366122974,null,0.42028375084700947,0,0,null,0.41990746855521544]
[{"$f":"A879+Model!$C$48","v":0.86700000000000066},0.47473327974773383,null,0.47473327974773383,null,0.22537168690004011,null,0.42050923605876567,0.42035896936823863,1,null,0.42035896936823863]
[{"$f":"A880+Model!$C$48","v":0.86800000000000066},0.47449456368819937,null,0.47449456368819937,null,0.22514509096965468,null,0.4207344944477005,0,0,null,0.42035896936823863]
[{"$f":"A881+Model!$C$48","v":0.86900000000000066},0.47425620446297867,null,0.47425620446297867,null,0.22491894747163063,null,0.42095952646692114,0.42080956167808514,1,null,0.42080956167808514]
[{"$f":"A882+Model!$C$48","v":0.87000000000000066},0.47401820119248578,null,0.47401820119248578,null,0.22469325506175991,null,0.42118433256818782,0,0,null,0.42080956167808514]
[{"$f":"A883+Model!$C$48","v":0.87100000000000066},0.47378055300013139,null,0.47378055300013139,null,0.22446801240111031,null,0.42140891320191926,0.42125924911142182,1,null,0.42125924911142182]
[{"$f":"A884+Model!$C$48","v":0.87200000000000066},0.47354325901231153,null,0.47354325901231153,null,0.22424321815600118,null,0.42163326881719781,0,0,null,0.42125924911142182]
[{"$f":"A885+Model!$C$48","v":0.87300000000000066},0.47330631835839293,null,0.47330631835839293,null,0.2240188709979764,null,0.42185739986177478,0.42170803527339396,1,null,0.42170803527339396]
[{"$f":"A886+Model!$C$48","v":0.87400000000000067},0.47306973017070081,null,0.47306973017070081,null,0.22379496960377968,null,0.42208130678207567,0,0,null,0.42170803527339396]
[{"$f":"A887+Model!$C$48","v":0.87500000000000067},0.4728334935845076,null,0.4728334935845076,null,0.2235715126553306,null,0.42230499002320521,0.42215592374779376,1,null,0.42215592374779376]
[{"$f":"A888+Model!$C$48","v":0.87600000000000067},0.47259760773801757,null,0.47259760773801757,null,0.22334849883969712,null,0.42252845002895273,0,0,null,0.42215592374779376]
[{"$f":"A889+Model!$C$48","v":0.87700000000000067},0.47236207177235667,null,0.47236207177235667,null,0.22312592684907304,null,0.42275168724179712,0.42260291809722733,1,null,0.42260291809722733]
[{"$f":"A890+Model!$C$48","v":0.87800000000000067},0.47212688483155851,null,0.47212688483155851,null,0.22290379538075172,null,0.42297470210291205,0,0,null,0.42260291809722733]
[{"$f":"A891+Model!$C$48","v":0.87900000000000067},0.47189204606255253,null,0.47189204606255253,null,0.22268210313710221,null,0.42319749505217097,0.42304902186327992,1,null,0.42304902186327992]
[{"$f":"A892+Model!$C$48","v":0.88000000000000067},0.47165755461515158,null,0.47165755461515158,null,0.2224608488255447,null,0.42342006652815228,0,0,null,0.42304902186327992]
[{"$f":"A893+Model!$C$48","v":0.88100000000000067},0.47142340964203905,null,0.47142340964203905,null,0.22224003115852575,null,0.42364241696814431,0.42349423856667973,1,null,0.42349423856667973]
[{"$f":"A894+Model!$C$48","v":0.88200000000000067},0.47118961029875772,null,0.47118961029875772,null,0.22201964885349518,null,0.42386454680815033,0,0,null,0.42349423856667973]
[{"$f":"A895+Model!$C$48","v":0.88300000000000067},0.47095615574369543,null,0.47095615574369543,null,0.2217997006328799,null,0.4240864564828935,0.42393857170746008,1,null,0.42393857170746008]
[{"$f":"A896+Model!$C$48","v":0.88400000000000067},0.47072304513807578,null,0.47072304513807578,null,0.22158018522406292,null,0.42430814642582199,0,0,null,0.42393857170746008]
[{"$f":"A897+Model!$C$48","v":0.88500000000000068},0.47049027764594409,null,0.47049027764594409,null,0.22136110135935755,null,0.42452961706911369,0.42438202476511994,1,null,0.42438202476511994]
[{"$f":"A898+Model!$C$48","v":0.88600000000000068},0.47025785243415591,null,0.47025785243415591,null,0.22114244777598435,null,0.42475086884368135,0,0,null,0.42438202476511994]
[{"$f":"A899+Model!$C$48","v":0.88700000000000068},0.47002576867236417,null,0.47002576867236417,null,0.22092422321604679,null,0.42497190217917735,0.42482460119878307,1,null,0.42482460119878307]
[{"$f":"A900+Model!$C$48","v":0.88800000000000068},0.46979402553300875,null,0.46979402553300875,null,0.22070642642650928,null,0.42519271750399862,0,0,null,0.42482460119878307]
[{"$f":"A901+Model!$C$48","v":0.88900000000000068},0.4695626221913044,null,0.4695626221913044,null,0.22048905615917369,null,0.42541331524529147,0.42526630444735547,1,null,0.42526630444735547]
[{"$f":"A902+Model!$C$48","v":0.89000000000000068},0.46933155782522784,null,0.46933155782522784,null,0.22027211117065518,null,0.42563369582895638,0,0,null,0.42526630444735547]
[{"$f":"A903+Model!$C$48","v":0.89100000000000068},0.46910083161550664,null,0.46910083161550664,null,0.2200555902223599,null,0.42585385967965289,0.42570713792968146,1,null,0.42570713792968146]
[{"$f":"A904+Model!$C$48","v":0.89200000000000068},0.46887044274560841,null,0.46887044274560841,null,0.21983949208046286,null,0.42607380722080429,0,0,null,0.42570713792968146]
[{"$f":"A905+Model!$C$48","v":0.89300000000000068},0.4686403904017275,null,0.4686403904017275,null,0.21962381551588356,null,0.42629353887460247,0.42614710504469827,1,null,0.42614710504469827]
[{"$f":"A906+Model!$C$48","v":0.89400000000000068},0.46841067377277501,null,0.46841067377277501,null,0.21940855930426506,null,0.42651305506201254,0,0,null,0.42614710504469827]
[{"$f":"A907+Model!$C$48","v":0.89500000000000068},0.46818129205036624,null,0.46818129205036624,null,0.21919372222595032,null,0.42673235620277766,0.42658620917158896,1,null,0.42658620917158896]
[{"$f":"A908+Model!$C$48","v":0.89600000000000068},0.46795224442880962,null,0.46795224442880962,null,{"$f":"B909*D909","v":0.21897930306596039},null,0.42695144271542362,0,0,null,0.42658620917158896]
[{"$f":"A909+Model!$C$48","v":0.89700000000000069},{"$f":"IF($B$10>0,ERF($B$10/SQRT(A910)),-ERF(-$B$10/SQRT(A910)))","v":0.46772353010509604},null,{"$f":"ERF($B$11/SQRT(A910))","v":0.46772353010509604},null,0.21876530061397267,null,{"$f":"0.5*(F910+F909)*(A910-A909)+H909","v":0.4271703150172636},0.42702445366993419,1,null,0.42702445366993419]
[{"$f":"A910+Model!$C$48","v":0.89800000000000069},0.46749514827888661,null,0.46749514827888661,null,0.21855171366429818,null,0.42738897352440275,0,{"$f":"IF(J910=1,0,1)","v":0},null,0.42702445366993419]
[{"$f":"A911+Model!$C$48","v":0.89900000000000069},0.467267098152501,null,0.467267098152501,null,0.21833854101585901,null,0.42760741865174284,0.42746184187986236,1,null,0.42746184187986236]
[{"$f":"A912+Model!$C$48","v":0.90000000000000069},0.46703937893090769,null,0.46703937893090769,null,0.21812578147216799,null,0.42782565081298685,{"$f":"(I911+((A913-A912)/3)*(4*F911+2*F912))*J913","v":0},0,null,{"$f":"IF(J913=1,I913,I912)","v":0.42746184187986236}]
[{"$f":"A913+Model!$C$48","v":0.90100000000000069},0.46681198982171179,null,0.46681198982171179,null,0.21791343384130596,null,0.42804367042064356,0.4278983771221983,1,null,0.4278983771221983]
[{"$f":"A914+Model!$C$48","v":0.90200000000000069},0.46658493003514395,null,0.46658493003514395,null,0.21770149693590019,null,0.42826147788603219,0,0,null,0.4278983771221983]
[{"$f":"A915+Model!$C$48","v":0.90300000000000069},0.46635819878405027,null,0.46635819878405027,null,0.21748996957310374,null,0.42847907361928672,0.42833406269861063,1,null,0.42833406269861063]
[{"$f":"A916+Model!$C$48","v":0.90400000000000069},0.46613179528387999,null,0.46613179528387999,null,0.217278850574573,null,0.42869645802936057,0,0,null,0.42833406269861063]
[{"$f":"A917+Model!$C$48","v":0.90500000000000069},0.4659057187526755,null,0.4659057187526755,null,0.21706813876644718,null,0.42891363152403106,0.42876890189175781,1,null,0.42876890189175781]
[{"$f":"A918+Model!$C$48","v":0.90600000000000069},0.46567996841106118,null,0.46567996841106118,null,0.21685783297932695,null,0.42913059450990393,0,0,null,0.42876890189175781]
[{"$f":"A919+Model!$C$48","v":0.90700000000000069},0.4654545434822327,null,0.4654545434822327,null,0.21664793204825364,null,0.4293473473924177,0.42920289796543265,1,null,0.42920289796543265]
[{"$f":"A920+Model!$C$48","v":0.9080000000000007},0.46522944319194598,null,0.46522944319194598,null,0.2164384348126881,null,0.42956389057584815,0,0,null,0.42920289796543265]
[{"$f":"A921+Model!$C$48","v":0.9090000000000007},0.46500466676850688,null,0.46500466676850688,null,0.21622934011649012,null,0.42978022446331277,0.42963605416470546,1,null,0.42963605416470546]
[{"$f":"A922+Model!$C$48","v":0.9100000000000007},0.46478021344275994,null,0.46478021344275994,null,0.21602064680789748,null,0.42999634945677495,0,0,null,0.42963605416470546]
[{"$f":"A923+Model!$C$48","v":0.9110000000000007},0.46455608244807894,null,0.46455608244807894,null,0.21581235373950633,null,0.43021226595704865,0.43006837371606604,1,null,0.43006837371606604]
[{"$f":"A924+Model!$C$48","v":0.9120000000000007},0.46433227302035462,null,0.46433227302035462,null,0.21560445976824916,null,0.43042797436380253,0,0,null,0.43006837371606604]
[{"$f":"A925+Model!$C$48","v":0.9130000000000007},0.46410878439798597,null,0.46410878439798597,null,0.21539696375537623,null,0.43064347507556433,0.43049985982756422,1,null,0.43049985982756422]
[{"$f":"A926+Model!$C$48","v":0.9140000000000007},0.46388561582186899,null,0.46388561582186899,null,0.21518986456643463,null,0.43085876848972526,0,0,null,0.43049985982756422]
[{"$f":"A927+Model!$C$48","v":0.9150000000000007},0.46366276653538591,null,0.46366276653538591,null,0.21498316107124776,null,0.43107385500254408,0.43093051568894902,1,null,0.43093051568894902]
[{"$f":"A928+Model!$C$48","v":0.9160000000000007},0.46344023578439536,null,0.46344023578439536,null,0.21477685214389597,null,0.43128873500915166,0,0,null,0.43093051568894902]
[{"$f":"A929+Model!$C$48","v":0.9170000000000007},0.46321802281722207,null,0.46321802281722207,null,0.21457093666269647,null,0.43150340890355493,0.4313603444718066,1,null,0.4313603444718066]
[{"$f":"A930+Model!$C$48","v":0.9180000000000007},0.46299612688464664,null,0.46299612688464664,null,0.21436541351018382,null,0.43171787707864134,0,0,null,0.4313603444718066]
[{"$f":"A931+Model!$C$48","v":0.91900000000000071},0.46277454723989531,null,0.46277454723989531,null,0.21416028157309008,null,0.43193213992618296,0.43178934932969698,1,null,0.43178934932969698]
[{"$f":"A932+Model!$C$48","v":0.92000000000000071},0.46255328313862959,null,0.46255328313862959,null,0.21395553974232523,null,0.43214619783684066,0,0,null,0.43178934932969698]
[{"$f":"A933+Model!$C$48","v":0.92100000000000071},0.46233233383893652,null,0.46233233383893652,null,0.21375118691295783,null,0.43236005120016829,0.43221753339828933,1,null,0.43221753339828933]
[{"$f":"A934+Model!$C$48","v":0.92200000000000071},0.46211169860131851,null,0.46211169860131851,null,0.21354722198419585,null,0.43257370040461685,0,0,null,0.43221753339828933]
[{"$f":"A935+Model!$C$48","v":0.92300000000000071},0.46189137668868357,null,0.46189137668868357,null,0.21334364385936738,null,0.43278714583753863,0.43264489979549609,1,null,0.43264489979549609]
[{"$f":"A936+Model!$C$48","v":0.92400000000000071},0.46167136736633502,null,0.46167136736633502,null,0.21314045144590146,null,0.4330003878851913,0,0,null,0.43264489979549609]
[{"$f":"A937+Model!$C$48","v":0.92500000000000071},0.46145166990196151,null,0.46145166990196151,null,0.21293764365530884,null,0.4332134269327419,0.43307145162160582,1,null,0.43307145162160582]
[{"$f":"A938+Model!$C$48","v":0.92600000000000071},0.46123228356562784,null,0.46123228356562784,null,0.21273521940316373,null,0.43342626336427115,0,0,null,0.43307145162160582]
[{"$f":"A939+Model!$C$48","v":0.92700000000000071},0.46101320762976505,null,0.46101320762976505,null,0.21253317760908486,null,0.43363889756277729,0.433497191959415,1,null,0.433497191959415]
[{"$f":"A940+Model!$C$48","v":0.92800000000000071},0.46079444136915948,null,0.46079444136915948,null,0.21233151719671575,null,0.43385132991018022,0,0,null,0.433497191959415]
[{"$f":"A941+Model!$C$48","v":0.92900000000000071},0.46057598406094524,null,0.46057598406094524,null,0.2121302370937081,null,0.43406356078732544,0.43392212387435825,1,null,0.43392212387435825]
[{"$f":"A942+Model!$C$48","v":0.93000000000000071},0.46035783498459204,null,0.46035783498459204,null,0.21192933623170088,null,0.43427559057398812,0,0,null,0.43392212387435825]
[{"$f":"A943+Model!$C$48","v":0.93100000000000072},0.46013999342189826,null,0.46013999342189826,null,0.21172881354630457,null,0.4344874196488771,0.43434625041463765,1,null,0.43434625041463765]
[{"$f":"A944+Model!$C$48","v":0.93200000000000072},0.45992245865697928,null,0.45992245865697928,null,0.21152866797708081,null,0.4346990483896388,0,0,null,0.43434625041463765]
[{"$f":"A945+Model!$C$48","v":0.93300000000000072},0.45970522997625907,null,0.45970522997625907,null,0.21132889846752523,null,0.43491047717286108,0.4347695746113508,1,null,0.4347695746113508]
[{"$f":"A946+Model!$C$48","v":0.93400000000000072},0.45948830666846008,null,0.45948830666846008,null,0.21112950396504881,null,0.43512170637407738,0,0,null,0.4347695746113508]
[{"$f":"A947+Model!$C$48","v":0.93500000000000072},0.45927168802459495,null,0.45927168802459495,null,0.21093048342096088,null,0.43533273636777037,0.43519209947861753,1,null,0.43519209947861753]
[{"$f":"A948+Model!$C$48","v":0.93600000000000072},0.45905537333795576,null,0.45905537333795576,null,0.21073183579044993,null,0.43554356752737605,0,0,null,0.43519209947861753]
[{"$f":"A949+Model!$C$48","v":0.93700000000000072},0.45883936190410568,null,0.45883936190410568,null,0.21053356003256687,null,0.43575420022528755,0.43561382801370579,1,null,0.43561382801370579]
[{"$f":"A950+Model!$C$48","v":0.93800000000000072},0.45862365302086905,null,0.45862365302086905,null,0.21033565511020649,null,0.43596463483285891,0,0,null,0.43561382801370579]
[{"$f":"A951+Model!$C$48","v":0.93900000000000072},0.45840824598832336,null,0.45840824598832336,null,0.21013811999009119,null,0.43617487172040909,0.43603476319715601,1,null,0.43603476319715601]
[{"$f":"A952+Model!$C$48","v":0.94000000000000072},0.45819314010878853,null,0.45819314010878853,null,0.20994095364275192,null,0.43638491125722551,0,0,null,0.43603476319715601]
[{"$f":"A953+Model!$C$48","v":0.94100000000000072},0.45797833468681826,null,0.45797833468681826,null,0.20974415504251132,null,0.43659475381156815,0.43645490799290465,1,null,0.43645490799290465]
[{"$f":"A954+Model!$C$48","v":0.94200000000000073},0.45776382902919194,null,0.45776382902919194,null,0.20954772316746725,null,0.43680439975067314,0,0,null,0.43645490799290465]
[{"$f":"A955+Model!$C$48","v":0.94300000000000073},0.4575496224449046,null,0.4575496224449046,null,0.20935165699947475,null,0.43701384944075661,0.43687426534840629,1,null,0.43687426534840629]
[{"$f":"A956+Model!$C$48","v":0.94400000000000073},0.45733571424515812,null,0.45733571424515812,null,0.20915595552412891,null,0.43722310324701841,0,0,null,0.43687426534840629]
[{"$f":"A957+Model!$C$48","v":0.94500000000000073},0.45712210374335194,null,0.45712210374335194,null,0.20896061773074781,null,0.43743216153364584,0.43729283819475501,1,null,0.43729283819475501]
[{"$f":"A958+Model!$C$48","v":0.94600000000000073},0.4569087902550748,null,0.4569087902550748,null,0.20876564261235594,null,0.43764102466381738,0,0,null,0.43729283819475501]
[{"$f":"A959+Model!$C$48","v":0.94700000000000073},0.45669577309809617,null,0.45669577309809617,null,0.20857102916566775,null,0.43784969299970639,0.43771062944680422,1,null,0.43771062944680422]
[{"$f":"A960+Model!$C$48","v":0.94800000000000073},0.45648305159235608,null,0.45648305159235608,null,0.20837677639106963,null,0.43805816690248478,0,0,null,0.43771062944680422]
[{"$f":"A961+Model!$C$48","v":0.94900000000000073},0.45627062505995752,null,0.45627062505995752,null,0.20818288329260434,null,0.43826644673232662,0.4381276420032858,1,null,0.4381276420032858]
[{"$f":"A962+Model!$C$48","v":0.95000000000000073},0.45605849282515754,null,0.45605849282515754,null,0.20798934887795426,null,0.43847453284841192,0,0,null,0.4381276420032858]
[{"$f":"A963+Model!$C$48","v":0.95100000000000073},0.45584665421435744,null,0.45584665421435744,null,0.20779617215842397,null,0.43868242560893012,0.43854387874692791,1,null,0.43854387874692791]
[{"$f":"A964+Model!$C$48","v":0.95200000000000073},0.45563510855609607,null,0.45563510855609607,null,0.20760335214892545,null,0.43889012537108379,0,0,null,0.43854387874692791]
[{"$f":"A965+Model!$C$48","v":0.95300000000000074},0.45542385518103989,null,0.45542385518103989,null,0.2074108878679608,null,0.43909763249109224,0.43895934254457175,1,null,0.43895934254457175]
[{"$f":"A966+Model!$C$48","v":0.95400000000000074},0.45521289342197419,null,0.45521289342197419,null,0.20721877833760563,null,0.43930494732419501,0,0,null,0.43895934254457175]
[{"$f":"A967+Model!$C$48","v":0.95500000000000074},0.45500222261379603,null,0.45500222261379603,null,0.2070270225834944,null,0.43951207022465555,0.43937403624728744,1,null,0.43937403624728744]
[{"$f":"A968+Model!$C$48","v":0.95600000000000074},0.45479184209350337,null,0.45479184209350337,null,0.2068356196348021,null,0.43971900154576471,0,0,null,0.43937403624728744]
[{"$f":"A969+Model!$C$48","v":0.95700000000000074},0.45458175120018973,null,0.45458175120018973,null,0.20664456852423119,null,0.43992574163984421,0.43978796269048864,1,null,0.43978796269048864]
[{"$f":"A970+Model!$C$48","v":0.95800000000000074},0.45437194927503255,null,0.45437194927503255,null,0.20645386828799275,null,0.44013229085825034,0,0,null,0.43978796269048864]
[{"$f":"A971+Model!$C$48","v":0.95900000000000074},0.45416243566128744,null,0.45416243566128744,null,0.20626351796579306,null,0.44033864955137725,0.44020112469404626,1,null,0.44020112469404626]
[{"$f":"A972+Model!$C$48","v":0.96000000000000074},0.45395320970427866,null,0.45395320970427866,null,{"$f":"B973*D973","v":0.2060735166008168},null,0.44054481806866053,0,0,null,0.44020112469404626]
[{"$f":"A973+Model!$C$48","v":0.96100000000000074},{"$f":"IF($B$10>0,ERF($B$10/SQRT(A974)),-ERF(-$B$10/SQRT(A974)))","v":0.45374427075139045},null,{"$f":"ERF($B$11/SQRT(A974))","v":0.45374427075139045},null,0.20588386323971114,null,{"$f":"0.5*(F974+F973)*(A974-A973)+H973","v":0.44075079675858081},0.4406135250624012,1,null,0.4406135250624012]
[{"$f":"A974+Model!$C$48","v":0.96200000000000074},0.45353561815206,null,0.45353561815206,null,0.20569455693257119,null,0.44095658596866694,0,{"$f":"IF(J974=1,0,1)","v":0},null,0.4406135250624012]
[{"$f":"A975+Model!$C$48","v":0.96300000000000074},0.4533272512577679,null,0.4533272512577679,null,0.20550559673292343,null,0.44116218604549967,0.44102516658467589,1,null,0.44102516658467589]
[{"$f":"A976+Model!$C$48","v":0.96400000000000075},0.45311916942203151,null,0.45311916942203151,null,0.2053169816977117,null,0.44136759733471498,{"$f":"(I975+((A977-A976)/3)*(4*F975+2*F976))*J977","v":0},0,null,{"$f":"IF(J977=1,I977,I976)","v":0.44102516658467589}]
[{"$f":"A977+Model!$C$48","v":0.96500000000000075},0.45291137200039489,null,0.45291137200039489,null,0.20512871088728007,null,0.44157282018100746,0.44143605203478492,1,null,0.44143605203478492]
[{"$f":"A978+Model!$C$48","v":0.96600000000000075},0.45270385835042304,null,0.45270385835042304,null,0.2049407833653599,null,0.44177785492813376,0,0,null,0.44143605203478492]
[{"$f":"A979+Model!$C$48","v":0.96700000000000075},0.45249662783169142,null,0.45249662783169142,null,0.20475319819905224,null,0.44198270191891598,0.44184618417154486,1,null,0.44184618417154486]
[{"$f":"A980+Model!$C$48","v":0.96800000000000075},0.45228967980578039,null,0.45228967980578039,null,0.20456595445881534,null,0.4421873614952449,0,0,null,0.44184618417154486]
[{"$f":"A981+Model!$C$48","v":0.96900000000000075},0.45208301363626519,null,0.45208301363626519,null,0.20437905121844754,null,0.44239183399808352,0.44225556573878283,1,null,0.44225556573878283]
[{"$f":"A982+Model!$C$48","v":0.97000000000000075},0.45187662868870826,null,0.45187662868870826,null,0.20419248755507272,null,0.44259611976747026,0,0,null,0.44225556573878283]
[{"$f":"A983+Model!$C$48","v":0.97100000000000075},0.45167052433065358,null,0.45167052433065358,null,0.20400626254912752,null,0.44280021914252238,0.44266419946544416,1,null,0.44266419946544416]
[{"$f":"A984+Model!$C$48","v":0.97200000000000075},0.45146469993161614,null,0.45146469993161614,null,0.20382037528434421,null,0.4430041324614391,0,0,null,0.44266419946544416]
[{"$f":"A985+Model!$C$48","v":0.97300000000000075},0.45125915486307466,null,0.45125915486307466,null,0.2036348248477364,null,0.44320786006150514,0.44307208806569925,1,null,0.44307208806569925]
[{"$f":"A986+Model!$C$48","v":0.97400000000000075},0.45105388849846578,null,0.45105388849846578,null,0.20344961032958642,null,0.44341140227909381,0,0,null,0.44307208806569925]
[{"$f":"A987+Model!$C$48","v":0.97500000000000075},0.45084890021317292,null,0.45084890021317292,null,0.20326473082342755,null,0.44361475944967033,0.44347923423904928,1,null,0.44347923423904928]
[{"$f":"A988+Model!$C$48","v":0.97600000000000076},0.45064418938452233,null,0.45064418938452233,null,0.20308018542603323,null,0.44381793190779506,0,0,null,0.44347923423904928]
[{"$f":"A989+Model!$C$48","v":0.97700000000000076},0.45043975539177217,null,0.45043975539177217,null,0.20289597323739955,null,0.44402091998712678,0.44388564067043118,1,null,0.44388564067043118]
[{"$f":"A990+Model!$C$48","v":0.97800000000000076},0.45023559761610737,null,0.45023559761610737,null,0.20271209336073334,null,0.44422372402042587,0,0,null,0.44388564067043118]
[{"$f":"A991+Model!$C$48","v":0.97900000000000076},0.45003171544062998,null,0.45003171544062998,null,0.20252854490243616,null,0.44442634433955747,0.44429131003032152,1,null,0.44429131003032152]
[{"$f":"A992+Model!$C$48","v":0.98000000000000076},0.44982810825035346,null,0.44982810825035346,null,0.2023453269720917,null,0.44462878127549471,0,0,null,0.44429131003032152]
[{"$f":"A993+Model!$C$48","v":0.98100000000000076},0.4496247754321937,null,0.4496247754321937,null,0.20216243868245062,null,0.44483103515832201,0.44469624497483951,1,null,0.44469624497483951]
[{"$f":"A994+Model!$C$48","v":0.98200000000000076},0.44942171637496242,null,0.44942171637496242,null,0.20197987914941717,null,0.44503310631723791,0,0,null,0.44469624497483951]
[{"$f":"A995+Model!$C$48","v":0.98300000000000076},0.44921893046935907,null,0.44921893046935907,null,0.20179764749203485,null,0.44523499508055864,0.44510044814584904,1,null,0.44510044814584904]
[{"$f":"A996+Model!$C$48","v":0.98400000000000076},0.44901641710796436,null,0.44901641710796436,null,0.20161574283247344,null,0.44543670177572087,0,0,null,0.44510044814584904]
[{"$f":"A997+Model!$C$48","v":0.98500000000000076},0.44881417568523158,null,0.44881417568523158,null,0.20143416429601391,null,0.4456382267292851,0.44550392217106005,1,null,0.44550392217106005]
[{"$f":"A998+Model!$C$48","v":0.98600000000000076},0.44861220559748055,null,0.44861220559748055,null,0.20125291101103615,null,0.4458395702669386,0,0,null,0.44550392217106005]
[{"$f":"A999+Model!$C$48","v":0.98700000000000077},0.44841050624288925,null,0.44841050624288925,null,0.20107198210900423,null,0.44604073271349864,0.44590666966412879,1,null,0.44590666966412879]
[{"$f":"A1000+Model!$C$48","v":0.98800000000000077},0.44820907702148743,null,0.44820907702148743,null,0.20089137672445365,null,0.44624171439291538,0,0,null,0.44590666966412879]
[{"$f":"A1001+Model!$C$48","v":0.98900000000000077},0.44800791733514828,null,0.44800791733514828,null,0.20071109399497705,null,0.44644251562827508,0.44630869322475708,1,null,0.44630869322475708]
[{"$f":"A1002+Model!$C$48","v":0.99000000000000077},0.44780702658758292,null,0.44780702658758292,null,0.2005311330612122,null,0.44664313674180317,0,0,null,0.44630869322475708]
[{"$f":"A1003+Model!$C$48","v":0.99100000000000077},0.44760640418433156,null,0.44760640418433156,null,0.2003514930668272,null,0.44684357805486719,0.4467099954387912,1,null,0.4467099954387912]
[{"$f":"A1004+Model!$C$48","v":0.99200000000000077},0.44740604953275687,null,0.44740604953275687,null,0.20017217315850769,null,0.44704383988797985,0,0,null,0.4467099954387912]
[{"$f":"A1005+Model!$C$48","v":0.99300000000000077},0.447205962042037,null,0.447205962042037,null,0.19999317248594384,null,0.44724392256080209,0.44711057887831929,1,null,0.44711057887831929]
[{"$f":"A1006+Model!$C$48","v":0.99400000000000077},0.44700614112315884,null,0.44700614112315884,null,0.19981449020181741,null,0.44744382639214597,0,0,null,0.44711057887831929]
[{"$f":"A1007+Model!$C$48","v":0.99500000000000077},0.44680658618891045,null,0.44680658618891045,null,0.19963612546178827,null,0.44764355169997777,0.44751044610176843,1,null,0.44751044610176843]
[{"$f":"A1008+Model!$C$48","v":0.99600000000000077},0.44660729665387455,null,0.44660729665387455,null,0.19945807742448191,null,0.44784309880142092,0,0,null,0.44751044610176843]
[{"$f":"A1009+Model!$C$48","v":0.99700000000000077},0.44640827193442051,null,0.44640827193442051,null,0.19928034525147553,null,0.44804246801275888,0.44790959965400046,1,null,0.44790959965400046]
[{"$f":"A1010+Model!$C$48","v":0.99800000000000078},0.44620951144869908,null,0.44620951144869908,null,0.19910292810728672,null,0.44824165964943824,0,0,null,0.44790959965400046]
[{"$f":"A1011+Model!$C$48","v":0.99900000000000078},0.44601101461663345,null,0.44601101461663345,null,0.1989258251593588,null,0.44844067402607157,0.44830804206640729,1,null,0.44830804206640729]
[{"$f":"A1012+Model!$C$48","v":1.0000000000000007},0.44581278085991477,null,0.44581278085991477,null,0.19874903557805038,null,0.44863951145644027,0,0,null,0.44830804206640729]
[null,null,null,null,null,null,null,null,{"$f":"(I1012+((A1013-A1012)/3)*(4*F1012+F1013))*J1014","v":0.44863952617847908},1,null,0.44863952617847908]

{"sheet":"pS4","index":5,"n_rows":1014,"n_cols":12,"rows_kept":1014,"cut":false,"hidden":true,"merged":[]}
[]
[]
[]
[]
[]
[]
[]
[]
[]
["a",{"$f":"(Results!$A$10-Model!$G$48)/(SQRT(4*Model!$G$50*Results!A$12))","v":0.41825179908768717}]
["b",{"$f":"(Results!$A$11-Model!$G$49)/(SQRT(4*Model!$G$50*Results!A$12))","v":0.41825179908768717}]
["t","erf(a/sqrt(t))",null,"erf(b/sqrt(t))",null,"integrand",null,"trapezoidal integral O(h^2)","Simpson integral O(h^4)","kount",null,"Simpson total Sum"]
[0,1,null,1,null,{"$f":"B13*D13","v":1},null,0,0]
[{"$f":"Model!$C$48","v":1E-3},{"$f":"IF($B$10>0,ERF($B$10/SQRT(A14)),-ERF(-$B$10/SQRT(A14)))","v":1},null,{"$f":"IF($B$11>0,ERF($B$11/SQRT(A14)),-ERF(-$B$11/SQRT(A14)))","v":1},null,1,null,{"$f":"0.5*(F14+F13)*(A14-A13)+H13","v":1E-3},null,1]
[{"$f":"A14+Model!$C$48","v":2E-3},1,null,1,null,1,null,2E-3,null,{"$f":"IF(J14=1,0,1)","v":0}]
[{"$f":"A15+Model!$C$48","v":3.0000000000000001E-3},1,null,1,null,1,null,3.0000000000000001E-3,{"$f":"(I13+((A16-A15)/3)*(F13+4*F14+2*F15))*J16","v":2.3333333333333331E-3},1,null,{"$f":"IF(J16=1,I16,I15)","v":2.3333333333333331E-3}]
[{"$f":"A16+Model!$C$48","v":4.0000000000000001E-3},1,null,1,null,1,null,4.0000000000000001E-3,{"$f":"(I15+((A17-A16)/3)*(4*F15+2*F16))*J17","v":0},0,null,{"$f":"IF(J17=1,I17,I16)","v":2.3333333333333331E-3}]
[{"$f":"A17+Model!$C$48","v":5.0000000000000001E-3},0.99999999999999989,null,0.99999999999999989,null,0.99999999999999978,null,5.0000000000000001E-3,4.3333333333333331E-3,1,null,4.3333333333333331E-3]
[{"$f":"A18+Model!$C$48","v":6.0000000000000001E-3},0.99999999999997757,null,0.99999999999997757,null,0.99999999999995515,null,5.9999999999999776E-3,0,0,null,4.3333333333333331E-3]
[{"$f":"A19+Model!$C$48","v":7.0000000000000001E-3},0.9999999999984478,null,0.9999999999984478,null,0.99999999999689559,null,6.9999999999984033E-3,6.3333333333333028E-3,1,null,6.3333333333333028E-3]
[{"$f":"A20+Model!$C$48","v":8.0000000000000002E-3},0.99999999996237521,null,0.99999999996237521,null,0.99999999992475042,null,7.9999999999592272E-3,0,0,null,6.3333333333333028E-3]
[{"$f":"A21+Model!$C$48","v":9.0000000000000011E-3},0.99999999954801899,null,0.99999999954801899,null,0.99999999909603798,null,8.9999999994696232E-3,8.3333333332789999E-3,1,null,8.3333333332789999E-3]
[{"$f":"A22+Model!$C$48","v":1.0000000000000002E-2},0.99999999668071315,null,0.99999999668071315,null,0.99999999336142631,null,9.9999999956983561E-3,0,0,null,8.3333333332789999E-3]
[{"$f":"A23+Model!$C$48","v":1.1000000000000003E-2},0.99999998296593529,null,0.99999998296593529,null,0.9999999659318709,null,1.0999999975345006E-2,1.0333333327648003E-2,1,null,1.0333333327648003E-2]
[{"$f":"A24+Model!$C$48","v":1.2000000000000004E-2},0.99999993321314828,null,0.99999993321314828,null,0.99999986642630101,null,1.1999999891524093E-2,0,0,null,1.0333333327648003E-2]
[{"$f":"A25+Model!$C$48","v":1.3000000000000005E-2},0.99999978717858595,null,0.99999978717858595,null,0.9999995743572172,null,1.2999999611915853E-2,1.23333331931747E-2,1,null,1.23333331931747E-2]
[{"$f":"A26+Model!$C$48","v":1.4000000000000005E-2},0.99999942391066199,null,0.99999942391066199,null,0.99999884782165582,null,1.399999882300529E-2,0,0,null,1.23333331931747E-2]
[{"$f":"A27+Model!$C$48","v":1.5000000000000006E-2},0.99999863162016844,null,0.99999863162016844,null,0.99999726324220939,null,1.4999996878537224E-2,1.4333331857532095E-2,1,null,1.4333331857532095E-2]
[{"$f":"A28+Model!$C$48","v":1.6000000000000007E-2},0.99999707756506906,null,0.99999707756506906,null,0.99999415513867873,null,1.599999258772767E-2,0,0,null,1.4333331857532095E-2]
[{"$f":"A29+Model!$C$48","v":1.7000000000000008E-2},0.9999942825572592,null,0.9999942825572592,null,0.99998856514720758,null,1.6999983947870615E-2,1.6333324311947495E-2,1,null,1.6333324311947495E-2]
[{"$f":"A30+Model!$C$48","v":1.8000000000000009E-2},0.99998960363556966,null,0.99998960363556966,null,0.99997920737922374,null,1.799996783413383E-2,0,0,null,1.6333324311947495E-2]
[{"$f":"A31+Model!$C$48","v":1.900000000000001E-2},0.99998222681529314,null,0.99998222681529314,null,0.99996445394647238,null,1.899993966479668E-2,1.8333295203729921E-2,1,null,1.8333295203729921E-2]
[{"$f":"A32+Model!$C$48","v":2.0000000000000011E-2},0.99997117018025472,null,0.99997117018025472,null,0.99994234119166792,null,1.9999893062365749E-2,0,0,null,1.8333295203729921E-2]
[{"$f":"A33+Model!$C$48","v":2.1000000000000012E-2},0.9999552962911088,null,0.9999552962911088,null,0.99991059458063913,null,2.0999819530251904E-2,2.0333209369786331E-2,1,null,2.0333209369786331E-2]
[{"$f":"A34+Model!$C$48","v":2.2000000000000013E-2},0.99993333206733426,null,0.99993333206733426,null,0.99986666857928175,null,2.1999708161831867E-2,0,0,null,2.0333209369786331E-2]
[{"$f":"A35+Model!$C$48","v":2.3000000000000013E-2},0.99990389394174961,null,0.99990389394174961,null,0.99980779711987366,null,2.2999545394681447E-2,2.2333001274946706E-2,1,null,2.2333001274946706E-2]
[{"$f":"A36+Model!$C$48","v":2.4000000000000014E-2},0.99986551608227514,null,0.99986551608227514,null,0.99973105025047437,null,2.3999314818366622E-2,0,0,null,2.2333001274946706E-2]
[{"$f":"A37+Model!$C$48","v":2.5000000000000015E-2},0.99981667970489729,null,0.99981667970489729,null,0.99963339301612519,null,2.4998997039999922E-2,2.4332565704606856E-2,1,null,2.4332565704606856E-2]
[{"$f":"A38+Model!$C$48","v":2.6000000000000016E-2},0.99975584186355582,null,0.99975584186355582,null,0.99951174334030723,null,2.5998569608178139E-2,0,0,null,2.4332565704606856E-2]
[{"$f":"A39+Model!$C$48","v":2.7000000000000017E-2},0.99968146244433664,null,0.99968146244433664,null,0.99936302635484764,null,2.6998006993025719E-2,2.6331751390855231E-2,1,null,2.6331751390855231E-2]
[{"$f":"A40+Model!$C$48","v":2.8000000000000018E-2},0.99959202861629626,null,0.99959202861629626,null,0.99918422367324244,null,2.7997280618039765E-2,0,0,null,2.6331751390855231E-2]
[{"$f":"A41+Model!$C$48","v":2.9000000000000019E-2},0.99948607610424078,null,0.99948607610424078,null,0.99897241632625222,null,2.8996358938039514E-2,2.8330358241777192E-2,1,null,2.8330358241777192E-2]
[{"$f":"A42+Model!$C$48","v":3.000000000000002E-2},0.9993622071284618,null,0.9993622071284618,null,0.9987248210366706,null,2.9995207556720978E-2,0,0,null,2.8330358241777192E-2]
[{"$f":"A43+Model!$C$48","v":3.1000000000000021E-2},0.99921910495394106,null,0.99921910495394106,null,0.99843881970495507,null,3.0993789377091793E-2,3.0328138010903311E-2,1,null,3.0328138010903311E-2]
[{"$f":"A44+Model!$C$48","v":3.2000000000000021E-2},0.99905554518148798,null,0.99905554518148798,null,0.99811198235788012,null,3.1992064778123212E-2,0,0,null,3.0328138010903311E-2]
[{"$f":"A45+Model!$C$48","v":3.3000000000000022E-2},0.99887040401276694,null,0.99887040401276694,null,0.99774208401262821,null,3.2989991811308468E-2,3.2324797758748504E-2,1,null,3.2324797758748504E-2]
[{"$f":"A46+Model!$C$48","v":3.4000000000000023E-2},0.99866266378479662,null,0.99866266378479662,null,0.99732711603774571,null,3.3987526411333659E-2,0,0,null,3.2324797758748504E-2]
[{"$f":"A47+Model!$C$48","v":3.5000000000000024E-2},0.99843141610150832,null,0.99843141610150832,null,0.99686529265846324,null,3.4984622615681762E-2,3.4320005281457171E-2,1,null,3.4320005281457171E-2]
[{"$f":"A48+Model!$C$48","v":3.6000000000000025E-2},0.99817586289846849,null,0.99817586289846849,null,0.99635505327310214,null,3.5981232788647545E-2,0,0,null,3.4320005281457171E-2]
[{"$f":"A49+Model!$C$48","v":3.7000000000000026E-2},0.9978953158959375,null,0.9978953158959375,null,0.99579506148705288,null,3.6977307846027624E-2,3.6313395707183858E-2,1,null,3.6313395707183858E-2]
[{"$f":"A50+Model!$C$48","v":3.8000000000000027E-2},0.99758919403372492,null,0.99758919403372492,null,0.9951842000528569,null,3.7972797476797576E-2,0,0,null,3.6313395707183858E-2]
[{"$f":"A51+Model!$C$48","v":3.9000000000000028E-2},0.99725702085436918,null,0.99725702085436918,null,0.99452156564333172,null,3.8967650359645674E-2,3.8304578589201832E-2,1,null,3.8304578589201832E-2]
[{"$f":"A52+Model!$C$48","v":4.0000000000000029E-2},0.99689841996643924,null,0.99689841996643924,null,0.9938064597315831,null,3.9961814372333135E-2,0,0,null,3.8304578589201832E-2]
[{"$f":"A53+Model!$C$48","v":4.1000000000000029E-2},0.99651311031923862,null,0.99651311031923862,null,0.99303837903812298,null,4.0955236791717989E-2,4.0293144983213999E-2,1,null,4.0293144983213999E-2]
[{"$f":"A54+Model!$C$48","v":4.200000000000003E-2},0.99610090090757553,null,0.99610090090757553,null,0.99221700478888364,null,4.194786448363149E-2,0,0,null,4.0293144983213999E-2]
[{"$f":"A55+Model!$C$48","v":4.3000000000000031E-2},0.9956616851615423,null,0.9956616851615423,null,0.99134219129872214,null,4.2939644081675298E-2,4.2278674158457423E-2,1,null,4.2278674158457423E-2]
[{"$f":"A56+Model!$C$48","v":4.4000000000000032E-2},0.9951954351585911,null,0.9951954351585911,null,0.99041395416049749,null,4.3930522154404905E-2,0,0,null,4.2278674158457423E-2]
[{"$f":"A57+Model!$C$48","v":4.5000000000000033E-2},0.99470219577124419,null,0.99470219577124419,null,0.98943245827213455,null,4.4920445360621224E-2,4.4260739716296051E-2,1,null,4.4260739716296051E-2]
[{"$f":"A58+Model!$C$48","v":4.6000000000000034E-2},0.99418207884249321,null,0.99418207884249321,null,0.98839800589158133,null,4.5909360592703084E-2,0,0,null,4.4260739716296051E-2]
[{"$f":"A59+Model!$C$48","v":4.7000000000000035E-2},0.9936352574623083,null,0.9936352574623083,null,0.98731102487218769,null,4.6897215108084971E-2,4.6238914997919954E-2,1,null,4.6238914997919954E-2]
[{"$f":"A60+Model!$C$48","v":4.8000000000000036E-2},0.99306196096689237,null,0.99306196096689237,null,0.98617205831940968,null,4.7883956649680773E-2,0,0,null,4.6238914997919954E-2]
[{"$f":"A61+Model!$C$48","v":4.9000000000000037E-2},0.99246246746107869,null,0.99246246746107869,null,0.98498174931893268,null,4.8869533553499947E-2,4.8212777736629145E-2,1,null,4.8212777736629145E-2]
[{"$f":"A62+Model!$C$48","v":5.0000000000000037E-2},0.99183710167654382,null,0.99183710167654382,null,0.98374083626212672,null,4.9853894846290478E-2,0,0,null,4.8212777736629145E-2]
[{"$f":"A63+Model!$C$48","v":5.1000000000000038E-2},0.99118622821501134,null,0.99118622821501134,null,0.98245013900310052,null,5.0836990333923096E-2,5.018191395989581E-2,1,null,5.018191395989581E-2]
[{"$f":"A64+Model!$C$48","v":5.2000000000000039E-2},0.99051024739242666,null,0.99051024739242666,null,0.98111055018940629,null,5.1818770678519352E-2,0,0,null,5.018191395989581E-2]
[{"$f":"A65+Model!$C$48","v":5.300000000000004E-2},0.9898095909139718,null,0.9898095909139718,null,0.97972302626528418,null,5.2799187466746701E-2,5.2145921178692885E-2,1,null,5.2145921178692885E-2]
[{"$f":"A66+Model!$C$48","v":5.4000000000000041E-2},0.98908471782919827,null,0.98908471782919827,null,0.97828857904326472,null,5.3778193269400976E-2,0,0,null,5.2145921178692885E-2]
[{"$f":"A67+Model!$C$48","v":5.5000000000000042E-2},0.98833611076534023,null,0.98833611076534023,null,0.97680826784275887,null,5.4755741692843987E-2,5.4104410933075442E-2,1,null,5.4104410933075442E-2]
[{"$f":"A68+Model!$C$48","v":5.6000000000000043E-2},0.98756427243355926,null,0.98756427243355926,null,0.97528319218722526,null,5.5731787422858982E-2,0,0,null,5.4104410933075442E-2]
[{"$f":"A69+Model!$C$48","v":5.7000000000000044E-2},0.98676972240034766,null,0.98676972240034766,null,0.97371448504605917,null,5.6706286261475627E-2,5.6057010751657275E-2,1,null,5.6057010751657275E-2]
[{"$f":"A70+Model!$C$48","v":5.8000000000000045E-2},0.9859529941144265,null,0.9859529941144265,null,0.97210330660320232,null,5.7679195157300259E-2,0,0,null,5.6057010751657275E-2]
[{"$f":"A71+Model!$C$48","v":5.9000000000000045E-2},0.98511463360928297,null,0.98511463360928297,null,0.97045084135115178,null,5.8650472231277437E-2,5.8003365602787488E-2,1,null,5.8003365602787488E-2]
[{"$f":"A72+Model!$C$48","v":6.0000000000000046E-2},0.98425519155288377,null,0.98425519155288377,null,0.96875828209880388,null,5.9620076793002415E-2,0,0,null,5.8003365602787488E-2]
[{"$f":"A73+Model!$C$48","v":6.1000000000000047E-2},0.98337522878947348,null,0.98337522878947348,null,0.96702684059674926,null,6.0587969354350193E-2,5.9943138912654896E-2,1,null,5.9943138912654896E-2]
[{"$f":"A74+Model!$C$48","v":6.2000000000000048E-2},0.98247530927840976,null,0.98247530927840976,null,0.96525773334170695,null,6.1554111641319423E-2,0,0,null,5.9943138912654896E-2]
[{"$f":"A75+Model!$C$48","v":6.3000000000000042E-2},0.98155599941812488,null,0.98155599941812488,null,0.96345217999371402,null,6.2518466597987127E-2,6.1876013189011689E-2,1,null,6.1876013189011689E-2]
[{"$f":"A76+Model!$C$48","v":6.4000000000000043E-2},0.98061786635379178,null,0.98061786635379178,null,{"$f":"B77*D77","v":0.96161139981226307},null,6.348099838789012E-2,0,0,null,6.1876013189011689E-2]
[{"$f":"A77+Model!$C$48","v":6.5000000000000044E-2},{"$f":"IF($B$10>0,ERF($B$10/SQRT(A78)),-ERF(-$B$10/SQRT(A78)))","v":0.97966147645444634},null,{"$f":"IF($B$11>0,ERF($B$11/SQRT(A78)),-ERF(-$B$11/SQRT(A78)))","v":0.97966147645444634},null,0.95973660844890574,null,{"$f":"0.5*(F78+F77)*(A78-A77)+H77","v":6.4441672392020699E-2},6.3801690362211491E-2,1,null,6.3801690362211491E-2]
[{"$f":"A78+Model!$C$48","v":6.6000000000000045E-2},0.97868739394755666,null,0.97868739394755666,null,0.95782901507185991,null,6.5400455203781085E-2,0,{"$f":"IF(J78=1,0,1)","v":0},null,6.3801690362211491E-2]
[{"$f":"A79+Model!$C$48","v":6.7000000000000046E-2},0.97769617969948841,null,0.97769617969948841,null,0.95588981979897436,null,6.6357314621216509E-2,6.5719891850191267E-2,1,null,6.5719891850191267E-2]
[{"$f":"A80+Model!$C$48","v":6.8000000000000047E-2},0.97668839013082187,null,0.97668839013082187,null,0.95392021141633654,null,6.7312219636824169E-2,{"$f":"(I79+((A81-A80)/3)*(4*F79+2*F80))*J81","v":0},0,null,{"$f":"IF(J81=1,I81,I80)","v":6.5719891850191267E-2}]
[{"$f":"A81+Model!$C$48","v":6.9000000000000047E-2},0.97566457625602654,null,0.97566457625602654,null,0.95192136536085181,null,6.826514042521277E-2,6.763035841753412E-2,1,null,6.763035841753412E-2]
[{"$f":"A82+Model!$C$48","v":7.0000000000000048E-2},0.97462528552317773,null,0.97462528552317773,null,0.94989444718113569,null,6.9216048331483759E-2,0,0,null,6.763035841753412E-2]
[{"$f":"A83+Model!$C$48","v":7.1000000000000049E-2},0.97357105073364225,null,0.97357105073364225,null,0.94784059082660821,null,7.0164915850487633E-2,6.9532849869469351E-2,1,null,6.9532849869469351E-2]
[{"$f":"A84+Model!$C$48","v":7.200000000000005E-2},0.97250240435191504,null,0.97250240435191504,null,0.94576092647025567,null,7.1111716609136066E-2,0,0,null,6.9532849869469351E-2]
[{"$f":"A85+Model!$C$48","v":7.3000000000000051E-2},0.97141986832095839,null,0.97141986832095839,null,0.94365656056870817,null,7.2056425352655551E-2,7.1427144608218335E-2,1,null,7.1427144608218335E-2]
[{"$f":"A86+Model!$C$48","v":7.4000000000000052E-2},0.97032395591390741,null,0.97032395591390741,null,0.94152857942041457,null,7.2999017922650108E-2,0,0,null,7.1427144608218335E-2]
[{"$f":"A87+Model!$C$48","v":7.5000000000000053E-2},0.96921517133111423,null,0.96921517133111423,null,0.93937804833840111,null,7.3939471236529511E-2,7.3313039075256894E-2,1,null,7.3313039075256894E-2]
[{"$f":"A88+Model!$C$48","v":7.6000000000000054E-2},0.96809400936375956,null,0.96809400936375956,null,0.93720601096599898,null,7.4877763266181716E-2,0,0,null,7.3313039075256894E-2]
[{"$f":"A89+Model!$C$48","v":7.7000000000000055E-2},0.96696095511787483,null,0.96696095511787483,null,0.9350134887224727,null,7.5813873016025948E-2,7.5190347147018763E-2,1,null,7.5190347147018763E-2]
[{"$f":"A90+Model!$C$48","v":7.8000000000000055E-2},0.96581648379307639,null,0.96581648379307639,null,0.93280148036642174,null,7.6747780500570392E-2,0,0,null,7.5190347147018763E-2]
[{"$f":"A91+Model!$C$48","v":7.9000000000000056E-2},0.96466106051075351,null,0.96466106051075351,null,0.93057096166573161,null,7.7679466721586474E-2,7.705889945222634E-2,1,null,7.705889945222634E-2]
[{"$f":"A92+Model!$C$48","v":8.0000000000000057E-2},0.96349514018685789,null,0.96349514018685789,null,0.92832288516369299,null,7.860891364500118E-2,0,0,null,7.705889945222634E-2]
[{"$f":"A93+Model!$C$48","v":8.1000000000000058E-2},0.96231916744483004,null,0.96231916744483004,null,0.92605818003171081,null,7.9536104177598876E-2,7.8918542657889779E-2,1,null,7.8918542657889779E-2]
[{"$f":"A94+Model!$C$48","v":8.2000000000000059E-2},0.96113358129486715,null,0.96113358129486715,null,0.92377776109269694,null,8.0461022148161088E-2,0,0,null,7.8918542657889779E-2]
[{"$f":"A95+Model!$C$48","v":8.300000000000006E-2},0.9599387967694194,null,0.9599387967694194,null,0.92148249354312073,null,8.1383652275479001E-2,8.0769138738660526E-2,1,null,8.0769138738660526E-2]
[{"$f":"A96+Model!$C$48","v":8.4000000000000061E-2},0.95873523164593377,null,0.95873523164593377,null,0.91917324439918224,null,8.2303980144450159E-2,0,0,null,8.0769138738660526E-2]
[{"$f":"A97+Model!$C$48","v":8.5000000000000062E-2},0.9575232891774641,null,0.9575232891774641,null,0.91685084931722949,null,8.3221992191308367E-2,8.2610564226317476E-2,1,null,8.2610564226317476E-2]
[{"$f":"A98+Model!$C$48","v":8.6000000000000063E-2},0.95630336235910096,null,0.95630336235910096,null,0.91451612085932199,null,8.4137675676396642E-2,0,0,null,8.2610564226317476E-2]
[{"$f":"A99+Model!$C$48","v":8.7000000000000063E-2},0.95507583400651763,null,0.95507583400651763,null,0.91216984870324525,null,8.5051018661177924E-2,8.4442709439313327E-2,1,null,8.4442709439313327E-2]
[{"$f":"A100+Model!$C$48","v":8.8000000000000064E-2},0.95384107685221597,null,0.95384107685221597,null,0.90981279989059494,null,8.5962009985474847E-2,0,0,null,8.4442709439313327E-2]
[{"$f":"A101+Model!$C$48","v":8.9000000000000065E-2},0.95259945365727805,null,0.95259945365727805,null,0.90744571910814464,null,8.6870639244974221E-2,8.6265477770844715E-2,1,null,8.6265477770844715E-2]
[{"$f":"A102+Model!$C$48","v":9.0000000000000066E-2},0.95135131733662393,null,0.95135131733662393,null,0.90506932899812975,null,8.7776896769027363E-2,0,0,null,8.6265477770844715E-2]
[{"$f":"A103+Model!$C$48","v":9.1000000000000067E-2},0.95009701109595934,null,0.95009701109595934,null,0.90268433049347552,null,8.868077359877316E-2,8.807878494898766E-2,1,null,8.807878494898766E-2]
[{"$f":"A104+Model!$C$48","v":9.2000000000000068E-2},0.94883686857876559,null,0.94883686857876559,null,0.90029140317435774,null,8.9582261465607077E-2,0,0,null,8.807878494898766E-2]
[{"$f":"A105+Model!$C$48","v":9.3000000000000069E-2},0.94757121402183486,null,0.94757121402183486,null,0.89789120564281399,null,9.0481352770015663E-2,8.9882558325095202E-2,1,null,8.9882558325095202E-2]
[{"$f":"A106+Model!$C$48","v":9.400000000000007E-2},0.94630036958209651,null,0.94630036958209651,null,0.89548438947121245,null,9.1378040567572677E-2,0,0,null,8.9882558325095202E-2]
[{"$f":"A107+Model!$C$48","v":9.500000000000007E-2},0.94502462758006267,null,0.94502462758006267,null,0.89307154673283617,null,9.2272318535674705E-2,9.1676736192266434E-2,1,null,9.1676736192266434E-2]
[{"$f":"A108+Model!$C$48","v":9.6000000000000071E-2},0.94374429152555961,null,0.94374429152555961,null,0.89065328778708042,null,9.3164180952934661E-2,0,0,null,9.1676736192266434E-2]
[{"$f":"A109+Model!$C$48","v":9.7000000000000072E-2},0.94245964971411467,null,0.94245964971411467,null,0.88823019133925174,null,9.4053622692497826E-2,9.3461267113101598E-2,1,null,9.3461267113101598E-2]
[{"$f":"A110+Model!$C$48","v":9.8000000000000073E-2},0.94117098189757764,null,0.94117098189757764,null,0.88580281716605047,null,9.4940639196750484E-2,0,0,null,9.3461267113101598E-2]
[{"$f":"A111+Model!$C$48","v":9.9000000000000074E-2},0.93987855946670673,null,0.93987855946670673,null,0.8833717065452118,null,9.5825226458606111E-2,9.5236109246331302E-2,1,null,9.5236109246331302E-2]
[{"$f":"A112+Model!$C$48","v":0.10000000000000007},0.93858264563520544,null,0.93858264563520544,null,0.88093738268758159,null,9.6707381003222515E-2,0,0,null,9.5236109246331302E-2]
[{"$f":"A113+Model!$C$48","v":0.10100000000000008},0.93728349562456659,null,0.93728349562456659,null,0.87850035117020697,null,9.7587099870151406E-2,9.7001229776849968E-2,1,null,9.7001229776849968E-2]
[{"$f":"A114+Model!$C$48","v":0.10200000000000008},0.93598135684914607,null,0.93598135684914607,null,0.87606110036916851,null,9.8464380595921094E-2,0,0,null,9.7001229776849968E-2]
[{"$f":"A115+Model!$C$48","v":0.10300000000000008},0.9346764691009587,null,0.9346764691009587,null,0.87362010189103545,null,9.93392211970512E-2,9.8756604311989696E-2,1,null,9.8756604311989696E-2]
[{"$f":"A116+Model!$C$48","v":0.10400000000000008},0.93336906473373882,null,0.93336906473373882,null,0.87117781100193437,null,0.10021162015349769,0,0,null,9.8756604311989696E-2]
[{"$f":"A117+Model!$C$48","v":0.10500000000000008},0.93205936884586771,null,0.93205936884586771,null,0.86873466705335722,null,0.10108157639252534,0.10050221632184569,1,null,0.10050221632184569]
[{"$f":"A118+Model!$C$48","v":0.10600000000000008},0.93074760927342115,null,0.93074760927342115,null,0.86629111216818899,null,0.10194908928213611,0,0,null,0.10050221632184569]
[{"$f":"A119+Model!$C$48","v":0.10700000000000008},0.92943397838436714,null,0.92943397838436714,null,0.86384752017539224,null,0.10281415859830791,0.10223805661936231,1,null,0.10223805661936231]
[{"$f":"A120+Model!$C$48","v":0.10800000000000008},0.92811868960439037,null,0.92811868960439037,null,0.86140430199297069,null,0.10367678450939209,0,0,null,0.10223805661936231]
[{"$f":"A121+Model!$C$48","v":0.10900000000000008},0.92680194080890677,null,0.92680194080890677,null,0.85896183748715627,null,0.10453696757913215,0.10396412284759148,1,null,0.10396412284759148]
[{"$f":"A122+Model!$C$48","v":0.11000000000000008},0.92548392350478259,null,0.92548392350478259,null,0.85652049266580632,null,0.10539470874420863,0,0,null,0.10396412284759148]
[{"$f":"A123+Model!$C$48","v":0.11100000000000008},0.92416482300042169,null,0.92416482300042169,null,0.85408062007140073,null,0.10625000930057724,0.10568041895935155,1,null,0.10568041895935155]
[{"$f":"A124+Model!$C$48","v":0.11200000000000009},0.92284481857302492,null,0.92284481857302492,null,0.85164255916707932,null,0.10710287089019647,0,0,null,0.10568041895935155]
[{"$f":"A125+Model!$C$48","v":0.11300000000000009},0.92152408363290461,null,0.92152408363290461,null,0.84920663671546459,null,0.10795329548813774,0.10738695482555814,1,null,0.10738695482555814]
[{"$f":"A126+Model!$C$48","v":0.11400000000000009},0.92020278588474891,null,0.92020278588474891,null,0.84677316715005302,null,0.1088012853900705,0,0,null,0.10738695482555814]
[{"$f":"A127+Model!$C$48","v":0.11500000000000009},0.91888108748575625,null,0.91888108748575625,null,0.84434245293900601,null,0.10964684320011503,0.10908374578594547,1,null,0.10908374578594547]
[{"$f":"A128+Model!$C$48","v":0.11600000000000009},0.91755914520057535,null,0.91755914520057535,null,0.84191478494121053,null,0.11048997181905514,0,0,null,0.10908374578594547]
[{"$f":"A129+Model!$C$48","v":0.11700000000000009},0.91623711055300261,null,0.91623711055300261,null,0.83949044275451512,null,0.111330674432903,0.11077081224649162,1,null,0.11077081224649162]
[{"$f":"A130+Model!$C$48","v":0.11800000000000009},0.91491512997440294,null,0.91491512997440294,null,0.83706969505607864,null,0.11216895450180829,0,0,null,0.11077081224649162]
[{"$f":"A131+Model!$C$48","v":0.11900000000000009},0.91359335843818767,null,0.91359335843818767,null,0.83465282458236689,null,0.11300481576162752,0.11244817930020169,1,null,0.11244817930020169]
[{"$f":"A132+Model!$C$48","v":0.12000000000000009},0.912271906667524,null,0.912271906667524,null,0.83224003169479965,null,0.1138382621897661,0,0,null,0.11244817930020169]
[{"$f":"A133+Model!$C$48","v":0.12100000000000009},0.91095091920307614,null,0.91095091920307614,null,0.82983157719692935,null,0.11466929799421197,0.11411587642077471,1,null,0.11411587642077471]
[{"$f":"A134+Model!$C$48","v":0.12200000000000009},0.90963052352755891,null,0.90963052352755891,null,0.82742768933302091,null,0.11549792762747695,0,0,null,0.11411587642077471]
[{"$f":"A135+Model!$C$48","v":0.1230000000000001},0.9083108427238985,null,0.9083108427238985,null,0.82502858700979864,null,0.11632415576564836,0.1157739369832593,1,null,0.1157739369832593]
[{"$f":"A136+Model!$C$48","v":0.1240000000000001},0.90699199560388899,null,0.90699199560388899,null,0.822634480089525,null,0.11714798729919802,0,0,null,0.1157739369832593]
[{"$f":"A137+Model!$C$48","v":0.12500000000000008},0.90567409683361322,null,0.90567409683361322,null,0.82024556967538098,null,0.11796942732408046,0.11742239808599869,1,null,0.11742239808599869]
[{"$f":"A138+Model!$C$48","v":0.12600000000000008},0.90435725705566683,null,0.90435725705566683,null,0.81786204838924947,null,0.11878848113311277,0,0,null,0.11742239808599869]
[{"$f":"A139+Model!$C$48","v":0.12700000000000009},0.90304158300822313,null,0.90304158300822313,null,0.8154841006419975,null,0.11960515420762839,0.1190613002111587,1,null,0.1190613002111587]
[{"$f":"A140+Model!$C$48","v":0.12800000000000009},0.90172717764098043,null,0.90172717764098043,null,{"$f":"B141*D141","v":0.81311190289636825},null,0.12041945220939758,0,0,null,0.1190613002111587]
[{"$f":"A141+Model!$C$48","v":0.12900000000000009},{"$f":"IF($B$10>0,ERF($B$10/SQRT(A142)),-ERF(-$B$10/SQRT(A142)))","v":0.90041414022804123},null,{"$f":"IF($B$11>0,ERF($B$11/SQRT(A142)),-ERF(-$B$11/SQRT(A142)))","v":0.90041414022804123},null,0.81074562392260274,null,{"$f":"0.5*(F142+F141)*(A142-A141)+H141","v":0.12123138097280707},0.12069068694727894,1,null,0.12069068694727894]
[{"$f":"A142+Model!$C$48","v":0.13000000000000009},0.89910256647777098,null,0.89910256647777098,null,0.80838542504691457,null,0.12204094649729183,0,{"$f":"IF(J142=1,0,1)","v":0},null,0.12069068694727894]
[{"$f":"A143+Model!$C$48","v":0.13100000000000009},0.89779254863968805,null,0.89779254863968805,null,0.8060314603929466,null,0.12284815494001176,0.12231060472920702,1,null,0.12231060472920702]
[{"$f":"A144+Model!$C$48","v":0.13200000000000009},0.89648419294385473,null,0.89648419294385473,null,0.80368390819819457,null,0.12365301262430733,{"$f":"(I143+((A145-A144)/3)*(4*F143+2*F144))*J145","v":0},0,null,{"$f":"IF(J145=1,I145,I144)","v":0.12231060472920702}]
[{"$f":"A145+Model!$C$48","v":0.13300000000000009},0.89517755151718825,null,0.89517755151718825,null,0.80134284874030826,null,0.12445552600277658,0.12392110261519641,1,null,0.12392110261519641]
[{"$f":"A146+Model!$C$48","v":0.13400000000000009},0.89387272308624777,null,0.89387272308624777,null,0.79900844507762381,null,0.12525570164968555,0,0,null,0.12392110261519641]
[{"$f":"A147+Model!$C$48","v":0.13500000000000009},0.89256978707917378,null,0.89256978707917378,null,0.79668082480656166,null,0.12605354628462764,0.12552223204356858,1,null,0.12552223204356858]
[{"$f":"A148+Model!$C$48","v":0.13600000000000009},0.89126881995719798,null,0.89126881995719798,null,0.79436010942789614,null,0.12684906675174487,0,0,null,0.12552223204356858]
[{"$f":"A149+Model!$C$48","v":0.13700000000000009},0.88996989530490644,null,0.88996989530490644,null,0.79204641454902613,null,0.12764227001373332,0.12711404654959593,1,null,0.12711404654959593]
[{"$f":"A150+Model!$C$48","v":0.13800000000000009},0.88867308391793776,null,0.88867308391793776,null,0.78973985008021808,null,0.12843316314604794,0,0,null,0.12711404654959593]
[{"$f":"A151+Model!$C$48","v":0.1390000000000001},0.88737845388817349,null,0.88737845388817349,null,0.78744052042496526,null,0.12922175333130054,0.12869660166904812,1,null,0.12869660166904812]
[{"$f":"A152+Model!$C$48","v":0.1400000000000001},0.88608607068648448,null,0.88608607068648448,null,0.7851485246646136,null,0.13000804785384532,0,0,null,0.12869660166904812]
[{"$f":"A153+Model!$C$48","v":0.1410000000000001},0.88479599724308777,null,0.88479599724308777,null,0.78286395673739018,null,0.13079205409454631,0.13026995471272448,1,null,0.13026995471272448]
[{"$f":"A154+Model!$C$48","v":0.1420000000000001},0.88350829402557673,null,0.88350829402557673,null,0.78058690561198496,null,0.131573779525721,0,0,null,0.13026995471272448]
[{"$f":"A155+Model!$C$48","v":0.1430000000000001},0.88222301911468137,null,0.88222301911468137,null,0.77831745545582343,null,0.1323532317062549,0.13183416459211567,1,null,0.13183416459211567]
[{"$f":"A156+Model!$C$48","v":0.1440000000000001},0.88094024827485717,null,0.88094024827485717,null,0.77605572103056697,null,0.13313041829449809,0,0,null,0.13183416459211567]
[{"$f":"A157+Model!$C$48","v":0.1450000000000001},0.87965999624078961,null,0.87965999624078961,null,0.77380170898634604,null,0.13390534700950654,0.13338929168007715,1,null,0.13338929168007715]
[{"$f":"A158+Model!$C$48","v":0.1460000000000001},0.87838233321766224,null,0.87838233321766224,null,0.7715555233089042,null,0.13467802562565417,0,0,null,0.13338929168007715]
[{"$f":"A159+Model!$C$48","v":0.1470000000000001},0.87710730845511231,null,0.87710730845511231,null,0.76931723054537149,null,0.13544846200258132,0.13493539764093154,1,null,0.13493539764093154]
[{"$f":"A160+Model!$C$48","v":0.1480000000000001},0.87583496916272341,null,0.87583496916272341,null,0.76708689320826862,null,0.13621666406445815,0,0,null,0.13493539764093154]
[{"$f":"A161+Model!$C$48","v":0.1490000000000001},0.87456536057336109,null,0.87456536057336109,null,0.76486456991481311,null,0.13698263979601968,0.13647254521046423,1,null,0.13647254521046423]
[{"$f":"A162+Model!$C$48","v":0.15000000000000011},0.8732985260046271,null,0.8732985260046271,null,0.76265031552185436,null,0.13774639723873802,0,0,null,0.13647254521046423]
[{"$f":"A163+Model!$C$48","v":0.15100000000000011},0.87203450691848394,null,0.87203450691848394,null,0.76044418125656343,null,0.13850794448712722,0.13800079818069855,1,null,0.13800079818069855]
[{"$f":"A164+Model!$C$48","v":0.15200000000000011},0.87077334297910491,null,0.87077334297910491,null,0.75824621484300592,null,0.13926728968517701,0,0,null,0.13800079818069855]
[{"$f":"A165+Model!$C$48","v":0.15300000000000011},0.8695150721089947,null,0.8695150721089947,null,0.75605646062471021,null,0.14002444102291087,0.13952022123226931,1,null,0.13952022123226931]
[{"$f":"A166+Model!$C$48","v":0.15400000000000011},0.86825973054343109,null,0.86825973054343109,null,0.75387495968335161,null,0.14077940673306491,0,0,null,0.13952022123226931]
[{"$f":"A167+Model!$C$48","v":0.15500000000000011},0.86700735288327668,null,0.86700735288327668,null,0.75170174995366668,null,0.14153219508788342,0.14103087981955784,1,null,0.14103087981955784]
[{"$f":"A168+Model!$C$48","v":0.15600000000000011},0.86575797214620676,null,0.86575797214620676,null,0.74953686633471206,null,0.14228281439602761,0,0,null,0.14103087981955784]
[{"$f":"A169+Model!$C$48","v":0.15700000000000011},0.86451164350642928,null,0.86451164350642928,null,0.74738038175818744,null,0.14303127302007407,0.14253284006371919,1,null,0.14253284006371919]
[{"$f":"A170+Model!$C$48","v":0.15800000000000011},0.86326835086721987,null,0.86326835086721987,null,0.74523224560900947,null,0.14377757933375768,0,0,null,0.14253284006371919]
[{"$f":"A171+Model!$C$48","v":0.15900000000000011},0.86202814525063109,null,0.86202814525063109,null,0.74309252320424313,null,0.14452174171816431,0.14402616873646945,1,null,0.14402616873646945]
[{"$f":"A172+Model!$C$48","v":0.16000000000000011},0.86079105382557874,null,0.86079105382557874,null,0.74096123834615035,null,0.14526376859893952,0,0,null,0.14402616873646945]
[{"$f":"A173+Model!$C$48","v":0.16100000000000012},0.85955710241175809,null,0.85955710241175809,null,0.73883841230649761,null,0.14600366842426585,0.14551093292630587,1,null,0.14551093292630587]
[{"$f":"A174+Model!$C$48","v":0.16200000000000012},0.85832631552228422,null,0.85832631552228422,null,0.73672406391805978,null,0.14674144966237812,0,0,null,0.14551093292630587]
[{"$f":"A175+Model!$C$48","v":0.16300000000000012},0.85709871640504665,null,0.85709871640504665,null,0.73461820966317859,null,0.14747712079916875,0.14698720018532657,1,null,0.14698720018532657]
[{"$f":"A176+Model!$C$48","v":0.16400000000000012},0.85587432708281208,null,0.85587432708281208,null,0.73252086375945635,null,0.14821069033588008,0,0,null,0.14698720018532657]
[{"$f":"A177+Model!$C$48","v":0.16500000000000012},0.85465316839211691,null,0.85465316839211691,null,0.7304320382426841,null,0.14894216678688116,0.14845503837405044,1,null,0.14845503837405044]
[{"$f":"A178+Model!$C$48","v":0.16600000000000012},0.85343526002098158,null,0.85343526002098158,null,0.72835174304708039,null,0.14967155867752605,0,0,null,0.14845503837405044]
[{"$f":"A179+Model!$C$48","v":0.16700000000000012},0.85222062054548386,null,0.85222062054548386,null,0.72627998608292954,null,0.15039887454209105,0.14991451558707208,1,null,0.14991451558707208]
[{"$f":"A180+Model!$C$48","v":0.16800000000000012},0.8510092674652272,null,0.8510092674652272,null,0.72421677331170264,null,0.15112412292178837,0,0,null,0.14991451558707208]
[{"$f":"A181+Model!$C$48","v":0.16900000000000012},0.84980121723773017,null,0.84980121723773017,null,0.72216210881872789,null,0.15184731236285359,0.15136570008405711,1,null,0.15136570008405711]
[{"$f":"A182+Model!$C$48","v":0.17000000000000012},0.84859648531178067,null,0.84859648531178067,null,0.72011599488350719,null,0.15256845141470471,0,0,null,0.15136570008405711]
[{"$f":"A183+Model!$C$48","v":0.17100000000000012},0.84739511474289375,null,0.84739511474289375,null,0.71807848049012202,null,0.15328754865239153,0.15280866022573775,1,null,0.15280866022573775]
[{"$f":"A184+Model!$C$48","v":0.17200000000000013},0.84619706328889577,null,0.84619706328889577,null,0.71604946991875151,null,0.15400461262759596,0,0,null,0.15280866022573775]
[{"$f":"A185+Model!$C$48","v":0.17300000000000013},0.84500237080385088,null,0.84500237080385088,null,0.71402900666412872,null,0.1547196518658874,0.15424346451300375,1,null,0.15424346451300375]
[{"$f":"A186+Model!$C$48","v":0.17400000000000013},0.84381104901697068,null,0.84381104901697068,null,0.71201708644312045,null,0.15543267491244103,0,0,null,0.15424346451300375]
[{"$f":"A187+Model!$C$48","v":0.17500000000000013},0.8426231088009577,null,0.8426231088009577,null,0.71001370348539061,null,0.1561436903074053,0.15567018124618467,1,null,0.15567018124618467]
[{"$f":"A188+Model!$C$48","v":0.17600000000000013},0.8414385601997344,null,0.8414385601997344,null,0.708018850591002,null,0.1568527065844435,0,0,null,0.15567018124618467]
[{"$f":"A189+Model!$C$48","v":0.17700000000000013},0.84025741245533092,null,0.84025741245533092,null,0.70603251918612808,null,0.15755973226933206,0.15708887875122587,1,null,0.15708887875122587]
[{"$f":"A190+Model!$C$48","v":0.17800000000000013},0.83907967403395811,null,0.83907967403395811,null,0.70405469937693343,null,0.15826477587861359,0,0,null,0.15708887875122587]
[{"$f":"A191+Model!$C$48","v":0.17900000000000013},0.83790535265129074,null,0.83790535265129074,null,0.70208538000168386,null,0.1589678459183029,0.15849962524305866,1,null,0.15849962524305866]
[{"$f":"A192+Model!$C$48","v":0.18000000000000013},0.83673445529698443,null,0.83673445529698443,null,0.70012454868114127,null,0.15966895088264432,0,0,null,0.15849962524305866]
[{"$f":"A193+Model!$C$48","v":0.18100000000000013},0.83556698825844988,null,0.83556698825844988,null,0.69817219186729651,null,0.16036809925291853,0.15990248878218166,1,null,0.15990248878218166]
[{"$f":"A194+Model!$C$48","v":0.18200000000000013},0.83440295714390589,null,0.83440295714390589,null,0.69622829489049487,null,0.16106529949629744,0,0,null,0.15990248878218166]
[{"$f":"A195+Model!$C$48","v":0.18300000000000013},0.83324236690473596,null,0.83324236690473596,null,0.69429284200500663,null,0.16176056006474521,0.16129753723459839,1,null,0.16129753723459839]
[{"$f":"A196+Model!$C$48","v":0.18400000000000014},0.83208525383603449,null,0.83208525383603449,null,0.69236586965137792,null,0.1624538894205734,0,0,null,0.16129753723459839]
[{"$f":"A197+Model!$C$48","v":0.18500000000000014},0.83093155911565919,null,0.83093155911565919,null,0.69044725593438028,null,0.16314529598336627,0.16268483827037264,1,null,0.16268483827037264]
[{"$f":"A198+Model!$C$48","v":0.18600000000000014},0.82978131644890962,null,0.82978131644890962,null,0.68853703312768544,null,0.16383478812789731,0,0,null,0.16268483827037264]
[{"$f":"A199+Model!$C$48","v":0.18700000000000014},0.82863452837151486,null,0.82863452837151486,null,0.68663518160948289,null,0.16452237423526589,0.16406445930037028,1,null,0.16406445930037028]
[{"$f":"A200+Model!$C$48","v":0.18800000000000014},0.82749119686441386,null,0.82749119686441386,null,0.68474168088810017,null,0.16520806266651469,0,0,null,0.16406445930037028]
[{"$f":"A201+Model!$C$48","v":0.18900000000000014},0.82635132337234585,null,0.82635132337234585,null,0.68285650963922728,null,0.16589186176177836,0.16543646732977499,1,null,0.16543646732977499]
[{"$f":"A202+Model!$C$48","v":0.19000000000000014},0.82521490882187576,null,0.82521490882187576,null,0.68097964574189673,null,0.16657377983946892,0,0,null,0.16543646732977499]
[{"$f":"A203+Model!$C$48","v":0.19100000000000014},0.82408195363887871,null,0.82408195363887871,null,0.67911106631327101,null,0.1672538251954965,0.16680092910645522,1,null,0.16680092910645522]
[{"$f":"A204+Model!$C$48","v":0.19200000000000014},0.82295245776549153,null,0.82295245776549153,null,{"$f":"B205*D205","v":0.67725074774226313},null,0.16793200610252426,0,0,null,0.16680092910645522]
[{"$f":"A205+Model!$C$48","v":0.19300000000000014},{"$f":"IF($B$10>0,ERF($B$10/SQRT(A206)),-ERF(-$B$10/SQRT(A206)))","v":0.82182642067655332},null,{"$f":"IF($B$11>0,ERF($B$11/SQRT(A206)),-ERF(-$B$11/SQRT(A206)))","v":0.82182642067655332},null,0.67539866572203522,null,{"$f":"0.5*(F206+F205)*(A206-A205)+H205","v":0.16860833080925641},0.16815791102670108,1,null,0.16815791102670108]
[{"$f":"A206+Model!$C$48","v":0.19400000000000014},0.82070384139554897,null,0.82070384139554897,null,0.67355479528141038,null,0.16928280753975813,0,{"$f":"IF(J206=1,0,1)","v":0},null,0.16815791102670108]
[{"$f":"A207+Model!$C$48","v":0.19500000000000015},0.81958471851007153,null,0.81958471851007153,null,0.67171911081523317,null,0.16995544449280645,0.16950747911118474,1,null,0.16950747911118474]
[{"$f":"A208+Model!$C$48","v":0.19600000000000015},0.81846905018681404,null,0.81846905018681404,null,0.66989158611370547,null,0.17062624984127092,{"$f":"(I207+((A209-A208)/3)*(4*F207+2*F208))*J209","v":0},0,null,{"$f":"IF(J209=1,I209,I208)","v":0.16950747911118474}]
[{"$f":"A209+Model!$C$48","v":0.19700000000000015},0.8173568693213018,null,0.8173568693213018,null,0.66807225182671959,null,0.17129523176024114,0.17084969898301419,1,null,0.17084969898301419]
[{"$f":"A210+Model!$C$48","v":0.19800000000000015},0.81624810446563933,null,0.81624810446563933,null,0.66626096804374924,null,0.17196239837017638,0,0,null,0.17084969898301419]
[{"$f":"A211+Model!$C$48","v":0.19900000000000015},0.81514278633836612,null,0.81514278633836612,null,0.66445776211947516,null,0.17262775773525799,0.17218463596414565,1,null,0.17218463596414565]
[{"$f":"A212+Model!$C$48","v":0.20000000000000015},0.81404091156483727,null,0.81404091156483727,null,0.66266260570131119,null,0.17329131791916838,0,0,null,0.17218463596414565]
[{"$f":"A213+Model!$C$48","v":0.20100000000000015},0.81294247641796669,null,0.81294247641796669,null,0.66087546996457636,null,0.17395308695700132,0.17351235471743917,1,null,0.17351235471743917]
[{"$f":"A214+Model!$C$48","v":0.20200000000000015},0.8118474768306998,null,0.8118474768306998,null,0.65909632563637366,null,0.17461307285480179,0,0,null,0.17351235471743917]
[{"$f":"A215+Model!$C$48","v":0.20300000000000015},0.81075590840811018,null,0.81075590840811018,null,0.65732514301865996,null,0.1752712835891293,0.17483291956114952,1,null,0.17483291956114952]
[{"$f":"A216+Model!$C$48","v":0.20400000000000015},0.80966776643912897,null,0.80966776643912897,null,0.65556189201052795,null,0.17592772710664389,0,0,null,0.17483291956114952]
[{"$f":"A217+Model!$C$48","v":0.20500000000000015},0.80858304590792285,null,0.80858304590792285,null,0.6538065421297341,null,0.17658241132371402,0.17614639434651475,1,null,0.17614639434651475]
[{"$f":"A218+Model!$C$48","v":0.20600000000000016},0.8075017415049246,null,0.8075017415049246,null,0.65205906253348611,null,0.17723534412604564,0,0,null,0.17614639434651475]
[{"$f":"A219+Model!$C$48","v":0.20700000000000016},0.80642384763753405,null,0.80642384763753405,null,0.65031942203852477,null,0.17788653336833163,0.17745284244437673,1,null,0.17745284244437673]
[{"$f":"A220+Model!$C$48","v":0.20800000000000016},0.80534935844049416,null,0.80534935844049416,null,0.64858758914051551,null,0.17853598687392114,0,0,null,0.17745284244437673]
[{"$f":"A221+Model!$C$48","v":0.20900000000000016},0.80427826778595235,null,0.80427826778595235,null,0.64686353203277203,null,0.17918371243450779,0.17875232673318844,1,null,0.17875232673318844]
[{"$f":"A222+Model!$C$48","v":0.21000000000000016},0.80321056929322032,null,0.80321056929322032,null,0.6451472186243391,null,0.17982971780983634,0,0,null,0.17875232673318844]
[{"$f":"A223+Model!$C$48","v":0.21100000000000016},0.80214629584112573,null,0.80214629584112573,null,0.64343867993163884,null,0.18047401075911432,0.18004490958831504,1,null,0.18004490958831504]
[{"$f":"A224+Model!$C$48","v":0.21200000000000016},0.80108536307301614,null,0.80108536307301614,null,0.6417377589298261,null,0.18111659897854504,0,0,null,0.18004490958831504]
[{"$f":"A225+Model!$C$48","v":0.21300000000000016},0.80002780194685652,null,0.80002780194685652,null,0.64004448388791868,null,0.1817574900999539,0.18133065300084378,1,null,0.18133065300084378]
[{"$f":"A226+Model!$C$48","v":0.21400000000000016},0.79897360516346072,null,0.79897360516346072,null,0.6383588217478976,null,0.18239669175277182,0,0,null,0.18133065300084378]
[{"$f":"A227+Model!$C$48","v":0.21500000000000016},0.79792276521536176,null,0.79792276521536176,null,0.63668073924892932,null,0.18303421153327024,0.1826096181938596,1,null,0.1826096181938596]
[{"$f":"A228+Model!$C$48","v":0.21600000000000016},0.79687527439492856,null,0.79687527439492856,null,0.63501020294199273,null,0.1836700570043657,0,0,null,0.1826096181938596]
[{"$f":"A229+Model!$C$48","v":0.21700000000000016},0.79583112480223839,null,0.79583112480223839,null,0.63334717920399597,null,0.18430423569543869,0.18388186598148618,1,null,0.18388186598148618]
[{"$f":"A230+Model!$C$48","v":0.21800000000000017},0.79479030835270736,null,0.79479030835270736,null,0.63169163425139163,null,0.18493675510216639,0,0,null,0.18388186598148618]
[{"$f":"A231+Model!$C$48","v":0.21900000000000017},0.79375281678449405,null,0.79375281678449405,null,0.6300435341533186,null,0.18556762268636876,0.1851474566432591,1,null,0.1851474566432591]
[{"$f":"A232+Model!$C$48","v":0.22000000000000017},0.79271864166567529,null,0.79271864166567529,null,0.62840284484427333,null,0.18619684587586754,0,0,null,0.1851474566432591]
[{"$f":"A233+Model!$C$48","v":0.22100000000000017},0.79168777440120741,null,0.79168777440120741,null,0.62676953213633713,null,0.18682443206435784,0.18640644991869304,1,null,0.18640644991869304]
[{"$f":"A234+Model!$C$48","v":0.22200000000000017},0.79066020623967292,null,0.79066020623967292,null,0.62514356173096208,null,0.18745038861129149,0,0,null,0.18640644991869304]
[{"$f":"A235+Model!$C$48","v":0.22300000000000017},0.78963592827982565,null,0.78963592827982565,null,0.62352489923034193,null,0.18807472284177212,0.18765890500269547,1,null,0.18765890500269547]
[{"$f":"A236+Model!$C$48","v":0.22400000000000017},0.78861493147693573,null,0.78861493147693573,null,0.62191351014837204,null,0.18869744204646149,0,0,null,0.18765890500269547]
[{"$f":"A237+Model!$C$48","v":0.22500000000000017},0.78759725030452765,null,0.78759725030452765,null,0.62030942868725281,null,0.18931855351587931,0.18890488054176818,1,null,0.18890488054176818]
[{"$f":"A238+Model!$C$48","v":0.22600000000000017},0.78658278968263029,null,0.78658278968263029,null,0.61871248502490894,null,0.1899380644727354,0,0,null,0.18890488054176818]
[{"$f":"A239+Model!$C$48","v":0.22700000000000017},0.78557158232681701,null,0.78557158232681701,null,0.61712271095945903,null,0.19055598207072758,0.19014443477003445,1,null,0.19014443477003445]
[{"$f":"A240+Model!$C$48","v":0.22800000000000017},0.78456361867899904,null,0.78456361867899904,null,0.61554007175468584,null,0.19117231346208466,0,0,null,0.19014443477003445]
[{"$f":"A241+Model!$C$48","v":0.22900000000000018},0.78355888906655846,null,0.78355888906655846,null,0.61396453263521922,null,0.19178706576427962,0.19137762509915018,1,null,0.19137762509915018]
[{"$f":"A242+Model!$C$48","v":0.23000000000000018},0.78255738370761974,null,0.78255738370761974,null,0.61239605879531478,null,0.19240024605999489,0,0,null,0.19137762509915018]
[{"$f":"A243+Model!$C$48","v":0.23100000000000018},0.78155909271615875,null,0.78155909271615875,null,0.61083461540730521,null,0.1930118613970962,0.19260450851519403,1,null,0.19260450851519403]
[{"$f":"A244+Model!$C$48","v":0.23200000000000018},0.78056400610695775,null,0.78056400610695775,null,0.6092801676297428,null,0.19362191878861473,0,0,null,0.19260450851519403]
[{"$f":"A245+Model!$C$48","v":0.23300000000000018},0.77957211380040514,null,0.77957211380040514,null,0.60773268061523178,null,0.19423042521273723,0.19382514144749027,1,null,0.19382514144749027]
[{"$f":"A246+Model!$C$48","v":0.23400000000000018},0.77858340562715145,null,0.77858340562715145,null,0.60619211951797347,null,0.19483738761280384,0,0,null,0.19382514144749027]
[{"$f":"A247+Model!$C$48","v":0.23500000000000018},0.77759787133262137,null,0.77759787133262137,null,0.60465844950102399,null,0.19544281289731333,0.19503957976798925,1,null,0.19503957976798925]
[{"$f":"A248+Model!$C$48","v":0.23600000000000018},0.77661550058138706,null,0.77661550058138706,null,0.60313163574327844,null,0.19604670793993548,0,0,null,0.19503957976798925]
[{"$f":"A249+Model!$C$48","v":0.23700000000000018},0.77563628296140685,null,0.77563628296140685,null,0.60161164344618756,null,0.19664907957953021,0.1962478787911528,1,null,0.1962478787911528]
[{"$f":"A250+Model!$C$48","v":0.23800000000000018},0.7746602079881334,null,0.7746602079881334,null,0.6000984378402181,null,0.1972499346201734,0,0,null,0.1962478787911528]
[{"$f":"A251+Model!$C$48","v":0.23900000000000018},0.77368731267503843,null,0.77368731267503843,null,0.59859205779432267,null,0.19784927986799067,0.19745009327430785,1,null,0.19745009327430785]
[{"$f":"A252+Model!$C$48","v":0.24000000000000019},0.77271749283980451,null,0.77271749283980451,null,0.59709232374063337,null,0.19844712205875814,0,0,null,0.19745009327430785]
[{"$f":"A253+Model!$C$48","v":0.24100000000000019},0.77175078384302731,null,0.77175078384302731,null,0.59559927236232701,null,0.19904346785680962,0.19864627756719402,1,null,0.19864627756719402]
[{"$f":"A254+Model!$C$48","v":0.24200000000000019},0.77078717494952964,null,0.77078717494952964,null,0.59411286906667682,null,0.19963832392752412,0,0,null,0.19864627756719402]
[{"$f":"A255+Model!$C$48","v":0.24300000000000019},0.76982665537035289,null,0.76982665537035289,null,0.59263307931870413,null,0.2002316969017168,0.19983648517638825,1,null,0.19983648517638825]
[{"$f":"A256+Model!$C$48","v":0.24400000000000019},0.76886921426615706,null,0.76886921426615706,null,0.59115986864625769,null,0.20082359337569927,0,0,null,0.19983648517638825]
[{"$f":"A257+Model!$C$48","v":0.24500000000000019},0.76791484075051741,null,0.76791484075051741,null,0.58969320264489256,null,0.20141401991134486,0.20102076919457737,1,null,0.20102076919457737]
[{"$f":"A258+Model!$C$48","v":0.24600000000000019},0.76696352389311806,null,0.76696352389311806,null,0.58823304698254952,null,0.20200298303615857,0,0,null,0.20102076919457737]
[{"$f":"A259+Model!$C$48","v":0.24700000000000019},0.76601525272284321,null,0.76601525272284321,null,0.58677936740404135,null,0.20259048924335188,0.20219918216275892,1,null,0.20219918216275892]
[{"$f":"A260+Model!$C$48","v":0.24800000000000019},0.76507001623077497,null,0.76507001623077497,null,0.58533212973535831,null,0.20317654499192159,0,0,null,0.20219918216275892]
[{"$f":"A261+Model!$C$48","v":0.24900000000000019},0.76412780337309605,null,0.76412780337309605,null,0.58389129988779298,null,0.20376115670673317,0.20337177607245455,1,null,0.20337177607245455]
[{"$f":"A262+Model!$C$48","v":0.25000000000000017},0.76318860307389702,null,0.76318860307389702,null,0.58245684386188634,null,0.204344330778608,0,0,null,0.20337177607245455]
[{"$f":"A263+Model!$C$48","v":0.25100000000000017},0.76225240422790241,null,0.76225240422790241,null,0.5810287277512175,null,0.20492607356441456,0.20453860236821286,1,null,0.20453860236821286]
[{"$f":"A264+Model!$C$48","v":0.25200000000000017},0.7613191957031038,null,0.7613191957031038,null,0.57960691774602091,null,0.20550639138716317,0,0,null,0.20453860236821286]
[{"$f":"A265+Model!$C$48","v":0.25300000000000017},0.76038901756478583,null,0.76038901756478583,null,0.5781914580331402,null,0.20608529057505276,0.20569971195037851,1,null,0.20569971195037851]
[{"$f":"A266+Model!$C$48","v":0.25400000000000017},0.7594617577732431,null,0.7594617577732431,null,0.57678216152002415,null,0.20666277738482935,0,0,null,0.20569971195037851]
[{"$f":"A267+Model!$C$48","v":0.25500000000000017},0.75853745481042834,null,0.75853745481042834,null,0.57537907035028257,null,0.2072388580007645,0.20685515533543605,1,null,0.20685515533543605]
[{"$f":"A268+Model!$C$48","v":0.25600000000000017},0.75761609746281666,null,0.75761609746281666,null,{"$f":"B269*D269","v":0.57398215113478812},null,0.20781353861150703,0,0,null,0.20685515533543605]
[{"$f":"A269+Model!$C$48","v":0.25700000000000017},{"$f":"IF($B$10>0,ERF($B$10/SQRT(A270)),-ERF(-$B$10/SQRT(A270)))","v":0.75669767450213044},null,{"$f":"IF($B$11>0,ERF($B$11/SQRT(A270)),-ERF(-$B$11/SQRT(A270)))","v":0.75669767450213044},null,0.5725913705969321,null,{"$f":"0.5*(F270+F269)*(A270-A269)+H269","v":0.20838682537237288},0.20800498219665961,1,null,0.20800498219665961]
[{"$f":"A270+Model!$C$48","v":0.25800000000000017},0.75578217468750775,null,0.75578217468750775,null,0.57120669557537851,null,0.20895872440545904,0,{"$f":"IF(J270=1,0,1)","v":0},null,0.20800498219665961]
[{"$f":"A271+Model!$C$48","v":0.25900000000000017},0.75486958676760307,null,0.75486958676760307,null,0.5698280930266918,null,0.20952924179976007,0.20914924182117245,1,null,0.20914924182117245]
[{"$f":"A272+Model!$C$48","v":0.26000000000000018},0.75395989948261666,null,0.75395989948261666,null,0.56845553002783744,null,0.21009838361128733,{"$f":"(I271+((A273-A272)/3)*(4*F271+2*F272))*J273","v":0},0,null,{"$f":"IF(J273=1,I273,I272)","v":0.20914924182117245}]
[{"$f":"A273+Model!$C$48","v":0.26100000000000018},0.75305310156626093,null,0.75305310156626093,null,0.56708897377856526,null,0.21066615586319054,0.21028798296522661,1,null,0.21028798296522661]
[{"$f":"A274+Model!$C$48","v":0.26200000000000018},0.7521491817476611,null,0.7521491817476611,null,0.56572839160367616,null,0.21123256454588166,0,0,null,0.21028798296522661]
[{"$f":"A275+Model!$C$48","v":0.26300000000000018},0.7512481287531938,null,0.7512481287531938,null,0.56437375095517528,null,0.21179761561716109,0.21142125385800048,1,null,0.21142125385800048]
[{"$f":"A276+Model!$C$48","v":0.26400000000000018},0.75034993130826488,null,0.75034993130826488,null,0.56302501941431782,null,0.21236131500234584,0,0,null,0.21142125385800048]
[{"$f":"A277+Model!$C$48","v":0.26500000000000018},0.74945457813902983,null,0.74945457813902983,null,0.56168216469355114,null,0.21292366859439976,0.21254910220555026,1,null,0.21254910220555026]
[{"$f":"A278+Model!$C$48","v":0.26600000000000018},0.74856205797405573,null,0.74856205797405573,null,0.56034515463835355,null,0.21348468225406572,0,0,null,0.21254910220555026]
[{"$f":"A279+Model!$C$48","v":0.26700000000000018},0.74767241416126362,null,0.74767241416126362,null,0.55901403889773216,null,0.21404436185083375,0.21367157519490057,1,null,0.21367157519490057]
[{"$f":"A280+Model!$C$48","v":0.26800000000000018},0.74678552779258389,null,0.74678552779258389,null,0.5576886245204481,null,0.21460271318254284,0,0,null,0.21367157519490057]
[{"$f":"A281+Model!$C$48","v":0.26900000000000018},0.74590144068065678,null,0.74590144068065678,null,0.55636895920947937,null,0.21515974197440782,0.21478871966311117,1,null,0.21478871966311117]
[{"$f":"A282+Model!$C$48","v":0.27000000000000018},0.74502014157984553,null,0.74502014157984553,null,0.55505501135965307,null,0.21571545395969238,0,0,null,0.21478871966311117]
[{"$f":"A283+Model!$C$48","v":0.27100000000000019},0.744141619254444,null,0.744141619254444,null,0.55374674950662595,null,0.21626985484012554,0.21590058161629691,1,null,0.21590058161629691]
[{"$f":"A284+Model!$C$48","v":0.27200000000000019},0.7432658624800299,null,0.7432658624800299,null,0.55244414232818273,null,0.21682295028604295,0,0,null,0.21590058161629691]
[{"$f":"A285+Model!$C$48","v":0.27300000000000019},0.74239286004477412,null,0.74239286004477412,null,0.5511471586454596,null,0.21737474593652978,0.21700720671052454,1,null,0.21700720671052454]
[{"$f":"A286+Model!$C$48","v":0.27400000000000019},0.74152260075070053,null,0.74152260075070053,null,0.54985576742408282,null,0.21792524739956454,0,0,null,0.21700720671052454]
[{"$f":"A287+Model!$C$48","v":0.27500000000000019},0.74065507341490422,null,0.74065507341490422,null,0.5485699377752371,null,0.21847446025216419,0.21810864010033454,1,null,0.21810864010033454]
[{"$f":"A288+Model!$C$48","v":0.27600000000000019},0.73979026687073035,null,0.73979026687073035,null,0.54728963895666638,null,0.21902239004053015,0,0,null,0.21810864010033454]
[{"$f":"A289+Model!$C$48","v":0.27700000000000019},0.73892816996890387,null,0.73892816996890387,null,0.54601484037359327,null,0.21956904228019528,0.2192049264433393,1,null,0.2192049264433393]
[{"$f":"A290+Model!$C$48","v":0.27800000000000019},0.73806877157862893,null,0.73806877157862893,null,0.54474551157958628,null,0.22011442245617185,0,0,null,0.2192049264433393]
[{"$f":"A291+Model!$C$48","v":0.27900000000000019},0.73721206058864097,null,0.73721206058864097,null,0.54348162227735008,null,0.22065853602310032,0.22029610990489049,1,null,0.22029610990489049]
[{"$f":"A292+Model!$C$48","v":0.28000000000000019},0.7363580259082263,null,0.7363580259082263,null,0.54222314231946012,null,0.22120138840539871,0,0,null,0.22029610990489049]
[{"$f":"A293+Model!$C$48","v":0.28100000000000019},0.73550671421796165,null,0.73550671421796165,null,0.54097012665970234,null,0.22174298503988829,0.22138223416280658,1,null,0.22138223416280658]
[{"$f":"A294+Model!$C$48","v":0.28200000000000019},0.73465800055169839,null,0.73465800055169839,null,0.53972237777461929,null,0.22228333129210545,0,0,null,0.22138223416280658]
[{"$f":"A295+Model!$C$48","v":0.2830000000000002},0.73381193009009915,null,0.73381193009009915,null,0.53847994874255656,null,0.22282243245536404,0.22246334258353592,1,null,0.22246334258353592]
[{"$f":"A296+Model!$C$48","v":0.2840000000000002},0.7329684918346463,null,0.7329684918346463,null,0.53724281002235597,null,0.22336029383474651,0,0,null,0.22246334258353592]
[{"$f":"A297+Model!$C$48","v":0.2850000000000002},0.73212767481193752,null,0.73212767481193752,null,0.53601093222553409,null,0.22389692070587044,0.22353947772187424,1,null,0.22353947772187424]
[{"$f":"A298+Model!$C$48","v":0.2860000000000002},0.73128946807449768,null,0.73128946807449768,null,0.53478428611668172,null,0.22443231831504154,0,0,null,0.22353947772187424]
[{"$f":"A299+Model!$C$48","v":0.2870000000000002},0.73045386070156171,null,0.73045386070156171,null,0.53356284261381648,null,0.22496649187940679,0.22461068182225274,1,null,0.22461068182225274]
[{"$f":"A300+Model!$C$48","v":0.2880000000000002},0.72962084179982678,null,0.72962084179982678,null,0.53234657278868791,null,0.22549944658710805,0,0,null,0.22461068182225274]
[{"$f":"A301+Model!$C$48","v":0.2890000000000002},0.72879040050417632,null,0.72879040050417632,null,0.5311354478670377,null,0.2260311875974359,0.2256769966609303,1,null,0.2256769966609303]
[{"$f":"A302+Model!$C$48","v":0.2900000000000002},0.72796252597837408,null,0.72796252597837408,null,0.52992943922881497,null,0.22656172004098382,0,0,null,0.2256769966609303]
[{"$f":"A303+Model!$C$48","v":0.2910000000000002},0.72713720741573429,null,0.72713720741573429,null,0.52872851840835255,null,0.2270910490198024,0.22673846355090557,1,null,0.22673846355090557]
[{"$f":"A304+Model!$C$48","v":0.2920000000000002},0.72631443403976048,null,0.72631443403976048,null,0.52753265709449759,null,0.22761917960755382,0,0,null,0.22673846355090557]
[{"$f":"A305+Model!$C$48","v":0.2930000000000002},0.72549419510476432,null,0.72549419510476432,null,0.52634182713070987,null,0.22814611684966643,0.22779512334684637,1,null,0.22779512334684637]
[{"$f":"A306+Model!$C$48","v":0.29400000000000021},0.72467647989645312,null,0.72467647989645312,null,0.52515600051511446,null,0.22867186576348933,0,0,null,0.22779512334684637]
[{"$f":"A307+Model!$C$48","v":0.29500000000000021},0.72386133836355881,null,0.72386133836355881,null,0.52397523717748262,null,0.22919643138233564,0.22884701645003072,1,null,0.22884701645003072]
[{"$f":"A308+Model!$C$48","v":0.29600000000000021},0.72304864016360293,null,0.72304864016360293,null,0.52279933604243534,null,0.22971981866894561,0,0,null,0.22884701645003072]
[{"$f":"A309+Model!$C$48","v":0.29700000000000021},0.72223843377357477,null,0.72223843377357477,null,0.52162835521970641,null,0.23024203251457667,0.22989418299029565,1,null,0.22989418299029565]
[{"$f":"A310+Model!$C$48","v":0.29800000000000021},0.72143070861067704,null,0.72143070861067704,null,0.52046226732650358,null,0.23076307782584979,0,0,null,0.22989418299029565]
[{"$f":"A311+Model!$C$48","v":0.29900000000000021},0.72062545412611723,null,0.72062545412611723,null,0.51930104513447273,null,0.23128295948208027,0.23093666230880627,1,null,0.23093666230880627]
[{"$f":"A312+Model!$C$48","v":0.30000000000000021},0.7198226598055627,null,0.7198226598055627,null,0.51814466156955485,null,0.2318016823354323,0,0,null,0.23093666230880627]
[{"$f":"A313+Model!$C$48","v":0.30100000000000021},0.71902231516957582,null,0.71902231516957582,null,0.51699308971181679,null,0.232319251211073,0.2319744934766986,1,null,0.2319744934766986]
[{"$f":"A314+Model!$C$48","v":0.30200000000000021},0.71822440977402935,null,0.71822440977402935,null,0.51584630279525279,null,0.23283567090732654,0,0,null,0.2319744934766986]
[{"$f":"A315+Model!$C$48","v":0.30300000000000021},0.71742893321050227,null,0.71742893321050227,null,0.51470427420755938,null,0.23335094619582794,0.23300771513151119,1,null,0.23300771513151119]
[{"$f":"A316+Model!$C$48","v":0.30400000000000021},0.71663587510665838,null,0.71663587510665838,null,0.51356697748988611,null,0.23386508182167667,0,0,null,0.23300771513151119]
[{"$f":"A317+Model!$C$48","v":0.30500000000000022},0.71584522512660587,null,0.71584522512660587,null,0.51243438633656102,null,0.23437808250358991,0.23403636548211454,1,null,0.23403636548211454]
[{"$f":"A318+Model!$C$48","v":0.30600000000000022},0.71505697297123816,null,0.71505697297123816,null,0.51130647459479006,null,0.2348899529340556,0,0,null,0.23403636548211454]
[{"$f":"A319+Model!$C$48","v":0.30700000000000022},0.71427110837856045,null,0.71427110837856045,null,0.51018321626433727,null,0.23540069777948516,0.23506048231362647,1,null,0.23506048231362647]
[{"$f":"A320+Model!$C$48","v":0.30800000000000022},0.71348762112399788,null,0.71348762112399788,null,0.50906458549718159,null,0.23591032168036594,0,0,null,0.23506048231362647]
[{"$f":"A321+Model!$C$48","v":0.30900000000000022},0.71270650102068811,null,0.71270650102068811,null,0.50795055659715205,null,0.23641882925141311,0.23608010299231039,1,null,0.23608010299231039]
[{"$f":"A322+Model!$C$48","v":0.31000000000000022},0.71192780274229139,null,0.71192780274229139,null,0.50684119631746694,null,0.23692622512787043,0,0,null,0.23608010299231039]
[{"$f":"A323+Model!$C$48","v":0.31100000000000022},0.71115138811713829,null,0.71115138811713829,null,0.50573629682093268,null,0.23743251387443962,0.2370952645319849,1,null,0.2370952645319849]
[{"$f":"A324+Model!$C$48","v":0.31200000000000022},0.71037731034224461,null,0.71037731034224461,null,0.50463592304908167,null,0.23793769998437461,0,0,null,0.2370952645319849]
[{"$f":"A325+Model!$C$48","v":0.31300000000000022},0.70960555938464731,null,0.70960555938464731,null,0.50354004990959822,null,0.23844178797085394,0.2381060035431122,1,null,0.2381060035431122]
[{"$f":"A326+Model!$C$48","v":0.31400000000000022},0.70883612525033957,null,0.70883612525033957,null,0.5024486524599151,null,0.2389447823220387,0,0,null,0.2381060035431122]
[{"$f":"A327+Model!$C$48","v":0.31500000000000022},0.70806899798447742,null,0.70806899798447742,null,0.50136170590674189,null,0.23944668750122203,0.2391123560446316,1,null,0.2391123560446316]
[{"$f":"A328+Model!$C$48","v":0.31600000000000023},0.70730416767157434,null,0.70730416767157434,null,0.50027918560557849,null,0.23994750794697819,0,0,null,0.2391123560446316]
[{"$f":"A329+Model!$C$48","v":0.31700000000000023},0.70654162443568014,null,0.70654162443568014,null,0.49920106706020967,null,0.24044724807331108,0.24011435777624432,1,null,0.24011435777624432]
[{"$f":"A330+Model!$C$48","v":0.31800000000000023},0.70578135844055168,null,0.70578135844055168,null,0.4981273259221905,null,0.24094591226980228,0,0,null,0.24011435777624432]
[{"$f":"A331+Model!$C$48","v":0.31900000000000023},0.70502335988980902,null,0.70502335988980902,null,0.49705793799031517,null,0.24144350490175853,0.2411120440829394,1,null,0.2411120440829394]
[{"$f":"A332+Model!$C$48","v":0.32000000000000023},0.7042676190270819,null,0.7042676190270819,null,{"$f":"B333*D333","v":0.49599287921007496},null,0.24194003031035874,0,0,null,0.2411120440829394]
[{"$f":"A333+Model!$C$48","v":0.32100000000000023},{"$f":"IF($B$10>0,ERF($B$10/SQRT(A334)),-ERF(-$B$10/SQRT(A334)))","v":0.70351412613614295},null,{"$f":"IF($B$11>0,ERF($B$11/SQRT(A334)),-ERF(-$B$11/SQRT(A334)))","v":0.70351412613614295},null,0.49493212567310085,null,{"$f":"0.5*(F334+F333)*(A334-A333)+H333","v":0.24243549281280033},0.24210544991973321,1,null,0.24210544991973321]
[{"$f":"A334+Model!$C$48","v":0.32200000000000023},0.70276287154103412,null,0.70276287154103412,null,0.49387565361660002,null,0.24292989670244519,0,{"$f":"IF(J334=1,0,1)","v":0},null,0.24210544991973321]
[{"$f":"A335+Model!$C$48","v":0.32300000000000023},0.7020138456061773,null,0.7020138456061773,null,0.49282343942277373,null,0.24342324624896489,0.24309460985637507,1,null,0.24309460985637507]
[{"$f":"A336+Model!$C$48","v":0.32400000000000023},0.70126710594487052,null,0.70126710594487052,null,0.49177555388029426,null,0.24391554574561641,{"$f":"(I335+((A337-A336)/3)*(4*F335+2*F336))*J337","v":0},0,null,{"$f":"IF(J337=1,I337,I336)","v":0.24309460985637507}]
[{"$f":"A337+Model!$C$48","v":0.32500000000000023},0.7005225101483008,null,0.7005225101483008,null,0.49073178722447619,null,0.2444067994161688,0.24407955814485896,1,null,0.24407955814485896]
[{"$f":"A338+Model!$C$48","v":0.32600000000000023},0.69978011437722409,null,0.69978011437722409,null,0.48969220847780082,null,0.24489701141401993,0,0,null,0.24407955814485896]
[{"$f":"A339+Model!$C$48","v":0.32700000000000023},0.69903990915890146,null,0.69903990915890146,null,0.48865679459688521,null,0.24538618591555728,0.24506032866681013,1,null,0.24506032866681013]
[{"$f":"A340+Model!$C$48","v":0.32800000000000024},0.69830188506139979,null,0.69830188506139979,null,0.4876255226803044,null,0.24587432707419588,0,0,null,0.24506032866681013]
[{"$f":"A341+Model!$C$48","v":0.32900000000000024},0.69756603269364947,null,0.69756603269364947,null,0.48659836996795763,null,0.24636143902052002,0.24603695474139284,1,null,0.24603695474139284]
[{"$f":"A342+Model!$C$48","v":0.33000000000000024},0.6968323427054941,null,0.6968323427054941,null,0.48557531384042718,null,0.2468475258624242,0,0,null,0.24603695474139284]
[{"$f":"A343+Model!$C$48","v":0.33100000000000024},0.69610080578773192,null,0.69610080578773192,null,0.48455633181832969,null,0.24733259168525357,0.24700946944391039,1,null,0.24700946944391039]
[{"$f":"A344+Model!$C$48","v":0.33200000000000024},0.69537141267214664,null,0.69537141267214664,null,0.48354140156165687,null,0.24781664055194355,0,0,null,0.24700946944391039]
[{"$f":"A345+Model!$C$48","v":0.33300000000000024},0.69464415413153557,null,0.69464415413153557,null,0.48253050086911653,null,0.24829967650315893,0.24797790548737594,1,null,0.24797790548737594]
[{"$f":"A346+Model!$C$48","v":0.33400000000000024},0.69391902097972735,null,0.69391902097972735,null,0.48152360767746327,null,0.24878170355743223,0,0,null,0.24797790548737594]
[{"$f":"A347+Model!$C$48","v":0.33500000000000024},0.69319600407159321,null,0.69319600407159321,null,0.48052070006082426,null,0.24926272571130137,0.24894229522698641,1,null,0.24894229522698641]
[{"$f":"A348+Model!$C$48","v":0.33600000000000024},0.69247509430305021,null,0.69247509430305021,null,0.4795217562300183,null,0.24974274693944679,0,0,null,0.24894229522698641]
[{"$f":"A349+Model!$C$48","v":0.33700000000000024},0.6917562826110607,null,0.6917562826110607,null,0.47852675453187371,null,0.25022177119482775,0.24990267066455418,1,null,0.24990267066455418]
[{"$f":"A350+Model!$C$48","v":0.33800000000000024},0.69103955997362188,null,0.69103955997362188,null,0.47753567344853692,null,0.25069980240881795,0,0,null,0.24990267066455418]
[{"$f":"A351+Model!$C$48","v":0.33900000000000025},0.69032498831932565,null,0.69032498831932565,null,0.4765485894980771,null,0.25117684454029127,0.25085906345289571,1,null,0.25085906345289571]
[{"$f":"A352+Model!$C$48","v":0.34000000000000025},0.68961241845387555,null,0.68961241845387555,null,0.47556528768580314,null,0.2516529014788832,0,0,null,0.25085906345289571]
[{"$f":"A353+Model!$C$48","v":0.34100000000000025},0.6889019108502491,null,0.6889019108502491,null,0.47458584277312454,null,0.25212797704411266,0.25181150509735034,1,null,0.25181150509735034]
[{"$f":"A354+Model!$C$48","v":0.34200000000000025},0.6881934566507143,null,0.6881934566507143,null,0.47361023377685857,null,0.25260207508238763,0,0,null,0.25181150509735034]
[{"$f":"A355+Model!$C$48","v":0.34300000000000025},0.68748704703844488,null,0.68748704703844488,null,0.47263843984564091,null,0.25307519941919887,0.25276002637689909,1,null,0.25276002637689909]
[{"$f":"A356+Model!$C$48","v":0.34400000000000025},0.68678267323747377,null,0.68678267323747377,null,0.47167044025921068,null,0.25354735385925131,0,0,null,0.25276002637689909]
[{"$f":"A357+Model!$C$48","v":0.34500000000000025},0.68608032651265005,null,0.68608032651265005,null,0.47070621442770449,null,0.25401854218659475,0.25370465792353275,1,null,0.25370465792353275]
[{"$f":"A358+Model!$C$48","v":0.34600000000000025},0.68537999816958062,null,0.68537999816958062,null,0.46974574189093432,null,0.25448876816475408,0,0,null,0.25370465792353275]
[{"$f":"A359+Model!$C$48","v":0.34700000000000025},0.68468167955457615,null,0.68468167955457615,null,0.46878900231767529,null,0.25495803553685836,0.25464543003736367,1,null,0.25464543003736367]
[{"$f":"A360+Model!$C$48","v":0.34800000000000025},0.68398536205458638,null,0.68398536205458638,null,0.4678359755049436,null,0.25542634802576969,0,0,null,0.25464543003736367]
[{"$f":"A361+Model!$C$48","v":0.34900000000000025},0.68329103709713235,null,0.68329103709713235,null,0.4668866413772747,null,0.25589370933421079,0.25558237269079054,1,null,0.25558237269079054]
[{"$f":"A362+Model!$C$48","v":0.35000000000000026},0.682599001465651,null,0.682599001465651,null,0.46594139680190383,null,0.25636012335330038,0,0,null,0.25558237269079054]
[{"$f":"A363+Model!$C$48","v":0.35100000000000026},0.68190864299266341,null,0.68190864299266341,null,0.46499939738809565,null,0.25682559375039538,0.25651551581049487,1,null,0.25651551581049487]
[{"$f":"A364+Model!$C$48","v":0.35200000000000026},0.68122025171340606,null,0.68122025171340606,null,0.46406103134447629,null,0.25729012396476164,0,0,null,0.25651551581049487]
[{"$f":"A365+Model!$C$48","v":0.35300000000000026},0.68053381921866529,null,0.68053381921866529,null,0.46312627910034304,null,0.25775371761998406,0.25744488902790863,1,null,0.25744488902790863]
[{"$f":"A366+Model!$C$48","v":0.35400000000000026},0.67984933713941709,null,0.67984933713941709,null,0.46219512120890482,null,0.25821637832013866,0,0,null,0.25744488902790863]
[{"$f":"A367+Model!$C$48","v":0.35500000000000026},0.67916679714673889,null,0.67916679714673889,null,0.46126753834655959,null,0.25867810964991639,0.25837052081418171,1,null,0.25837052081418171]
[{"$f":"A368+Model!$C$48","v":0.35600000000000026},0.67848619095171148,null,0.67848619095171148,null,0.46034351131216228,null,0.25913891517474574,0,0,null,0.25837052081418171]
[{"$f":"A369+Model!$C$48","v":0.35700000000000026},0.67780751030532704,null,0.67780751030532704,null,0.459423021026306,null,0.25959879844091499,0.25929243987285189,1,null,0.25929243987285189]
[{"$f":"A370+Model!$C$48","v":0.35800000000000026},0.6771307469983846,null,0.6771307469983846,null,0.45850604853059035,null,0.26005776297569344,0,0,null,0.25929243987285189]
[{"$f":"A371+Model!$C$48","v":0.35900000000000026},0.67645588143516266,null,0.67645588143516266,null,0.45759255952822286,null,0.26051581227972287,0.26021067459990738,1,null,0.26021067459990738]
[{"$f":"A372+Model!$C$48","v":0.36000000000000026},0.67578292859009348,null,0.67578292859009348,null,0.45668256657380341,null,0.26097294984277386,0,0,null,0.26021067459990738]
[{"$f":"A373+Model!$C$48","v":0.36100000000000027},0.67511186868847872,null,0.67511186868847872,null,0.45577603524404975,null,0.2614291791436828,0.26112525305699419,1,null,0.26112525305699419]
[{"$f":"A374+Model!$C$48","v":0.36200000000000027},0.6744426936794552,null,0.6744426936794552,null,0.45487294705759945,null,0.26188450363483362,0,0,null,0.26112525305699419]
[{"$f":"A375+Model!$C$48","v":0.36300000000000027},0.67377539555141819,null,0.67377539555141819,null,0.45397328365047002,null,0.26233892675018766,0.2620362030686913,1,null,0.2620362030686913]
[{"$f":"A376+Model!$C$48","v":0.36400000000000027},0.67310996633190279,null,0.67310996633190279,null,0.45307702677533529,null,0.26279245190540057,0,0,null,0.2620362030686913]
[{"$f":"A377+Model!$C$48","v":0.36500000000000027},0.67244639808746676,null,0.67244639808746676,null,0.45218415830080783,null,0.26324508249793865,0.2629435521314088,1,null,0.2629435521314088]
[{"$f":"A378+Model!$C$48","v":0.36600000000000027},0.67178468292356552,null,0.67178468292356552,null,0.45129466021071546,null,0.2636968219071944,0,0,null,0.2629435521314088]
[{"$f":"A379+Model!$C$48","v":0.36700000000000027},0.67112481298443249,null,0.67112481298443249,null,0.45040851460338949,null,0.26414767349460144,0.26384732744928369,1,null,0.26384732744928369]
[{"$f":"A380+Model!$C$48","v":0.36800000000000027},0.67046678045294839,null,0.67046678045294839,null,0.44952570369094208,null,0.26459764060374863,0,0,null,0.26384732744928369]
[{"$f":"A381+Model!$C$48","v":0.36900000000000027},0.66981057755051598,null,0.66981057755051598,null,0.4486462097985558,null,0.26504672656049338,0.26474755593788218,1,null,0.26474755593788218]
[{"$f":"A382+Model!$C$48","v":0.37000000000000027},0.66915619653693015,null,0.66915619653693015,null,0.4477700153637707,null,0.26549493467307456,0,0,null,0.26474755593788218]
[{"$f":"A383+Model!$C$48","v":0.37100000000000027},0.66850362971024313,null,0.66850362971024313,null,0.44689710293576984,null,0.26594226823222433,0.26564426422785609,1,null,0.26564426422785609]
[{"$f":"A384+Model!$C$48","v":0.37200000000000027},0.66785286940663247,null,0.66785286940663247,null,0.44602745517467246,null,0.26638873051127954,0,0,null,0.26564426422785609]
[{"$f":"A385+Model!$C$48","v":0.37300000000000028},0.66720390800026697,null,0.66720390800026697,null,0.44516105485082869,null,0.26683432476629226,0.26653747866855354,1,null,0.26653747866855354]
[{"$f":"A386+Model!$C$48","v":0.37400000000000028},0.66655673790316528,null,0.66655673790316528,null,0.44429788484410898,null,0.26727905423613973,0,0,null,0.26653747866855354]
[{"$f":"A387+Model!$C$48","v":0.37500000000000028},0.66591135156506065,null,0.66591135156506065,null,0.44343792814320582,null,0.26772292214263338,0.26742722533158403,1,null,0.26742722533158403]
[{"$f":"A388+Model!$C$48","v":0.37600000000000028},0.66526774147325984,null,0.66526774147325984,null,0.44258116784493212,null,0.26816593169062747,0,0,null,0.26742722533158403]
[{"$f":"A389+Model!$C$48","v":0.37700000000000028},0.66462590015249978,null,0.66462590015249978,null,0.44172758715352062,null,0.26860808606812669,0.26831353001433828,1,null,0.26831353001433828]
[{"$f":"A390+Model!$C$48","v":0.37800000000000028},0.66398582016480689,null,0.66398582016480689,null,0.44087716937993127,null,0.26904938844639342,0,0,null,0.26831353001433828]
[{"$f":"A391+Model!$C$48","v":0.37900000000000028},0.66334749410934979,null,0.66334749410934979,null,0.44002989794115388,null,0.26948984198005399,0.26919641824346291,1,null,0.26919641824346291]
[{"$f":"A392+Model!$C$48","v":0.38000000000000028},0.6627109146222967,null,0.6627109146222967,null,0.43918575635952101,null,0.26992944980720435,0,0,null,0.26919641824346291]
[{"$f":"A393+Model!$C$48","v":0.38100000000000028},0.66207607437666627,null,0.66207607437666627,null,0.43834472826201692,null,0.27036821504951514,0.27007591527829078,1,null,0.27007591527829078]
[{"$f":"A394+Model!$C$48","v":0.38200000000000028},0.66144296608218112,null,0.66144296608218112,null,0.43750679737959342,null,0.27080614081233595,0,0,null,0.27007591527829078]
[{"$f":"A395+Model!$C$48","v":0.38300000000000028},0.66081158248511729,null,0.66081158248511729,null,0.43667194754648497,null,0.27124323018479901,0.27095204611422652,1,null,0.27095204611422652]
[{"$f":"A396+Model!$C$48","v":0.38400000000000029},0.66018191636815671,null,0.66018191636815671,null,{"$f":"B397*D397","v":0.43584016269953185},null,0.271679486239922,0,0,null,0.27095204611422652]
[{"$f":"A397+Model!$C$48","v":0.38500000000000029},{"$f":"IF($B$10>0,ERF($B$10/SQRT(A398)),-ERF(-$B$10/SQRT(A398)))","v":0.65955396055023374},null,{"$f":"IF($B$11>0,ERF($B$11/SQRT(A398)),-ERF(-$B$11/SQRT(A398)))","v":0.65955396055023374},null,0.43501142687749927,null,{"$f":"0.5*(F398+F397)*(A398-A397)+H397","v":0.2721149120347105},0.27182483548608821,1,null,0.27182483548608821]
[{"$f":"A398+Model!$C$48","v":0.38600000000000029},0.65892770788638533,null,0.65892770788638533,null,0.43418572422040558,null,0.27254951061025945,0,{"$f":"IF(J398=1,0,1)","v":0},null,0.27182483548608821]
[{"$f":"A399+Model!$C$48","v":0.38700000000000029},0.65830315126759731,null,0.65830315126759731,null,0.43336303896884909,null,0.27298328499185409,0.27269430787140514,1,null,0.27269430787140514]
[{"$f":"A400+Model!$C$48","v":0.38800000000000029},0.6576802836206509,null,0.6576802836206509,null,0.43254335546333983,null,0.27341623818907018,{"$f":"(I399+((A401-A400)/3)*(4*F399+2*F400))*J401","v":0},0,null,{"$f":"IF(J401=1,I401,I400)","v":0.27269430787140514}]
[{"$f":"A401+Model!$C$48","v":0.38900000000000029},0.65705909790797012,null,0.65705909790797012,null,0.43172665814363548,null,0.27384837319587368,0.27356048749367251,1,null,0.27356048749367251]
[{"$f":"A402+Model!$C$48","v":0.39000000000000029},0.65643958712746575,null,0.65643958712746575,null,0.43091293154807769,null,0.27427969299071953,0,0,null,0.27356048749367251]
[{"$f":"A403+Model!$C$48","v":0.39100000000000029},0.65582174431237961,null,0.65582174431237961,null,0.43010216031293219,null,0.27471020053665002,0.27442339832556273,1,null,0.27442339832556273]
[{"$f":"A404+Model!$C$48","v":0.39200000000000029},0.65520556253113016,null,0.65520556253113016,null,0.42929432917173471,null,0.27513989878139233,0,0,null,0.27442339832556273]
[{"$f":"A405+Model!$C$48","v":0.39300000000000029},0.65459103488715409,null,0.65459103488715409,null,0.42848942295463538,null,0.27556879065745554,0.27528306409209446,1,null,0.27528306409209446]
[{"$f":"A406+Model!$C$48","v":0.39400000000000029},0.65397815451875141,null,0.65397815451875141,null,0.42768742658775188,null,0.27599687908222675,0,0,null,0.27528306409209446]
[{"$f":"A407+Model!$C$48","v":0.3950000000000003},0.65336691459892615,null,0.65336691459892615,null,0.42688832509252045,null,0.27642416695806687,0.27613950827375916,1,null,0.27613950827375916]
[{"$f":"A408+Model!$C$48","v":0.3960000000000003},0.65275730833522938,null,0.65275730833522938,null,0.42609210358505373,null,0.27685065717240565,0,0,null,0.27613950827375916]
[{"$f":"A409+Model!$C$48","v":0.3970000000000003},0.65214932896960054,null,0.65214932896960054,null,0.42529874727550027,null,0.2772763525978359,0.27699275410960589,1,null,0.27699275410960589]
[{"$f":"A410+Model!$C$48","v":0.3980000000000003},0.65154296977821025,null,0.65154296977821025,null,0.42450824146740979,null,0.27770125609220736,0,0,null,0.27699275410960589]
[{"$f":"A411+Model!$C$48","v":0.3990000000000003},0.65093822407129909,null,0.65093822407129909,null,0.4237205715570968,null,0.2781253704987196,0.27784282460028481,1,null,0.27784282460028481]
[{"$f":"A412+Model!$C$48","v":0.4000000000000003},0.65033508519302052,null,0.65033508519302052,null,0.42293572303301324,null,0.27854869864601467,0,0,null,0.27784282460028481]
[{"$f":"A413+Model!$C$48","v":0.4010000000000003},0.64973354652128024,null,0.64973354652128024,null,0.42215368147512061,null,0.27897124334826873,0.27868974251104961,1,null,0.27868974251104961]
[{"$f":"A414+Model!$C$48","v":0.4020000000000003},0.6491336014675777,null,0.6491336014675777,null,0.42137443255426799,null,0.27939300740528344,0,0,null,0.27868974251104961]
[{"$f":"A415+Model!$C$48","v":0.4030000000000003},0.64853524347684521,null,0.64853524347684521,null,0.4205979620315709,null,0.27981399360257636,0.27953353037471929,1,null,0.27953353037471929]
[{"$f":"A416+Model!$C$48","v":0.4040000000000003},0.647938466027289,null,0.647938466027289,null,0.41982425575779636,null,0.28023420471147104,0,0,null,0.27953353037471929]
[{"$f":"A417+Model!$C$48","v":0.4050000000000003},0.64734326263022901,null,0.64734326263022901,null,0.41905329967274962,null,0.28065364348918631,0.28037421049459993,1,null,0.28037421049459993]
[{"$f":"A418+Model!$C$48","v":0.40600000000000031},0.64674962682993875,null,0.64674962682993875,null,0.41828507980466501,null,0.28107231267892502,0,0,null,0.28037421049459993]
[{"$f":"A419+Model!$C$48","v":0.40700000000000031},0.64615755220348481,null,0.64615755220348481,null,0.41751958226959918,null,0.28149021500996213,0.28121180494736669,1,null,0.28121180494736669]
[{"$f":"A420+Model!$C$48","v":0.40800000000000031},0.64556703236056823,null,0.64556703236056823,null,0.41675679327083093,null,0.28190735319773236,0,0,null,0.28121180494736669]
[{"$f":"A421+Model!$C$48","v":0.40900000000000031},0.6449780609433623,null,0.6449780609433623,null,0.41599669909825959,null,0.28232372994391691,0.28204633558590669,1,null,0.28204633558590669]
[{"$f":"A422+Model!$C$48","v":0.41000000000000031},0.64439063162635446,null,0.64439063162635446,null,0.41523928612781208,null,0.28273934793652994,0,0,null,0.28204633558590669]
[{"$f":"A423+Model!$C$48","v":0.41100000000000031},0.64380473811618522,null,0.64380473811618522,null,0.41448454082084984,null,0.28315420985000428,0.28287782404212292,1,null,0.28287782404212292]
[{"$f":"A424+Model!$C$48","v":0.41200000000000031},0.64322037415148903,null,0.64322037415148903,null,0.41373244972358153,null,0.28356831834527652,0,0,null,0.28287782404212292]
[{"$f":"A425+Model!$C$48","v":0.41300000000000031},0.64263753350273378,null,0.64263753350273378,null,0.41298299946647726,null,0.28398167606987157,0.28370629172969974,1,null,0.28370629172969974]
[{"$f":"A426+Model!$C$48","v":0.41400000000000031},0.64205620997206081,null,0.64205620997206081,null,0.41223617676368701,null,0.28439428565798663,0,0,null,0.28370629172969974]
[{"$f":"A427+Model!$C$48","v":0.41500000000000031},0.64147639739312734,null,0.64147639739312734,null,0.41149196841246544,null,0.28480614973057472,0.28453175984683082,1,null,0.28453175984683082]
[{"$f":"A428+Model!$C$48","v":0.41600000000000031},0.64089808963094463,null,0.64089808963094463,null,0.41075036129259435,null,0.28521727089542726,0,0,null,0.28453175984683082]
[{"$f":"A429+Model!$C$48","v":0.41700000000000031},0.64032128058172111,null,0.64032128058172111,null,0.41001134236581521,null,0.28562765174725646,0.28535424937890919,1,null,0.28535424937890919]
[{"$f":"A430+Model!$C$48","v":0.41800000000000032},0.63974596417270191,null,0.63974596417270191,null,0.40927489867526001,null,0.28603729486777701,0,0,null,0.28535424937890919]
[{"$f":"A431+Model!$C$48","v":0.41900000000000032},0.63917213436201115,null,0.63917213436201115,null,0.40854101734488885,null,0.28644620282578709,0.28617378110118047,1,null,0.28617378110118047]
[{"$f":"A432+Model!$C$48","v":0.42000000000000032},0.63859978513849347,null,0.63859978513849347,null,0.40780968557893005,null,0.28685437817724901,0,0,null,0.28617378110118047]
[{"$f":"A433+Model!$C$48","v":0.42100000000000032},0.6380289105215543,null,0.6380289105215543,null,0.40708089066132153,null,0.28726182346536916,0.28699037558135959,1,null,0.28699037558135959]
[{"$f":"A434+Model!$C$48","v":0.42200000000000032},0.63745950456100509,null,0.63745950456100509,null,0.40635461995516209,null,0.28766854122067742,0,0,null,0.28699037558135959]
[{"$f":"A435+Model!$C$48","v":0.42300000000000032},0.63689156133690294,null,0.63689156133690294,null,0.405630860902158,null,0.28807453396110611,0.28780405318221147,1,null,0.28780405318221147]
[{"$f":"A436+Model!$C$48","v":0.42400000000000032},0.63632507495939439,null,0.63632507495939439,null,0.4049096010220789,null,0.2884798041920682,0,0,null,0.28780405318221147]
[{"$f":"A437+Model!$C$48","v":0.42500000000000032},0.63576003956855953,null,0.63576003956855953,null,0.40419082791221639,null,0.28888435440653537,0.28861483406409572,1,null,0.28861483406409572]
[{"$f":"A438+Model!$C$48","v":0.42600000000000032},0.63519644933425423,null,0.63519644933425423,null,0.40347452924684379,null,0.28928818708511489,0,0,null,0.28861483406409572]
[{"$f":"A439+Model!$C$48","v":0.42700000000000032},0.63463429845595365,null,0.63463429845595365,null,0.40276069277668047,null,0.28969130469612664,0.28942273818747655,1,null,0.28942273818747655]
[{"$f":"A440+Model!$C$48","v":0.42800000000000032},0.63407358116259882,null,0.63407358116259882,null,0.40204930632836278,null,0.29009370969567916,0,0,null,0.28942273818747655]
[{"$f":"A441+Model!$C$48","v":0.42900000000000033},0.63351429171243767,null,0.63351429171243767,null,0.40134035780391158,null,0.2904954045277453,0.29022778531539772,1,null,0.29022778531539772]
[{"$f":"A442+Model!$C$48","v":0.43000000000000033},0.63295642439287381,null,0.63295642439287381,null,0.40063383518021178,null,0.29089639162423736,0,0,null,0.29022778531539772]
[{"$f":"A443+Model!$C$48","v":0.43100000000000033},0.63239997352030908,null,0.63239997352030908,null,0.39992972650848763,null,0.2912966734050817,0.29102999501592308,1,null,0.29102999501592308]
[{"$f":"A444+Model!$C$48","v":0.43200000000000033},0.63184493343999149,null,0.63184493343999149,null,0.39922801991378726,null,0.29169625227829282,0,0,null,0.29102999501592308]
[{"$f":"A445+Model!$C$48","v":0.43300000000000033},0.63129129852586052,null,0.63129129852586052,null,0.39852870359446713,null,0.29209513064004694,0.29182938666454361,1,null,0.29182938666454361]
[{"$f":"A446+Model!$C$48","v":0.43400000000000033},0.6307390631803933,null,0.6307390631803933,null,0.39783176582168017,null,0.292493310874755,0,0,null,0.29182938666454361]
[{"$f":"A447+Model!$C$48","v":0.43500000000000033},0.63018822183445344,null,0.63018822183445344,null,0.39713719493887029,null,0.29289079535513529,0.29262597944655067,1,null,0.29262597944655067]
[{"$f":"A448+Model!$C$48","v":0.43600000000000033},0.62963876894713822,null,0.62963876894713822,null,0.39644497936126771,null,0.29328758644228536,0,0,null,0.29262597944655067]
[{"$f":"A449+Model!$C$48","v":0.43700000000000033},0.62909069900562686,null,0.62909069900562686,null,0.39575510757538823,null,0.29368368648575371,0.29341979235937665,1,null,0.29341979235937665]
[{"$f":"A450+Model!$C$48","v":0.43800000000000033},0.6285440065250274,null,0.6285440065250274,null,0.39506756813853366,null,0.29407909782361069,0,0,null,0.29341979235937665]
[{"$f":"A451+Model!$C$48","v":0.43900000000000033},0.6279986860482295,null,0.6279986860482295,null,0.39438234967830271,null,0.2944738227825191,0.29421084421490284,1,null,0.29421084421490284]
[{"$f":"A452+Model!$C$48","v":0.44000000000000034},0.62745473214575109,null,0.62745473214575109,null,0.39369944089209624,null,0.29486786367780432,0,0,null,0.29421084421490284]
[{"$f":"A453+Model!$C$48","v":0.44100000000000034},0.62691213941559087,null,0.62691213941559087,null,0.39301883054663322,null,0.29526122281352368,0.29499915364173529,1,null,0.29499915364173529]
[{"$f":"A454+Model!$C$48","v":0.44200000000000034},0.6263709024830767,null,0.6263709024830767,null,0.39234050747746396,null,0.29565390248253576,0,0,null,0.29499915364173529]
[{"$f":"A455+Model!$C$48","v":0.44300000000000034},0.62583101600071978,null,0.62583101600071978,null,0.39166446058849319,null,0.29604590496656874,0.29578473908744912,1,null,0.29578473908744912]
[{"$f":"A456+Model!$C$48","v":0.44400000000000034},0.62529247464806381,null,0.62529247464806381,null,0.39099067885149952,null,0.29643723253628873,0,0,null,0.29578473908744912]
[{"$f":"A457+Model!$C$48","v":0.44500000000000034},0.62475527313154011,null,0.62475527313154011,null,0.3903191513056653,null,0.29682788745136729,0.29656761882080146,1,null,0.29656761882080146]
[{"$f":"A458+Model!$C$48","v":0.44600000000000034},0.62421940618431793,null,0.62421940618431793,null,0.38964986705710247,null,0.29721787196054866,0,0,null,0.29656761882080146]
[{"$f":"A459+Model!$C$48","v":0.44700000000000034},0.62368486856616046,null,0.62368486856616046,null,0.38898281527838885,null,0.2976071883017164,0.29734781093391377,1,null,0.29734781093391377]
[{"$f":"A460+Model!$C$48","v":0.44800000000000034},0.62315165506327685,null,0.62315165506327685,null,{"$f":"B461*D461","v":0.38831798520810118},null,0.29799583870195961,0,0,null,0.29734781093391377]
[{"$f":"A461+Model!$C$48","v":0.44900000000000034},{"$f":"IF($B$10>0,ERF($B$10/SQRT(A462)),-ERF(-$B$10/SQRT(A462)))","v":0.62261976048817924},null,{"$f":"IF($B$11>0,ERF($B$11/SQRT(A462)),-ERF(-$B$11/SQRT(A462)))","v":0.62261976048817924},null,0.38765536615035767,null,{"$f":"0.5*(F462+F461)*(A462-A461)+H461","v":0.29838382537763886},0.2981253333444237,1,null,0.2981253333444237]
[{"$f":"A462+Model!$C$48","v":0.45000000000000034},0.6220891796795357,null,0.6220891796795357,null,0.38699494747435764,null,0.29877115053445119,0,{"$f":"IF(J462=1,0,1)","v":0},null,0.2981253333444237]
[{"$f":"A463+Model!$C$48","v":0.45100000000000035},0.62155990750202705,null,0.62155990750202705,null,0.38633671861392843,null,0.29915781636749533,0.29890020379760707,1,null,0.29890020379760707]
[{"$f":"A464+Model!$C$48","v":0.45200000000000035},0.62103193884620578,null,0.62103193884620578,null,0.38568066906707749,null,0.29954382506133581,{"$f":"(I463+((A465-A464)/3)*(4*F463+2*F464))*J465","v":0},0,null,{"$f":"IF(J465=1,I465,I464)","v":0.29890020379760707}]
[{"$f":"A465+Model!$C$48","v":0.45300000000000035},0.62050526862834798,null,0.62050526862834798,null,0.38502678839553828,null,0.29992917879006714,0.29967243986847036,1,null,0.29967243986847036]
[{"$f":"A466+Model!$C$48","v":0.45400000000000035},0.61997989179031554,null,0.61997989179031554,null,0.38437506622433137,null,0.30031387971737705,0,0,null,0.29967243986847036]
[{"$f":"A467+Model!$C$48","v":0.45500000000000035},0.61945580329941363,null,0.61945580329941363,null,0.38372549224132185,null,0.30069792999660988,0.30044205896381398,1,null,0.30044205896381398]
[{"$f":"A468+Model!$C$48","v":0.45600000000000035},0.61893299814824709,null,0.61893299814824709,null,0.38307805619677804,null,0.30108133177082891,0,0,null,0.30044205896381398]
[{"$f":"A469+Model!$C$48","v":0.45700000000000035},0.61841147135458341,null,0.61841147135458341,null,0.38243274790294074,null,0.30146408717287876,0.30120907832426691,1,null,0.30120907832426691]
[{"$f":"A470+Model!$C$48","v":0.45800000000000035},0.6178912179612106,null,0.6178912179612106,null,0.38178955723358826,null,0.30184619832544701,0,0,null,0.30120907832426691]
[{"$f":"A471+Model!$C$48","v":0.45900000000000035},0.61737223303579847,null,0.61737223303579847,null,0.38114847412360825,null,0.30222766734112561,0.30197351502629322,1,null,0.30197351502629322]
[{"$f":"A472+Model!$C$48","v":0.46000000000000035},0.61685451167076089,null,0.61685451167076089,null,0.38050948856857286,null,0.30260849632247172,0,0,null,0.30197351502629322]
[{"$f":"A473+Model!$C$48","v":0.46100000000000035},0.6163380489831165,null,0.6163380489831165,null,0.3798725906243145,null,0.30298868736206819,0.30273538598417044,1,null,0.30273538598417044]
[{"$f":"A474+Model!$C$48","v":0.46200000000000035},0.61582284011435207,null,0.61582284011435207,null,0.3792377704065068,null,0.3033682425425836,0,0,null,0.30273538598417044]
[{"$f":"A475+Model!$C$48","v":0.46300000000000036},0.61530888023028696,null,0.61530888023028696,null,0.3786050180902496,null,0.30374716393683199,0.3034947079519405,1,null,0.3034947079519405]
[{"$f":"A476+Model!$C$48","v":0.46400000000000036},0.61479616452093444,null,0.61479616452093444,null,0.37797432390965191,null,0.30412545360783194,0,0,null,0.3034947079519405]
[{"$f":"A477+Model!$C$48","v":0.46500000000000036},0.61428468820036874,null,0.61428468820036874,null,0.37734567815742426,null,0.30450311360886551,0.30425149752533392,1,null,0.30425149752533392]
[{"$f":"A478+Model!$C$48","v":0.46600000000000036},0.6137744465065883,null,0.6137744465065883,null,0.37671907118446885,null,0.30488014598353647,0,0,null,0.30425149752533392]
[{"$f":"A479+Model!$C$48","v":0.46700000000000036},0.61326543470138417,null,0.61326543470138417,null,0.3760944933994777,null,0.30525655276582842,0.30500577114366678,1,null,0.30500577114366678]
[{"$f":"A480+Model!$C$48","v":0.46800000000000036},0.61275764807020372,null,0.61275764807020372,null,0.37547193526852762,null,0.30563233598016243,0,0,null,0.30500577114366678]
[{"$f":"A481+Model!$C$48","v":0.46900000000000036},0.61225108192201894,null,0.61225108192201894,null,0.37485138731468276,null,0.30600749764145402,0.30575754509171177,1,null,0.30575754509171177]
[{"$f":"A482+Model!$C$48","v":0.47000000000000036},0.61174573158919554,null,0.61174573158919554,null,0.37423284011760005,null,0.30638203975517014,0,0,null,0.30575754509171177]
[{"$f":"A483+Model!$C$48","v":0.47100000000000036},0.61124159242735931,null,0.61124159242735931,null,0.37361628431313404,null,0.3067559643173855,0.30650683550154306,1,null,0.30650683550154306]
[{"$f":"A484+Model!$C$48","v":0.47200000000000036},0.61073865981526609,null,0.61073865981526609,null,0.37300171059294734,null,0.30712927331483852,0,0,null,0.30650683550154306]
[{"$f":"A485+Model!$C$48","v":0.47300000000000036},0.61023692915467231,null,0.61023692915467231,null,0.37238910970412453,null,0.30750196872498708,0.30725365835435586,1,null,0.30725365835435586]
[{"$f":"A486+Model!$C$48","v":0.47400000000000037},0.60973639587020401,null,0.60973639587020401,null,0.37177847244878615,null,0.30787405251606353,0,0,null,0.30725365835435586]
[{"$f":"A487+Model!$C$48","v":0.47500000000000037},0.60923705540922868,null,0.60923705540922868,null,0.37116978968370756,null,0.30824552664712979,0.30799802948226057,1,null,0.30799802948226057]
[{"$f":"A488+Model!$C$48","v":0.47600000000000037},0.60873890324172786,null,0.60873890324172786,null,0.37056305231994169,null,0.3086163930681316,0,0,null,0.30799802948226057]
[{"$f":"A489+Model!$C$48","v":0.47700000000000037},0.60824193486016698,null,0.60824193486016698,null,0.36995825132243959,null,0.30898665371995276,0.30873996457005215,1,null,0.30873996457005215]
[{"$f":"A490+Model!$C$48","v":0.47800000000000037},0.60774614577937069,null,0.60774614577937069,null,0.36935537770968008,null,0.30935631053446883,0,0,null,0.30873996457005215]
[{"$f":"A491+Model!$C$48","v":0.47900000000000037},0.60725153153639611,null,0.60725153153639611,null,0.36875442255329866,null,0.30972536543460033,0.30947947915695517,1,null,0.30947947915695517]
[{"$f":"A492+Model!$C$48","v":0.48000000000000037},0.60675808769040618,null,0.60675808769040618,null,0.36815537697771861,null,0.31009382033436583,0,0,null,0.30947947915695517]
[{"$f":"A493+Model!$C$48","v":0.48100000000000037},0.60626580982254552,null,0.60626580982254552,null,0.36755823215978695,null,0.31046167713893458,0.31021658863834473,1,null,0.31021658863834473]
[{"$f":"A494+Model!$C$48","v":0.48200000000000037},0.60577469353581581,null,0.60577469353581581,null,0.36696297932841154,null,0.31082893774467868,0,0,null,0.31021658863834473]
[{"$f":"A495+Model!$C$48","v":0.48300000000000037},0.60528473445495279,null,0.60528473445495279,null,0.36636960976420269,null,0.31119560403922497,0.31095130826744338,1,null,0.31095130826744338]
[{"$f":"A496+Model!$C$48","v":0.48400000000000037},0.60479592822630091,null,0.60479592822630091,null,0.36577811479911293,null,0.31156167790150663,0,0,null,0.31095130826744338]
[{"$f":"A497+Model!$C$48","v":0.48500000000000038},0.6043082705176942,null,0.6043082705176942,null,0.36518848581608665,null,0.31192716120181424,0.31168365315699509,1,null,0.31168365315699509]
[{"$f":"A498+Model!$C$48","v":0.48600000000000038},0.60382175701833185,null,0.60382175701833185,null,0.36460071424870538,null,0.31229205580184666,0,0,null,0.31168365315699509]
[{"$f":"A499+Model!$C$48","v":0.48700000000000038},0.60333638343865825,null,0.60333638343865825,null,0.36401479158083966,null,0.31265636355476145,0.31241363828091567,1,null,0.31241363828091567]
[{"$f":"A500+Model!$C$48","v":0.48800000000000038},0.60285214551024269,null,0.60285214551024269,null,0.36343070934630284,null,0.31302008630522504,0,0,null,0.31241363828091567]
[{"$f":"A501+Model!$C$48","v":0.48900000000000038},0.60236903898565908,null,0.60236903898565908,null,0.36284845912850644,null,0.31338322588946244,0.31314127847592099,1,null,0.31314127847592099]
[{"$f":"A502+Model!$C$48","v":0.49000000000000038},0.60188705963836731,null,0.60188705963836731,null,0.36226803256011952,null,0.31374578413530674,0,0,null,0.31314127847592099]
[{"$f":"A503+Model!$C$48","v":0.49100000000000038},0.6014062032625932,null,0.6014062032625932,null,0.36168942132272758,null,0.31410776286224817,0.31386658844313242,1,null,0.31386658844313242]
[{"$f":"A504+Model!$C$48","v":0.49200000000000038},0.60092646567321306,null,0.60092646567321306,null,0.36111261714649934,null,0.31446916388148277,0,0,null,0.31386658844313242]
[{"$f":"A505+Model!$C$48","v":0.49300000000000038},0.60044784270563545,null,0.60044784270563545,null,0.36053761180985155,null,0.31482998899596093,0.31458958274966037,1,null,0.31458958274966037]
[{"$f":"A506+Model!$C$48","v":0.49400000000000038},0.59997033021568325,null,0.59997033021568325,null,0.35996439713911599,null,0.31519024000043544,0,0,null,0.31458958274966037]
[{"$f":"A507+Model!$C$48","v":0.49500000000000038},0.5994939240794791,null,0.5994939240794791,null,0.35939296500821227,null,0.31554991868150911,0.31531027583016624,1,null,0.31531027583016624]
[{"$f":"A508+Model!$C$48","v":0.49600000000000039},0.59901862019333119,null,0.59901862019333119,null,0.35882330733832235,null,0.3159090268176824,0,0,null,0.31531027583016624]
[{"$f":"A509+Model!$C$48","v":0.49700000000000039},0.5985444144736155,null,0.5985444144736155,null,0.35825541609756323,null,0.31626756617940033,0.31602868198840273,1,null,0.31602868198840273]
[{"$f":"A510+Model!$C$48","v":0.49800000000000039},0.5980713028566651,null,0.5980713028566651,null,0.35768928330066885,null,0.31662553852909947,0,0,null,0.31602868198840273]
[{"$f":"A511+Model!$C$48","v":0.49900000000000039},0.59759928129865425,null,0.59759928129865425,null,0.35712490100866812,null,0.31698294562125412,0.31674481539873328,1,null,0.31674481539873328]
[{"$f":"A512+Model!$C$48","v":0.50000000000000033},0.59712834577548746,null,0.59712834577548746,null,0.35656226132857011,null,0.31733978920242273,0,0,null,0.31674481539873328]
[{"$f":"A513+Model!$C$48","v":0.50100000000000033},0.5966584922826863,null,0.5966584922826863,null,0.35600135641304842,null,0.31769607101129355,0.31745869010763056,1,null,0.31745869010763056]
[{"$f":"A514+Model!$C$48","v":0.50200000000000033},0.59618971683527777,null,0.59618971683527777,null,0.35544217846012871,null,0.31805179277873014,0,0,null,0.31745869010763056]
[{"$f":"A515+Model!$C$48","v":0.50300000000000034},0.59572201546768433,null,0.59572201546768433,null,0.35488471971287994,null,0.31840695622781662,0.31817032003515472,1,null,0.31817032003515472]
[{"$f":"A516+Model!$C$48","v":0.50400000000000034},0.59525538423361413,null,0.59525538423361413,null,0.35432897245910761,null,0.31876156307390263,0,0,null,0.31817032003515472]
[{"$f":"A517+Model!$C$48","v":0.50500000000000034},0.59478981920594876,null,0.59478981920594876,null,0.35377492903104518,null,0.31911561502464769,0.31887971897641132,1,null,0.31887971897641132]
[{"$f":"A518+Model!$C$48","v":0.50600000000000034},0.59432531647663756,null,0.59432531647663756,null,0.35322258180505539,null,0.31946911378006576,0,0,null,0.31887971897641132]
[{"$f":"A519+Model!$C$48","v":0.50700000000000034},0.59386187215658714,null,0.59386187215658714,null,0.35267192320132668,null,0.31982206103256894,0.31958690060298944,1,null,0.31958690060298944]
[{"$f":"A520+Model!$C$48","v":0.50800000000000034},0.59339948237555462,null,0.59339948237555462,null,0.35212294568357616,null,0.32017445846701137,0,0,null,0.31958690060298944]
[{"$f":"A521+Model!$C$48","v":0.50900000000000034},0.5929381432820402,null,0.5929381432820402,null,0.35157564175875322,null,0.32052630776073254,0.32029187846438029,1,null,0.32029187846438029]
[{"$f":"A522+Model!$C$48","v":0.51000000000000034},0.59247785104318007,null,0.59247785104318007,null,0.35103000397674466,null,0.32087761058360031,0,0,null,0.32029187846438029]
[{"$f":"A523+Model!$C$48","v":0.51100000000000034},0.59201860184464228,null,0.59201860184464228,null,0.35048602493008507,null,0.3212283685980537,0.32099466598937648,1,null,0.32099466598937648]
[{"$f":"A524+Model!$C$48","v":0.51200000000000034},0.59156039189051957,null,0.59156039189051957,null,{"$f":"B525*D525","v":0.34994369725366509},null,0.32157858345914558,0,0,null,0.32099466598937648]
[{"$f":"A525+Model!$C$48","v":0.51300000000000034},{"$f":"IF($B$10>0,ERF($B$10/SQRT(A526)),-ERF(-$B$10/SQRT(A526)))","v":0.59110321740322525},null,{"$f":"IF($B$11>0,ERF($B$11/SQRT(A526)),-ERF(-$B$11/SQRT(A526)))","v":0.59110321740322525},null,0.34940301362444459,null,{"$f":"0.5*(F526+F525)*(A526-A525)+H525","v":0.32192825681458465},0.32169527648745239,1,null,0.32169527648745239]
[{"$f":"A526+Model!$C$48","v":0.51400000000000035},0.59064707462339028,null,0.59064707462339028,null,0.34886396676116876,null,0.32227739030477748,0,{"$f":"IF(J526=1,0,1)","v":0},null,0.32169527648745239]
[{"$f":"A527+Model!$C$48","v":0.51500000000000035},0.59019195980975836,null,0.59019195980975836,null,0.34832654942408342,null,0.32262598556287009,0.32239372315012577,1,null,0.32239372315012577]
[{"$f":"A528+Model!$C$48","v":0.51600000000000035},0.58973786923908356,null,0.58973786923908356,null,0.3477907544146544,null,0.32297404421478948,{"$f":"(I527+((A529-A528)/3)*(4*F527+2*F528))*J529","v":0},0,null,{"$f":"IF(J529=1,I529,I528)","v":0.32239372315012577}]
[{"$f":"A529+Model!$C$48","v":0.51700000000000035},0.58928479920602872,null,0.58928479920602872,null,0.34725657457528958,null,0.32332156787928445,0.323090019052301,1,null,0.323090019052301]
[{"$f":"A530+Model!$C$48","v":0.51800000000000035},0.58883274602306268,null,0.58883274602306268,null,0.34672400278906063,null,0.32366855816796664,0,0,null,0.323090019052301]
[{"$f":"A531+Model!$C$48","v":0.51900000000000035},0.58838170602036044,null,0.58838170602036044,null,0.34619303197942985,null,0.32401501668535088,0.32378417715359409,1,null,0.32378417715359409]
[{"$f":"A532+Model!$C$48","v":0.52000000000000035},0.58793167554570125,null,0.58793167554570125,null,0.34566365510997571,null,0.32436094502889556,0,0,null,0.32378417715359409]
[{"$f":"A533+Model!$C$48","v":0.52100000000000035},0.58748265096437047,null,0.58748265096437047,null,0.34513586518412431,null,0.32470634478904259,0.32447621029963997,1,null,0.32447621029963997]
[{"$f":"A534+Model!$C$48","v":0.52200000000000035},0.58703462865905909,null,0.58703462865905909,null,0.34460965524487941,null,0.32505121754925709,0,0,null,0.32447621029963997]
[{"$f":"A535+Model!$C$48","v":0.52300000000000035},0.58658760502976504,null,0.58658760502976504,null,0.34408501837455563,null,0.3253955648860668,0.32516613122338206,1,null,0.32516613122338206]
[{"$f":"A536+Model!$C$48","v":0.52400000000000035},0.5861415764936958,null,0.5861415764936958,null,0.34356194769451504,null,0.32573938836910132,0,0,null,0.32516613122338206]
[{"$f":"A537+Model!$C$48","v":0.52500000000000036},0.58569653948517042,null,0.58569653948517042,null,0.34304043636490378,null,0.32608268956113101,0.32585395254634447,1,null,0.32585395254634447]
[{"$f":"A538+Model!$C$48","v":0.52600000000000036},0.58525249045552274,null,0.58525249045552274,null,0.34252047758439175,null,0.32642547001810568,0,0,null,0.32585395254634447]
[{"$f":"A539+Model!$C$48","v":0.52700000000000036},0.58480942587300422,null,0.58480942587300422,null,0.34200206458991284,null,0.32676773128919284,0.32653968677988726,1,null,0.32653968677988726]
[{"$f":"A540+Model!$C$48","v":0.52800000000000036},0.5843673422226896,null,0.5843673422226896,null,0.34148519065641003,null,0.32710947491681602,0,0,null,0.32653968677988726]
[{"$f":"A541+Model!$C$48","v":0.52900000000000036},0.58392623600638072,null,0.58392623600638072,null,0.34096984909657946,null,0.3274507024366925,0.32722334632644473,1,null,0.32722334632644473]
[{"$f":"A542+Model!$C$48","v":0.53000000000000036},0.58348610374251197,null,0.58348610374251197,null,0.34045603326061746,null,0.3277914153778711,0,0,null,0.32722334632644473]
[{"$f":"A543+Model!$C$48","v":0.53100000000000036},0.58304694196605578,null,0.58304694196605578,null,0.33994373653596921,null,0.3281316152627694,0.32790494348074722,1,null,0.32790494348074722]
[{"$f":"A544+Model!$C$48","v":0.53200000000000036},0.58260874722843048,null,0.58260874722843048,null,0.33943295234708121,null,0.32847130360721094,0,0,null,0.32790494348074722]
[{"$f":"A545+Model!$C$48","v":0.53300000000000036},0.58217151609740614,null,0.58217151609740614,null,0.3389236741551524,null,0.32881048192046208,0.32858449043102655,1,null,0.32858449043102655]
[{"$f":"A546+Model!$C$48","v":0.53400000000000036},0.58173524515701147,null,0.58173524515701147,null,0.33841589545788825,null,0.32914915170526859,0,0,null,0.32858449043102655]
[{"$f":"A547+Model!$C$48","v":0.53500000000000036},0.58129993100744359,null,0.58129993100744359,null,0.33790960978925866,null,0.32948731445789214,0.32926199926020533,1,null,0.32926199926020533]
[{"$f":"A548+Model!$C$48","v":0.53600000000000037},0.58086557026497665,null,0.58086557026497665,null,0.33740481071925654,null,0.32982497166814639,0,0,null,0.32926199926020533]
[{"$f":"A549+Model!$C$48","v":0.53700000000000037},0.58043215956187011,null,0.58043215956187011,null,0.33690149185365625,null,0.33016212481943286,0.32993748194707051,1,null,0.32993748194707051]
[{"$f":"A550+Model!$C$48","v":0.53800000000000037},0.57999969554627751,null,0.57999969554627751,null,0.3363996468337746,null,0.33049877538877659,0,0,null,0.32993748194707051]
[{"$f":"A551+Model!$C$48","v":0.53900000000000037},0.57956817488215995,null,0.57956817488215995,null,0.33589926933623793,null,0.33083492484686161,0.33061095036743121,1,null,0.33061095036743121]
[{"$f":"A552+Model!$C$48","v":0.54000000000000037},0.57913759424919431,null,0.57913759424919431,null,0.33540035307274441,null,0.3311705746580661,0,0,null,0.33061095036743121]
[{"$f":"A553+Model!$C$48","v":0.54100000000000037},0.57870795034268563,null,0.57870795034268563,null,0.33490289178983229,null,0.3315057262804974,0.33128241629526134,1,null,0.33128241629526134]
[{"$f":"A554+Model!$C$48","v":0.54200000000000037},0.57827923987347862,null,0.57827923987347862,null,0.33440687926864821,null,0.33184038116602665,0,0,null,0.33128241629526134]
[{"$f":"A555+Model!$C$48","v":0.54300000000000037},0.57785145956787098,null,0.57785145956787098,null,0.33391230932471883,null,0.33217454076032332,0.33195189140382686,1,null,0.33195189140382686]
[{"$f":"A556+Model!$C$48","v":0.54400000000000037},0.57742460616752533,null,0.57742460616752533,null,0.33341917580772173,null,0.33250820650288954,0,0,null,0.33195189140382686]
[{"$f":"A557+Model!$C$48","v":0.54500000000000037},0.57699867642938363,null,0.57699867642938363,null,0.33292747260126054,null,0.33284137982709405,0.33261938726679829,1,null,0.33261938726679829]
[{"$f":"A558+Model!$C$48","v":0.54600000000000037},0.57657366712558067,null,0.57657366712558067,null,0.3324371936226399,null,0.33317406216020601,0,0,null,0.33261938726679829]
[{"$f":"A559+Model!$C$48","v":0.54700000000000037},0.57614957504335873,null,0.57614957504335873,null,0.33194833282264286,null,0.33350625492342867,0.3332849153593484,1,null,0.3332849153593484]
[{"$f":"A560+Model!$C$48","v":0.54800000000000038},0.57572639698498307,null,0.57572639698498307,null,0.33146088418531033,null,0.33383795953193263,0,0,null,0.3332849153593484]
[{"$f":"A561+Model!$C$48","v":0.54900000000000038},0.57530412976765699,null,0.57530412976765699,null,0.33097484172772113,null,0.33416917739488916,0.33394848705923547,1,null,0.33394848705923547]
[{"$f":"A562+Model!$C$48","v":0.55000000000000038},0.57488277022343859,null,0.57488277022343859,null,0.33049019949977487,null,0.33449990991550294,0,0,null,0.33394848705923547]
[{"$f":"A563+Model!$C$48","v":0.55100000000000038},0.57446231519915625,null,0.57446231519915625,null,0.33000695158397475,null,0.3348301584910448,0.3346101136478723,1,null,0.3346101136478723]
[{"$f":"A564+Model!$C$48","v":0.55200000000000038},0.57404276155632739,null,0.57404276155632739,null,0.32952509209521452,null,0.3351599245128844,0,0,null,0.3346101136478723]
[{"$f":"A565+Model!$C$48","v":0.55300000000000038},0.57362410617107473,null,0.57362410617107473,null,0.32904461518056444,null,0.33548920936652227,0.33526980631138109,1,null,0.33526980631138109]
[{"$f":"A566+Model!$C$48","v":0.55400000000000038},0.57320634593404551,null,0.57320634593404551,null,0.32856551501906067,null,0.33581801443162207,0,0,null,0.33526980631138109]
[{"$f":"A567+Model!$C$48","v":0.55500000000000038},0.57278947775032896,null,0.57278947775032896,null,0.32808778582149462,null,0.33614634108204233,0.33592757614163454,1,null,0.33592757614163454]
[{"$f":"A568+Model!$C$48","v":0.55600000000000038},0.57237349853937669,null,0.57237349853937669,null,0.32761142183020586,null,0.3364741906858682,0,0,null,0.33592757614163454]
[{"$f":"A569+Model!$C$48","v":0.55700000000000038},0.57195840523492136,null,0.57195840523492136,null,0.3271364173188745,null,0.33680156460544275,0.33658343413728337,1,null,0.33658343413728337]
[{"$f":"A570+Model!$C$48","v":0.55800000000000038},0.57154419478489726,null,0.57154419478489726,null,0.32666276659231658,null,0.33712846419739834,0,0,null,0.33658343413728337]
[{"$f":"A571+Model!$C$48","v":0.55900000000000039},0.57113086415136061,null,0.57113086415136061,null,0.32619046398627993,null,0.33745489081268765,0.33723739120477009,1,null,0.33723739120477009]
[{"$f":"A572+Model!$C$48","v":0.56000000000000039},0.57071841031041193,null,0.57071841031041193,null,0.32571950386724369,null,0.33778084579661438,0,0,null,0.33723739120477009]
[{"$f":"A573+Model!$C$48","v":0.56100000000000039},0.57030683025211526,null,0.57030683025211526,null,0.32524988063221499,null,0.33810633048886413,0.33788945815932997,1,null,0.33788945815932997]
[{"$f":"A574+Model!$C$48","v":0.56200000000000039},0.5698961209804223,null,0.5698961209804223,null,0.32478158870853213,null,0.33843134622353449,0,0,null,0.33788945815932997]
[{"$f":"A575+Model!$C$48","v":0.56300000000000039},0.56948627951309438,null,0.56948627951309438,null,0.32431462255366628,null,0.33875589432916559,0.33853964572597861,1,null,0.33853964572597861]
[{"$f":"A576+Model!$C$48","v":0.56400000000000039},0.56907730288162461,null,0.56907730288162461,null,0.32384897665502432,null,0.33907997612876994,0,0,null,0.33853964572597861]
[{"$f":"A577+Model!$C$48","v":0.56500000000000039},0.56866918813116341,null,0.56866918813116341,null,0.32338464552975654,null,0.33940359293986233,0.33918796454048683,1,null,0.33918796454048683]
[{"$f":"A578+Model!$C$48","v":0.56600000000000039},0.56826193232043953,null,0.56826193232043953,null,0.32292162372455979,null,0.33972674607448949,0,0,null,0.33918796454048683]
[{"$f":"A579+Model!$C$48","v":0.56700000000000039},0.56785553252168741,null,0.56785553252168741,null,0.32245990581548917,null,0.34004943683925953,0.3398344251503429,1,null,0.3398344251503429]
[{"$f":"A580+Model!$C$48","v":0.56800000000000039},0.56744998582056982,null,0.56744998582056982,null,0.32199948640776488,null,0.34037166653537115,0,0,null,0.3398344251503429]
[{"$f":"A581+Model!$C$48","v":0.56900000000000039},0.56704528931610487,null,0.56704528931610487,null,0.32154036013558507,null,0.34069343645864281,0.34047903801570206,1,null,0.34047903801570206]
[{"$f":"A582+Model!$C$48","v":0.5700000000000004},0.56664144012059092,null,0.56664144012059092,null,0.32108252166193724,null,0.34101474789954156,0,0,null,0.34047903801570206]
[{"$f":"A583+Model!$C$48","v":0.5710000000000004},0.56623843535953278,null,0.56623843535953278,null,0.32062596567841178,null,0.34133560214321174,0.34112181351032411,1,null,0.34112181351032411]
[{"$f":"A584+Model!$C$48","v":0.5720000000000004},0.56583627217156918,null,0.56583627217156918,null,0.3201706869050181,null,0.34165600046950345,0,0,null,0.34112181351032411]
[{"$f":"A585+Model!$C$48","v":0.5730000000000004},0.56543494770839897,null,0.56543494770839897,null,0.31971668008999987,null,0.34197594415300098,0.34176276192249866,1,null,0.34176276192249866]
[{"$f":"A586+Model!$C$48","v":0.5740000000000004},0.56503445913470962,null,0.56503445913470962,null,0.31926394000965386,null,0.34229543446305083,0,0,null,0.34176276192249866]
[{"$f":"A587+Model!$C$48","v":0.5750000000000004},0.5646348036281047,null,0.5646348036281047,null,0.31881246146814834,null,0.34261447266378975,0.34240189345595845,1,null,0.34240189345595845]
[{"$f":"A588+Model!$C$48","v":0.5760000000000004},0.56423597837903217,null,0.56423597837903217,null,{"$f":"B589*D589","v":0.31836223929734364},null,0.34293306001417251,0,0,null,0.34240189345595845]
[{"$f":"A589+Model!$C$48","v":0.5770000000000004},{"$f":"IF($B$10>0,ERF($B$10/SQRT(A590)),-ERF(-$B$10/SQRT(A590)))","v":0.56383797376912814},null,{"$f":"IF($B$11>0,ERF($B$11/SQRT(A590)),-ERF(-$B$11/SQRT(A590)))","v":0.56383797376912814},null,0.31791326066407605,null,{"$f":"0.5*(F590+F589)*(A590-A589)+H589","v":0.34325119776415319},0.34303921823078087,1,null,0.34303921823078087]
[{"$f":"A590+Model!$C$48","v":0.5780000000000004},0.56344080074197744,null,0.56344080074197744,null,0.31746553594076071,null,0.34356888716245559,0,{"$f":"IF(J590=1,0,1)","v":0},null,0.34303921823078087]
[{"$f":"A591+Model!$C$48","v":0.5790000000000004},0.56304444961888145,null,0.56304444961888145,null,0.31701905224662913,null,0.34388612945654928,0.34367474626896016,1,null,0.34367474626896016]
[{"$f":"A592+Model!$C$48","v":0.5800000000000004},0.56264891764098079,null,0.56264891764098079,null,0.31657380452256717,null,0.3442029258849339,{"$f":"(I591+((A593-A592)/3)*(4*F591+2*F592))*J593","v":0},0,null,{"$f":"IF(J593=1,I593,I592)","v":0.34367474626896016}]
[{"$f":"A593+Model!$C$48","v":0.58100000000000041},0.56225420206190824,null,0.56225420206190824,null,0.31612978773627315,null,0.34451927768106333,0.3443084875416374,1,null,0.3443084875416374]
[{"$f":"A594+Model!$C$48","v":0.58200000000000041},0.56186030014772204,null,0.56186030014772204,null,0.31568699688208829,null,0.34483518607337249,0,0,null,0.3443084875416374]
[{"$f":"A595+Model!$C$48","v":0.58300000000000041},0.56146720917683723,null,0.56146720917683723,null,0.3152454269808263,null,0.34515065228530395,0.34494045192320716,1,null,0.34494045192320716]
[{"$f":"A596+Model!$C$48","v":0.58400000000000041},0.56107492643995627,null,0.56107492643995627,null,0.31480507307960232,null,0.34546567753533414,0,0,null,0.34494045192320716]
[{"$f":"A597+Model!$C$48","v":0.58500000000000041},0.56068344924000224,null,0.56068344924000224,null,0.31436593025166615,null,0.34578026303699977,0.34557064920790131,1,null,0.34557064920790131]
[{"$f":"A598+Model!$C$48","v":0.58600000000000041},0.56029277489205209,null,0.56029277489205209,null,0.31392799359623574,null,0.34609440999892371,0,0,null,0.34557064920790131]
[{"$f":"A599+Model!$C$48","v":0.58700000000000041},0.55990290072326887,null,0.55990290072326887,null,0.31349125823833068,null,0.34640811962484097,0.34619908911063435,1,null,0.34619908911063435]
[{"$f":"A600+Model!$C$48","v":0.58800000000000041},0.55951382407283579,null,0.55951382407283579,null,0.31305571932860826,null,0.34672139311362443,0,0,null,0.34619908911063435]
[{"$f":"A601+Model!$C$48","v":0.58900000000000041},0.55912554229189071,null,0.55912554229189071,null,0.31262137204320084,null,0.34703423165931035,0.34682578126783786,1,null,0.34682578126783786]
[{"$f":"A602+Model!$C$48","v":0.59000000000000041},0.55873805274346011,null,0.55873805274346011,null,0.31218821158355359,null,0.34734663645112374,0,0,null,0.34682578126783786]
[{"$f":"A603+Model!$C$48","v":0.59100000000000041},0.55835135280239345,null,0.55835135280239345,null,0.31175623317626283,null,0.34765860867350362,0.34745073523828451,1,null,0.34745073523828451]
[{"$f":"A604+Model!$C$48","v":0.59200000000000041},0.55796543985529945,null,0.55796543985529945,null,0.3113254320729178,null,0.3479701495061282,0,0,null,0.34745073523828451]
[{"$f":"A605+Model!$C$48","v":0.59300000000000042},0.55758031130048125,null,0.55758031130048125,null,0.31089580354994156,null,0.34828126012393962,0.34807396050390149,1,null,0.34807396050390149]
[{"$f":"A606+Model!$C$48","v":0.59400000000000042},0.5571959645478719,null,0.5571959645478719,null,0.31046734290843331,null,0.34859194169716878,0,0,null,0.34807396050390149]
[{"$f":"A607+Model!$C$48","v":0.59500000000000042},0.55681239701897212,null,0.55681239701897212,null,0.31004004547401343,null,0.34890219539136003,0.3486954664705737,1,null,0.3486954664705737]
[{"$f":"A608+Model!$C$48","v":0.59600000000000042},0.55642960614678572,null,0.55642960614678572,null,0.3096139065966671,null,0.34921202236739535,0,0,null,0.3486954664705737]
[{"$f":"A609+Model!$C$48","v":0.59700000000000042},0.55604758937575749,null,0.55604758937575749,null,0.30918892165059103,null,0.34952142378151896,0.34931526246893685,1,null,0.34931526246893685]
[{"$f":"A610+Model!$C$48","v":0.59800000000000042},0.5556663441617109,null,0.5556663441617109,null,0.30876508603404096,null,0.34983040078536126,0,0,null,0.34931526246893685]
[{"$f":"A611+Model!$C$48","v":0.59900000000000042},0.55528586797178592,null,0.55528586797178592,null,0.30834239516917966,null,0.35013895452596289,0.34993335775516032,1,null,0.34993335775516032]
[{"$f":"A612+Model!$C$48","v":0.60000000000000042},0.55490615828437706,null,0.55490615828437706,null,0.30792084450192614,null,0.35044708614579845,0,0,null,0.34993335775516032]
[{"$f":"A613+Model!$C$48","v":0.60100000000000042},0.55452721258907278,null,0.55452721258907278,null,0.30750042950180673,null,0.3507547967828003,0.35054976151172051,1,null,0.35054976151172051]
[{"$f":"A614+Model!$C$48","v":0.60200000000000042},0.55414902838659408,null,0.55414902838659408,null,0.30708114566180628,null,0.3510620875703821,0,0,null,0.35054976151172051]
[{"$f":"A615+Model!$C$48","v":0.60300000000000042},0.5537716031887342,null,0.5537716031887342,null,0.30666298849822088,null,0.35136895963746212,0.35116448284816415,1,null,0.35116448284816415]
[{"$f":"A616+Model!$C$48","v":0.60400000000000043},0.55339493451829846,null,0.55339493451829846,null,0.30624595355051182,null,0.35167541410848646,0,0,null,0.35116448284816415]
[{"$f":"A617+Model!$C$48","v":0.60500000000000043},0.55301901990904512,null,0.55301901990904512,null,0.30583003638116085,null,0.35198145210345227,0.35177753080186214,1,null,0.35177753080186214]
[{"$f":"A618+Model!$C$48","v":0.60600000000000043},0.55264385690562412,null,0.55264385690562412,null,0.30541523257552394,null,0.35228707473793064,0,0,null,0.35177753080186214]
[{"$f":"A619+Model!$C$48","v":0.60700000000000043},0.55226944306352044,null,0.55226944306352044,null,0.30500153774169103,null,0.35259228312308927,0.35238891433875402,1,null,0.35238891433875402]
[{"$f":"A620+Model!$C$48","v":0.60800000000000043},0.55189577594899375,null,0.55189577594899375,null,0.30458894751034193,null,0.35289707836571527,0,0,null,0.35238891433875402]
[{"$f":"A621+Model!$C$48","v":0.60900000000000043},0.5515228531390205,null,0.5515228531390205,null,0.30417745753460557,null,0.35320146156823773,0.35299864235408318,1,null,0.35299864235408318]
[{"$f":"A622+Model!$C$48","v":0.61000000000000043},0.55115067222123681,null,0.55115067222123681,null,0.30376706348992122,null,0.35350543382874999,0,0,null,0.35299864235408318]
[{"$f":"A623+Model!$C$48","v":0.61100000000000043},0.5507792307938798,null,0.5507792307938798,null,0.30335776107389789,null,0.3538089962410319,0.35360672367312262,1,null,0.35360672367312262]
[{"$f":"A624+Model!$C$48","v":0.61200000000000043},0.55040852646573035,null,0.55040852646573035,null,0.30294954600617657,null,0.35411214989457196,0,0,null,0.35360672367312262]
[{"$f":"A625+Model!$C$48","v":0.61300000000000043},0.55003855685605807,null,0.55003855685605807,null,0.30254241402829501,null,0.35441489587458919,0.35421316705189193,1,null,0.35421316705189193]
[{"$f":"A626+Model!$C$48","v":0.61400000000000043},0.54966931959456145,null,0.54966931959456145,null,0.30213636090354812,null,0.35471723526205512,0,0,null,0.35421316705189193]
[{"$f":"A627+Model!$C$48","v":0.61500000000000044},0.54930081232131467,null,0.54930081232131467,null,0.30173138241685615,null,0.35501916913371534,0.35481798117786534,1,null,0.35481798117786534]
[{"$f":"A628+Model!$C$48","v":0.61600000000000044},0.54893303268671001,null,0.54893303268671001,null,0.30132747437462865,null,0.35532069856211107,0,0,null,0.35481798117786534]
[{"$f":"A629+Model!$C$48","v":0.61700000000000044},0.5485659783514043,null,0.5485659783514043,null,0.30092463260463337,null,0.35562182461560071,0.35542117467067091,1,null,0.35542117467067091]
[{"$f":"A630+Model!$C$48","v":0.61800000000000044},0.54819964698626078,null,0.54819964698626078,null,0.30052285295586095,null,0.35592254835838094,0,0,null,0.35542117467067091]
[{"$f":"A631+Model!$C$48","v":0.61900000000000044},0.54783403627229743,null,0.54783403627229743,null,0.30012213129839688,null,0.35622287085050808,0.356022756082781,1,null,0.356022756082781]
[{"$f":"A632+Model!$C$48","v":0.62000000000000044},0.54746914390062973,null,0.54746914390062973,null,0.29972246352328841,null,0.3565227931479189,0,0,null,0.356022756082781]
[{"$f":"A633+Model!$C$48","v":0.62100000000000044},0.54710496757241833,null,0.54710496757241833,null,0.29932384554241692,null,0.35682231630245176,0.35662273390019439,1,null,0.35662273390019439]
[{"$f":"A634+Model!$C$48","v":0.62200000000000044},0.5467415049988148,null,0.5467415049988148,null,0.29892627328836902,null,0.35712144136186713,0,0,null,0.35662273390019439]
[{"$f":"A635+Model!$C$48","v":0.62300000000000044},0.5463787539009084,null,0.5463787539009084,null,0.29852974271430943,null,0.35742016936986848,0.35722111654310984,1,null,0.35722111654310984]
[{"$f":"A636+Model!$C$48","v":0.62400000000000044},0.54601671200967106,null,0.54601671200967106,null,0.29813424979385206,null,0.35771850136612254,0,0,null,0.35722111654310984]
[{"$f":"A637+Model!$C$48","v":0.62500000000000044},0.54565537706590828,null,0.54565537706590828,null,0.29773979052093852,null,0.35801643838627994,0.3578179123665915,1,null,0.3578179123665915]
[{"$f":"A638+Model!$C$48","v":0.62600000000000044},0.54529474682020207,null,0.54529474682020207,null,0.29734636090970828,null,0.35831398146199528,0,0,null,0.3578179123665915]
[{"$f":"A639+Model!$C$48","v":0.62700000000000045},0.544934819032863,null,0.544934819032863,null,0.29695395699437915,null,0.35861113162094732,0.3584131296612259,1,null,0.3584131296612259]
[{"$f":"A640+Model!$C$48","v":0.62800000000000045},0.54457559147387502,null,0.54457559147387502,null,0.2965625748291208,null,0.35890788988685907,0,0,null,0.3584131296612259]
[{"$f":"A641+Model!$C$48","v":0.62900000000000045},0.54421706192284613,null,0.54421706192284613,null,0.29617221048793496,null,0.3592042572795176,0.35900677665377118,1,null,0.35900677665377118]
[{"$f":"A642+Model!$C$48","v":0.63000000000000045},0.54385922816895582,null,0.54385922816895582,null,0.29578286006453236,null,0.35950023481479382,0,0,null,0.35900677665377118]
[{"$f":"A643+Model!$C$48","v":0.63100000000000045},0.54350208801090494,null,0.54350208801090494,null,0.29539451967221347,null,0.35979582350466222,0.35959886150779813,1,null,0.35959886150779813]
[{"$f":"A644+Model!$C$48","v":0.63200000000000045},0.54314563925686432,null,0.54314563925686432,null,0.29500718544374777,null,0.36009102435722018,0,0,null,0.35959886150779813]
[{"$f":"A645+Model!$C$48","v":0.63300000000000045},0.54278987972442572,null,0.54278987972442572,null,0.29462085353125655,null,0.36038583837670768,0.36018939232432357,1,null,0.36018939232432357]
[{"$f":"A646+Model!$C$48","v":0.63400000000000045},0.5424348072405506,null,0.5424348072405506,null,0.29423552010609327,null,0.36068026656352636,0,0,null,0.36018939232432357]
[{"$f":"A647+Model!$C$48","v":0.63500000000000045},0.54208041964151998,null,0.54208041964151998,null,0.2938511813587264,null,0.36097430991425877,0.36077837714243599,1,null,0.36077837714243599]
[{"$f":"A648+Model!$C$48","v":0.63600000000000045},0.54172671477288759,null,0.54172671477288759,null,0.29346783349862549,null,0.36126796942168743,0,0,null,0.36077837714243599]
[{"$f":"A649+Model!$C$48","v":0.63700000000000045},0.54137369048942785,null,0.54137369048942785,null,0.29308547275414282,null,0.36156124607481382,0.3613658239399134,1,null,0.3613658239399134]
[{"$f":"A650+Model!$C$48","v":0.63800000000000046},0.54102134465508933,null,0.54102134465508933,null,0.29270409537240094,null,0.36185414085887707,0,0,null,0.3613658239399134]
[{"$f":"A651+Model!$C$48","v":0.63900000000000046},0.54066967514294417,null,0.54066967514294417,null,0.29232369761917676,null,0.36214665475537289,0.36195174063383384,1,null,0.36195174063383384]
[{"$f":"A652+Model!$C$48","v":0.64000000000000046},0.5403186798351417,null,0.5403186798351417,null,{"$f":"B653*D653","v":0.29194427577879034},null,0.36243878874207186,0,0,null,0.36195174063383384]
[{"$f":"A653+Model!$C$48","v":0.64100000000000046},{"$f":"IF($B$10>0,ERF($B$10/SQRT(A654)),-ERF(-$B$10/SQRT(A654)))","v":0.53996835662286025},null,{"$f":"IF($B$11>0,ERF($B$11/SQRT(A654)),-ERF(-$B$11/SQRT(A654)))","v":0.53996835662286025},null,0.2915658261539924,null,{"$f":"0.5*(F654+F653)*(A654-A653)+H653","v":0.36273054379303826},0.3625361350811786,1,null,0.3625361350811786]
[{"$f":"A654+Model!$C$48","v":0.64200000000000046},0.53961870340625806,null,0.53961870340625806,null,0.29118834506585112,null,0.36302192087864821,0,{"$f":"IF(J654=1,0,1)","v":0},null,0.3625361350811786]
[{"$f":"A655+Model!$C$48","v":0.64300000000000046},0.5392697180944277,null,0.5392697180944277,null,0.29081182885364354,null,0.36331292096560797,0.36311901507942784,1,null,0.36311901507942784]
[{"$f":"A656+Model!$C$48","v":0.64400000000000046},0.53892139860534849,null,0.53892139860534849,null,0.29043627387474491,null,0.36360354501697217,{"$f":"(I655+((A657-A656)/3)*(4*F655+2*F656))*J657","v":0},0,null,{"$f":"IF(J657=1,I657,I656)","v":0.36311901507942784}]
[{"$f":"A657+Model!$C$48","v":0.64500000000000046},0.53857374286583903,null,0.53857374286583903,null,0.29006167650451892,null,0.36389379399216182,0.36370038836714919,1,null,0.36370038836714919]
[{"$f":"A658+Model!$C$48","v":0.64600000000000046},0.53822674881151211,null,0.53822674881151211,null,0.28968803313621055,null,0.36418366884698217,0,0,null,0.36370038836714919]
[{"$f":"A659+Model!$C$48","v":0.64700000000000046},0.53788041438672696,null,0.53788041438672696,null,0.2893153401808371,null,0.3644731705336407,0.36428026262457935,1,null,0.36428026262457935]
[{"$f":"A660+Model!$C$48","v":0.64800000000000046},0.53753473754454451,null,0.53753473754454451,null,0.28894359406708237,null,0.36476230000076465,0,0,null,0.36428026262457935]
[{"$f":"A661+Model!$C$48","v":0.64900000000000047},0.53718971624668155,null,0.53718971624668155,null,0.28857279124119023,null,0.36505105819341876,0.36485864547419855,1,null,0.36485864547419855]
[{"$f":"A662+Model!$C$48","v":0.65000000000000047},0.53684534846346488,null,0.53684534846346488,null,0.28820292816685905,null,0.3653394460531228,0,0,null,0.36485864547419855]
[{"$f":"A663+Model!$C$48","v":0.65100000000000047},0.53650163217378743,null,0.53650163217378743,null,0.28783400132513792,null,0.36562746451786882,0.36543554448129806,1,null,0.36543554448129806]
[{"$f":"A664+Model!$C$48","v":0.65200000000000047},0.53615856536506135,null,0.53615856536506135,null,0.28746600721432075,null,0.36591511452213854,0,0,null,0.36543554448129806]
[{"$f":"A665+Model!$C$48","v":0.65300000000000047},0.5358161460331754,null,0.5358161460331754,null,0.28709894234984512,null,0.36620239699692064,0.36601096715454112,1,null,0.36601096715454112]
[{"$f":"A666+Model!$C$48","v":0.65400000000000047},0.53547437218245053,null,0.53547437218245053,null,0.28673280326418954,null,0.36648931286972763,0,0,null,0.36601096715454112]
[{"$f":"A667+Model!$C$48","v":0.65500000000000047},0.53513324182559441,null,0.53513324182559441,null,0.28636758650677008,null,0.36677586306461313,0.36658492094651707,1,null,0.36658492094651707]
[{"$f":"A668+Model!$C$48","v":0.65600000000000047},0.53479275298365958,null,0.53479275298365958,null,0.28600328864384156,null,0.36706204850218843,0,0,null,0.36658492094651707]
[{"$f":"A669+Model!$C$48","v":0.65700000000000047},0.53445290368599874,null,0.53445290368599874,null,0.28563990625839542,null,0.36734787009963954,0.36715741325428863,1,null,0.36715741325428863]
[{"$f":"A670+Model!$C$48","v":0.65800000000000047},0.53411369197022174,null,0.53411369197022174,null,0.28527743595006089,null,0.36763332877074378,0,0,null,0.36715741325428863]
[{"$f":"A671+Model!$C$48","v":0.65900000000000047},0.53377511588215343,null,0.53377511588215343,null,0.28491587433500631,null,0.36791842542588632,0.36772845141993321,1,null,0.36772845141993321]
[{"$f":"A672+Model!$C$48","v":0.66000000000000048},0.53343717347578978,null,0.53343717347578978,null,0.28455521804583983,null,0.36820316097207673,0,0,null,0.36772845141993321]
[{"$f":"A673+Model!$C$48","v":0.66100000000000048},0.53309986281325594,null,0.53309986281325594,null,0.28419546373151233,null,0.36848753631296538,0.36829804273107714,1,null,0.36829804273107714]
[{"$f":"A674+Model!$C$48","v":0.66200000000000048},0.53276318196476524,null,0.53276318196476524,null,0.28383660805722155,null,0.36877155234885972,0,0,null,0.36829804273107714]
[{"$f":"A675+Model!$C$48","v":0.66300000000000048},0.53242712900857536,null,0.53242712900857536,null,0.28347864770431414,null,0.36905520997674052,0.36886619442142399,1,null,0.36886619442142399]
[{"$f":"A676+Model!$C$48","v":0.66400000000000048},0.53209170203094758,null,0.53209170203094758,null,0.28312157937019072,null,0.36933851009027779,0,0,null,0.36886619442142399]
[{"$f":"A677+Model!$C$48","v":0.66500000000000048},0.53175689912610524,null,0.53175689912610524,null,0.28276539976821086,null,0.36962145357984699,0.36943291367127651,1,null,0.36943291367127651]
[{"$f":"A678+Model!$C$48","v":0.66600000000000048},0.53142271839619382,null,0.53142271839619382,null,0.28241010562760033,null,0.3699040413325449,0,0,null,0.36943291367127651]
[{"$f":"A679+Model!$C$48","v":0.66700000000000048},0.53108915795123757,null,0.53108915795123757,null,0.28205569369335459,null,0.37018627423220535,0.36999820760805252,1,null,0.36999820760805252]
[{"$f":"A680+Model!$C$48","v":0.66800000000000048},0.53075621590910083,null,0.53075621590910083,null,0.28170216072614807,null,0.37046815315941511,0,0,null,0.36999820760805252]
[{"$f":"A681+Model!$C$48","v":0.66900000000000048},0.53042389039544657,null,0.53042389039544657,null,0.28134950350224069,null,0.37074967899152933,0.37056208330679441,1,null,0.37056208330679441]
[{"$f":"A682+Model!$C$48","v":0.67000000000000048},0.53009217954369703,null,0.53009217954369703,null,0.28099771881338714,null,0.37103085260268714,0,0,null,0.37056208330679441]
[{"$f":"A683+Model!$C$48","v":0.67100000000000048},0.5297610814949929,null,0.5297610814949929,null,0.28064680346674453,null,0.37131167486382721,0.371124547790673,1,null,0.371124547790673]
[{"$f":"A684+Model!$C$48","v":0.67200000000000049},0.52943059439815532,null,0.52943059439815532,null,0.28029675428478407,null,0.37159214664270296,0,0,null,0.371124547790673]
[{"$f":"A685+Model!$C$48","v":0.67300000000000049},0.52910071640964251,null,0.52910071640964251,null,0.27994756810519694,null,0.37187226880389795,0.3716856080314852,1,null,0.3716856080314852]
[{"$f":"A686+Model!$C$48","v":0.67400000000000049},0.5287714456935162,null,0.5287714456935162,null,0.27959924178081114,null,0.37215204220884096,0,0,null,0.3716856080314852]
[{"$f":"A687+Model!$C$48","v":0.67500000000000049},0.52844278042139781,null,0.52844278042139781,null,0.27925177217949765,null,0.37243146771582114,0.37224527095014603,1,null,0.37224527095014603]
[{"$f":"A688+Model!$C$48","v":0.67600000000000049},0.52811471877243221,null,0.52811471877243221,null,0.27890515618408518,null,0.37271054618000293,0,0,null,0.37224527095014603]
[{"$f":"A689+Model!$C$48","v":0.67700000000000049},0.52778725893324852,null,0.52778725893324852,null,0.27855939069227192,null,0.3729892784534411,0.37280354341717475,1,null,0.37280354341717475]
[{"$f":"A690+Model!$C$48","v":0.67800000000000049},0.52746039909792142,null,0.52746039909792142,null,0.27821447261653853,null,0.37326766538509548,0,0,null,0.37280354341717475]
[{"$f":"A691+Model!$C$48","v":0.67900000000000049},0.52713413746793358,null,0.52713413746793358,null,0.27787039888406229,null,0.37354570782084578,0.3733604322531755,1,null,0.3733604322531755]
[{"$f":"A692+Model!$C$48","v":0.68000000000000049},0.52680847225213845,null,0.52680847225213845,null,0.27752716643663211,null,0.37382340660350616,0,0,null,0.3733604322531755]
[{"$f":"A693+Model!$C$48","v":0.68100000000000049},0.52648340166672103,null,0.52648340166672103,null,0.27718477223056193,null,0.37410076257283975,0.37391594422931201,1,null,0.37391594422931201]
[{"$f":"A694+Model!$C$48","v":0.68200000000000049},0.52615892393516139,null,0.52615892393516139,null,0.27684321323660693,null,0.37437777656557336,0,0,null,0.37391594422931201]
[{"$f":"A695+Model!$C$48","v":0.6830000000000005},0.52583503728819847,null,0.52583503728819847,null,0.27650248643988107,null,0.37465444941541159,0.37447008606777715,1,null,0.37447008606777715]
[{"$f":"A696+Model!$C$48","v":0.6840000000000005},0.52551173996379108,null,0.52551173996379108,null,0.27616258883977118,null,0.37493078195305141,0,0,null,0.37447008606777715]
[{"$f":"A697+Model!$C$48","v":0.6850000000000005},0.5251890302070823,null,0.5251890302070823,null,0.27582351744985562,null,0.3752067750061962,0.37502286444225685,1,null,0.37502286444225685]
[{"$f":"A698+Model!$C$48","v":0.6860000000000005},0.52486690627036392,null,0.52486690627036392,null,0.27548526929782297,null,0.37548242939957005,0,0,null,0.37502286444225685]
[{"$f":"A699+Model!$C$48","v":0.6870000000000005},0.52454536641303817,null,0.52454536641303817,null,0.27514784142538845,null,0.37575774595493167,0.37557428597838854,1,null,0.37557428597838854]
[{"$f":"A700+Model!$C$48","v":0.6880000000000005},0.52422440890158328,null,0.52422440890158328,null,0.27481123088821441,null,0.37603272549108846,0,0,null,0.37557428597838854]
[{"$f":"A701+Model!$C$48","v":0.6890000000000005},0.52390403200951619,null,0.52390403200951619,null,0.27447543475582814,null,0.37630736882391047,0.37612435725421456,1,null,0.37612435725421456]
[{"$f":"A702+Model!$C$48","v":0.6900000000000005},0.52358423401735876,null,0.52358423401735876,null,0.27414045011154431,null,0.37658167676634413,0,0,null,0.37612435725421456]
[{"$f":"A703+Model!$C$48","v":0.6910000000000005},0.52326501321260011,null,0.52326501321260011,null,0.27380627405238256,null,0.37685565012842609,0.37667308480063005,1,null,0.37667308480063005]
[{"$f":"A704+Model!$C$48","v":0.6920000000000005},0.52294636788966342,null,0.52294636788966342,null,0.27347290368899119,null,0.37712928971729676,0,0,null,0.37667308480063005]
[{"$f":"A705+Model!$C$48","v":0.6930000000000005},0.5226282963498694,null,0.5226282963498694,null,0.27314033614556693,null,0.37740259633721401,0.37722047510182588,1,null,0.37722047510182588]
[{"$f":"A706+Model!$C$48","v":0.69400000000000051},0.52231079690140314,null,0.52231079690140314,null,0.27280856855977881,null,0.37767557078956671,0,0,null,0.37722047510182588]
[{"$f":"A707+Model!$C$48","v":0.69500000000000051},0.52199386785927682,null,0.52199386785927682,null,0.27247759808268812,null,0.37794821387288796,0.37776653459572651,1,null,0.37776653459572651]
[{"$f":"A708+Model!$C$48","v":0.69600000000000051},0.52167750754529851,null,0.52167750754529851,null,0.27214742187867497,null,0.37822052638286863,0,0,null,0.37776653459572651]
[{"$f":"A709+Model!$C$48","v":0.69700000000000051},0.52136171428803568,null,0.52136171428803568,null,0.27181803712535935,null,0.37849250911237065,0.37831126967442252,1,null,0.37831126967442252]
[{"$f":"A710+Model!$C$48","v":0.69800000000000051},0.52104648642278217,null,0.52104648642278217,null,0.27148944101352651,null,0.3787641628514401,0,0,null,0.37831126967442252]
[{"$f":"A711+Model!$C$48","v":0.69900000000000051},0.52073182229152437,null,0.52073182229152437,null,0.27116163074705174,null,0.37903548838732037,0.37885468668459871,1,null,0.37885468668459871]
[{"$f":"A712+Model!$C$48","v":0.70000000000000051},0.52041772024290656,null,0.52041772024290656,null,0.27083460354282413,null,0.3793064865044653,0,0,null,0.37885468668459871]
[{"$f":"A713+Model!$C$48","v":0.70100000000000051},0.52010417863219971,null,0.52010417863219971,null,0.27050835663067513,null,0.37957715798455205,0.37939679192795667,1,null,0.37939679192795667]
[{"$f":"A714+Model!$C$48","v":0.70200000000000051},0.51979119582126598,null,0.51979119582126598,null,0.2701828872533017,null,0.37984750360649405,0,0,null,0.37939679192795667]
[{"$f":"A715+Model!$C$48","v":0.70300000000000051},0.51947877017852706,null,0.51947877017852706,null,0.26985819266619493,null,0.38011752414645378,0.3799375916616331,1,null,0.3799375916616331]
[{"$f":"A716+Model!$C$48","v":0.70400000000000051},0.51916690007893085,null,0.51916690007893085,null,{"$f":"B717*D717","v":0.26953427013756659},null,0.38038722037785566,0,0,null,0.3799375916616331]
[{"$f":"A717+Model!$C$48","v":0.70500000000000052},{"$f":"IF($B$10>0,ERF($B$10/SQRT(A718)),-ERF(-$B$10/SQRT(A718)))","v":0.51885558390391928},null,{"$f":"IF($B$11>0,ERF($B$11/SQRT(A718)),-ERF(-$B$11/SQRT(A718)))","v":0.51885558390391928},null,0.26921111694827704,null,{"$f":"0.5*(F718+F717)*(A718-A717)+H717","v":0.3806565930713986},0.38047709209861308,1,null,0.38047709209861308]
[{"$f":"A718+Model!$C$48","v":0.70600000000000052},0.51854482004139513,null,0.51854482004139513,null,0.26888873039176286,null,0.38092564299506859,0,{"$f":"IF(J718=1,0,1)","v":0},null,0.38047709209861308]
[{"$f":"A719+Model!$C$48","v":0.70700000000000052},0.51823460688569067,null,0.51823460688569067,null,0.26856710777396636,null,0.38119437091415148,0.38101529940813861,1,null,0.38101529940813861]
[{"$f":"A720+Model!$C$48","v":0.70800000000000052},0.5179249428375351,null,0.5179249428375351,null,0.268246246413264,null,0.38146277759124508,{"$f":"(I719+((A721-A720)/3)*(4*F719+2*F720))*J721","v":0},0,null,{"$f":"IF(J721=1,I721,I720)","v":0.38101529940813861}]
[{"$f":"A721+Model!$C$48","v":0.70900000000000052},0.51761582630402247,null,0.51761582630402247,null,0.26792614364039596,null,0.38173086378627191,0.38155221971611275,1,null,0.38155221971611275]
[{"$f":"A722+Model!$C$48","v":0.71000000000000052},0.51730725569858094,null,0.51730725569858094,null,0.267606796798397,null,0.38199863025649133,0,0,null,0.38155221971611275]
[{"$f":"A723+Model!$C$48","v":0.71100000000000052},0.51699922944093968,null,0.51699922944093968,null,0.26728820324252539,null,0.38226607775651178,0.38208785910549886,1,null,0.38208785910549886]
[{"$f":"A724+Model!$C$48","v":0.71200000000000052},0.51669174595709966,null,0.51669174595709966,null,0.266970360340196,null,0.38253320703830312,0,0,null,0.38208785910549886]
[{"$f":"A725+Model!$C$48","v":0.71300000000000052},0.51638480367930073,null,0.51638480367930073,null,0.26665326547090995,null,0.38280001885120868,0.38262222361671572,1,null,0.38262222361671572]
[{"$f":"A726+Model!$C$48","v":0.71400000000000052},0.51607840104599156,null,0.51607840104599156,null,0.26633691602618731,null,0.38306651394195723,0,0,null,0.38262222361671572]
[{"$f":"A727+Model!$C$48","v":0.71500000000000052},0.51577253650179899,null,0.51577253650179899,null,0.26602130940949958,null,0.3833326930546751,0.3831553192480277,1,null,0.3831553192480277]
[{"$f":"A728+Model!$C$48","v":0.71600000000000052},0.51546720849749617,null,0.51546720849749617,null,0.26570644303620117,null,0.38359855693089795,0,0,null,0.3831553192480277]
[{"$f":"A729+Model!$C$48","v":0.71700000000000053},0.51516241548997432,null,0.51516241548997432,null,0.26539231433346494,null,0.38386410630958279,0.38368715195593117,1,null,0.38368715195593117]
[{"$f":"A730+Model!$C$48","v":0.71800000000000053},0.51485815594221096,null,0.51485815594221096,null,0.265078920740214,null,0.38412934192711962,0,0,null,0.38368715195593117]
[{"$f":"A731+Model!$C$48","v":0.71900000000000053},0.51455442832323983,null,0.51455442832323983,null,0.26476625970705614,null,0.38439426451734326,0.38421772765553591,1,null,0.38421772765553591]
[{"$f":"A732+Model!$C$48","v":0.72000000000000053},0.51425123110812165,null,0.51425123110812165,null,0.26445432869621877,null,0.38465887481154493,0,0,null,0.38421772765553591]
[{"$f":"A733+Model!$C$48","v":0.72100000000000053},0.51394856277791423,null,0.51394856277791423,null,0.26414312518148364,null,0.38492317353848376,0.3847470522209428,1,null,0.3847470522209428]
[{"$f":"A734+Model!$C$48","v":0.72200000000000053},0.51364642181964315,null,0.51364642181964315,null,0.26383264664812278,null,0.38518716142439857,0,0,null,0.3847470522209428]
[{"$f":"A735+Model!$C$48","v":0.72300000000000053},0.51334480672627136,null,0.51334480672627136,null,0.2635228905928329,null,0.38545083919301903,0.38527513148561687,1,null,0.38527513148561687]
[{"$f":"A736+Model!$C$48","v":0.72400000000000053},0.51304371599667187,null,0.51304371599667187,null,0.26321385452367368,null,0.38571420756557728,0,0,null,0.38527513148561687]
[{"$f":"A737+Model!$C$48","v":0.72500000000000053},0.5127431481355964,null,0.5127431481355964,null,0.26290553596000216,null,0.3859772672608191,0.38580197124275645,1,null,0.38580197124275645]
[{"$f":"A738+Model!$C$48","v":0.72600000000000053},0.51244310165364904,null,0.51244310165364904,null,0.26259793243241208,null,0.38624001899501531,0,0,null,0.38580197124275645]
[{"$f":"A739+Model!$C$48","v":0.72700000000000053},0.51214357506725539,null,0.51214357506725539,null,0.26229104148266946,null,0.38650246348197287,0.38632757724565808,1,null,0.38632757724565808]
[{"$f":"A740+Model!$C$48","v":0.72800000000000054},0.51184456689863533,null,0.51184456689863533,null,0.26198486066365156,null,0.38676460143304603,0,0,null,0.38632757724565808]
[{"$f":"A741+Model!$C$48","v":0.72900000000000054},0.51154607567577404,null,0.51154607567577404,null,0.26167938753928471,null,0.3870264335571475,0.38685195520807741,1,null,0.38685195520807741]
[{"$f":"A742+Model!$C$48","v":0.73000000000000054},0.51124809993239428,null,0.51124809993239428,null,0.26137461968448339,null,0.38728796056075937,0,0,null,0.38685195520807741]
[{"$f":"A743+Model!$C$48","v":0.73100000000000054},0.51095063820792852,null,0.51095063820792852,null,0.26107055468508944,null,0.38754918314794418,0.38737511080458614,1,null,0.38737511080458614]
[{"$f":"A744+Model!$C$48","v":0.73200000000000054},0.51065368904748987,null,0.51065368904748987,null,0.26076719013781047,null,0.38781010202035565,0,0,null,0.38737511080458614]
[{"$f":"A745+Model!$C$48","v":0.73300000000000054},0.51035725100184537,null,0.51035725100184537,null,0.2604645236501606,null,0.38807071787724962,0.38789704967092481,1,null,0.38789704967092481]
[{"$f":"A746+Model!$C$48","v":0.73400000000000054},0.51006132262738901,null,0.51006132262738901,null,0.26016255284040141,null,0.38833103141549491,0,0,null,0.38789704967092481]
[{"$f":"A747+Model!$C$48","v":0.73500000000000054},0.50976590248611298,null,0.50976590248611298,null,0.25986127533748127,null,0.38859104332958383,0.38841777740435196,1,null,0.38841777740435196]
[{"$f":"A748+Model!$C$48","v":0.73600000000000054},0.5094709891455812,null,0.5094709891455812,null,0.25956068878097693,null,0.38885075431164307,0,0,null,0.38841777740435196]
[{"$f":"A749+Model!$C$48","v":0.73700000000000054},0.50917658117890197,null,0.50917658117890197,null,0.25926079082103493,null,0.38911016505144408,0.38893729956398926,1,null,0.38893729956398926]
[{"$f":"A750+Model!$C$48","v":0.73800000000000054},0.5088826771647017,null,0.5088826771647017,null,0.25896157911831402,null,0.38936927623641376,0,0,null,0.38893729956398926]
[{"$f":"A751+Model!$C$48","v":0.73900000000000055},0.50858927568709744,null,0.50858927568709744,null,0.25866305134392642,null,0.38962808855164488,0.38945562167116282,1,null,0.38945562167116282]
[{"$f":"A752+Model!$C$48","v":0.74000000000000055},0.50829637533566996,null,0.50829637533566996,null,0.25836520517938028,null,0.38988660267990655,0,0,null,0.38945562167116282]
[{"$f":"A753+Model!$C$48","v":0.74100000000000055},0.50800397470543857,null,0.50800397470543857,null,0.25806803831652386,null,0.39014481930165451,0.38997274920974095,1,null,0.38997274920974095]
[{"$f":"A754+Model!$C$48","v":0.74200000000000055},0.50771207239683402,null,0.50771207239683402,null,0.25777154845748801,null,0.39040273909504153,0,0,null,0.38997274920974095]
[{"$f":"A755+Model!$C$48","v":0.74300000000000055},0.50742066701567168,null,0.50742066701567168,null,0.25747573331462914,null,0.39066036273592758,0.39048868762646799,1,null,0.39048868762646799]
[{"$f":"A756+Model!$C$48","v":0.74400000000000055},0.50712975717312692,null,0.50712975717312692,null,0.25718059061047466,null,0.39091769089789014,0,0,null,0.39048868762646799]
[{"$f":"A757+Model!$C$48","v":0.74500000000000055},0.50683934148570819,null,0.50683934148570819,null,0.25688611807766631,null,0.39117472425223421,0.39100344233129447,1,null,0.39100344233129447]
[{"$f":"A758+Model!$C$48","v":0.74600000000000055},0.50654941857523228,null,0.50654941857523228,null,0.25659231345890587,null,0.39143146346800251,0,0,null,0.39100344233129447]
[{"$f":"A759+Model!$C$48","v":0.74700000000000055},0.50625998706879771,null,0.50625998706879771,null,0.25629917450689921,null,0.39168790921198543,0.39151701869770394,1,null,0.39151701869770394]
[{"$f":"A760+Model!$C$48","v":0.74800000000000055},0.50597104559875972,null,0.50597104559875972,null,0.25600669898430217,null,0.39194406214873101,0,0,null,0.39151701869770394]
[{"$f":"A761+Model!$C$48","v":0.74900000000000055},0.50568259280270511,null,0.50568259280270511,null,0.25571488466366649,null,0.392199922940555,0.39202942206303604,1,null,0.39202942206303604]
[{"$f":"A762+Model!$C$48","v":0.75000000000000056},0.50539462732342766,null,0.50539462732342766,null,0.25542372932738633,null,0.39245549224755055,0,0,null,0.39202942206303604]
[{"$f":"A763+Model!$C$48","v":0.75100000000000056},0.50510714780890187,null,0.50510714780890187,null,0.25513323076764383,null,0.39271077072759808,0.39254065772880586,1,null,0.39254065772880586]
[{"$f":"A764+Model!$C$48","v":0.75200000000000056},0.50482015291225868,null,0.50482015291225868,null,0.25484338678635626,null,0.3929657590363751,0,0,null,0.39254065772880586]
[{"$f":"A765+Model!$C$48","v":0.75300000000000056},0.50453364129176159,null,0.50453364129176159,null,0.25455419519512396,null,0.39322045782736581,0.39305073096102028,1,null,0.39305073096102028]
[{"$f":"A766+Model!$C$48","v":0.75400000000000056},0.50424761161078113,null,0.50424761161078113,null,0.25426565381517718,null,0.39347486775187096,0,0,null,0.39305073096102028]
[{"$f":"A767+Model!$C$48","v":0.75500000000000056},0.50396206253777021,null,0.50396206253777021,null,0.2539777604773234,null,0.39372898945901719,0.39355964699049056,1,null,0.39355964699049056]
[{"$f":"A768+Model!$C$48","v":0.75600000000000056},0.503676992746241,null,0.503676992746241,null,0.25369051302189694,null,0.39398282359576681,0,0,null,0.39355964699049056]
[{"$f":"A769+Model!$C$48","v":0.75700000000000056},0.50339240091473969,null,0.50339240091473969,null,0.25340390929870604,null,0.39423637080692708,0.39406741101314158,1,null,0.39406741101314158]
[{"$f":"A770+Model!$C$48","v":0.75800000000000056},0.50310828572682331,null,0.50310828572682331,null,0.25311794716698288,null,0.39448963173515994,0,0,null,0.39406741101314158]
[{"$f":"A771+Model!$C$48","v":0.75900000000000056},0.50282464587103493,null,0.50282464587103493,null,0.25283262449533167,null,0.39474260702099112,0.39457402819031784,1,null,0.39457402819031784]
[{"$f":"A772+Model!$C$48","v":0.76000000000000056},0.50254148004088062,null,0.50254148004088062,null,0.25254793916167884,null,0.39499529730281963,0,0,null,0.39457402819031784]
[{"$f":"A773+Model!$C$48","v":0.76100000000000056},0.50225878693480597,null,0.50225878693480597,null,0.25226388905322283,null,0.39524770321692709,0.39507950364908606,1,null,0.39507950364908606]
[{"$f":"A774+Model!$C$48","v":0.76200000000000057},0.50197656525617229,null,0.50197656525617229,null,0.25198047206638419,null,0.3954998253974869,0,0,null,0.39507950364908606]
[{"$f":"A775+Model!$C$48","v":0.76300000000000057},0.50169481371323243,null,0.50169481371323243,null,0.25169768610675497,null,0.39575166447657345,0.39558384248253464,1,null,0.39558384248253464]
[{"$f":"A776+Model!$C$48","v":0.76400000000000057},0.5014135310191099,null,0.5014135310191099,null,0.2514155290890519,null,0.39600322108417135,0,0,null,0.39558384248253464]
[{"$f":"A777+Model!$C$48","v":0.76500000000000057},0.50113271589177288,null,0.50113271589177288,null,0.25113399893706434,null,0.3962544958481844,0.3960870497500697,1,null,0.3960870497500697]
[{"$f":"A778+Model!$C$48","v":0.76600000000000057},0.50085236705401426,null,0.50085236705401426,null,0.25085309358360902,null,0.39650548939444474,0,0,null,0.3960870497500697]
[{"$f":"A779+Model!$C$48","v":0.76700000000000057},0.50057248323342518,null,0.50057248323342518,null,0.25057281097047773,null,0.39675620234672176,0.39658913047770816,1,null,0.39658913047770816]
[{"$f":"A780+Model!$C$48","v":0.76800000000000057},0.50029306316237632,null,0.50029306316237632,null,{"$f":"B781*D781","v":0.25029314904839345},null,0.39700663532673119,0,0,null,0.39658913047770816]
[{"$f":"A781+Model!$C$48","v":0.76900000000000057},{"$f":"IF($B$10>0,ERF($B$10/SQRT(A782)),-ERF(-$B$10/SQRT(A782)))","v":0.50001410557799275},null,{"$f":"IF($B$11>0,ERF($B$11/SQRT(A782)),-ERF(-$B$11/SQRT(A782)))","v":0.50001410557799275},null,0.25001410577696009,null,{"$f":"0.5*(F782+F781)*(A782-A781)+H781","v":0.39725678895414385},0.39709008965836773,1,null,0.39709008965836773]
[{"$f":"A782+Model!$C$48","v":0.77000000000000057},0.49973560922213217,null,0.49973560922213217,null,0.24973567912461558,null,0.39750666384659461,0,{"$f":"IF(J782=1,0,1)","v":0},null,0.39709008965836773]
[{"$f":"A783+Model!$C$48","v":0.77100000000000057},0.499457572841363,null,0.499457572841363,null,0.24945786706858541,null,0.39775626061969122,0.39758993225215344,1,null,0.39758993225215344]
[{"$f":"A784+Model!$C$48","v":0.77200000000000057},0.49917999518694101,null,0.49917999518694101,null,0.24918066759483445,null,0.3980055798870229,{"$f":"(I783+((A785-A784)/3)*(4*F783+2*F784))*J785","v":0},0,null,{"$f":"IF(J785=1,I785,I784)","v":0.39758993225215344}]
[{"$f":"A785+Model!$C$48","v":0.77300000000000058},0.49890287501478864,null,0.49890287501478864,null,0.24890407869802181,null,0.39825462226016933,0.39808866318664143,1,null,0.39808866318664143]
[{"$f":"A786+Model!$C$48","v":0.77400000000000058},0.49862621108547245,null,0.49862621108547245,null,0.24862809838145414,null,0.39850338834870908,0,0,null,0.39808866318664143]
[{"$f":"A787+Model!$C$48","v":0.77500000000000058},0.49835000216418174,null,0.49835000216418174,null,0.24835272465703995,null,0.39875187876022833,0.39858628735715979,1,null,0.39858628735715979]
[{"$f":"A788+Model!$C$48","v":0.77600000000000058},0.49807424702070552,null,0.49807424702070552,null,0.24807795554524278,null,0.39900009410032949,0,0,null,0.39858628735715979]
[{"$f":"A789+Model!$C$48","v":0.77700000000000058},0.4977989444294128,null,0.4977989444294128,null,0.24780378907503761,null,0.39924803497263961,0.39908280962706599,1,null,0.39908280962706599]
[{"$f":"A790+Model!$C$48","v":0.77800000000000058},0.49752409316922935,null,0.49752409316922935,null,0.24753022328386401,null,0.39949570197881906,0,0,null,0.39908280962706599]
[{"$f":"A791+Model!$C$48","v":0.77900000000000058},0.49724969202361774,null,0.49724969202361774,null,0.24725725621758268,null,0.39974309571856981,0.39957823482802196,1,null,0.39957823482802196]
[{"$f":"A792+Model!$C$48","v":0.78000000000000058},0.49697573978055587,null,0.49697573978055587,null,0.24698488593043078,null,0.3999902167896438,0,0,null,0.39957823482802196]
[{"$f":"A793+Model!$C$48","v":0.78100000000000058},0.49670223523251483,null,0.49670223523251483,null,0.24671311048497649,null,0.40023706578785151,0.40007256776026567,1,null,0.40007256776026567]
[{"$f":"A794+Model!$C$48","v":0.78200000000000058},0.49642917717643964,null,0.49642917717643964,null,0.24644192795207689,null,0.40048364330707004,0,0,null,0.40007256776026567]
[{"$f":"A795+Model!$C$48","v":0.78300000000000058},0.49615656441372669,null,0.49615656441372669,null,0.24617133641083253,null,0.40072994993925148,0.40056581319288037,1,null,0.40056581319288037]
[{"$f":"A796+Model!$C$48","v":0.78400000000000059},0.49588439575020365,null,0.49588439575020365,null,0.2459013339485446,null,0.40097598627443115,0,0,null,0.40056581319288037]
[{"$f":"A797+Model!$C$48","v":0.78500000000000059},0.49561266999611003,null,0.49561266999611003,null,0.24563191866067308,null,0.40122175290073575,0.4010579758640605,1,null,0.4010579758640605]
[{"$f":"A798+Model!$C$48","v":0.78600000000000059},0.4953413859660743,null,0.4953413859660743,null,0.2453630886507914,null,0.40146725040439146,0,0,null,0.4010579758640605]
[{"$f":"A799+Model!$C$48","v":0.78700000000000059},0.49507054247909543,null,0.49507054247909543,null,0.24509484203054582,null,0.40171247936973214,0.40154906048137529,1,null,0.40154906048137529]
[{"$f":"A800+Model!$C$48","v":0.78800000000000059},0.49480013835852199,null,0.49480013835852199,null,0.2448271769196125,null,0.40195744037920722,0,0,null,0.40154906048137529]
[{"$f":"A801+Model!$C$48","v":0.78900000000000059},0.49453017243203146,null,0.49453017243203146,null,0.24456009144565477,null,0.40220213401338983,0.40203907172202907,1,null,0.40203907172202907]
[{"$f":"A802+Model!$C$48","v":0.79000000000000059},0.49426064353161087,null,0.49426064353161087,null,0.24429358374428212,null,0.40244656085098479,0,0,null,0.40203907172202907]
[{"$f":"A803+Model!$C$48","v":0.79100000000000059},0.49399155049353644,null,0.49399155049353644,null,0.24402765195900816,null,0.40269072146883644,0.40252801423311946,1,null,0.40252801423311946]
[{"$f":"A804+Model!$C$48","v":0.79200000000000059},0.49372289215835435,null,0.49372289215835435,null,0.24376229424121001,null,0.40293461644193657,0,0,null,0.40252801423311946]
[{"$f":"A805+Model!$C$48","v":0.79300000000000059},0.49345466737085969,null,0.49345466737085969,null,0.24349750875008577,null,0.40317824634343219,0.4030158926318923,1,null,0.4030158926318923]
[{"$f":"A806+Model!$C$48","v":0.79400000000000059},0.49318687498007835,null,0.49318687498007835,null,0.24323329365261542,null,0.40342161174463353,0,0,null,0.4030158926318923]
[{"$f":"A807+Model!$C$48","v":0.7950000000000006},0.49291951383924665,null,0.49291951383924665,null,0.24296964712351926,null,0.40366471321502162,0.40350271150599415,1,null,0.40350271150599415]
[{"$f":"A808+Model!$C$48","v":0.7960000000000006},0.49265258280579155,null,0.49265258280579155,null,0.24270656734521731,null,0.40390755132225598,0,0,null,0.40350271150599415]
[{"$f":"A809+Model!$C$48","v":0.7970000000000006},0.49238608074131263,null,0.49238608074131263,null,0.24244405250779044,null,0.40415012663218247,0.40398847541372235,1,null,0.40398847541372235]
[{"$f":"A810+Model!$C$48","v":0.7980000000000006},0.49212000651156174,null,0.49212000651156174,null,0.24218210080893957,null,0.40439243970884081,0,0,null,0.40398847541372235]
[{"$f":"A811+Model!$C$48","v":0.7990000000000006},0.49185435898642432,null,0.49185435898642432,null,0.24192071045394636,null,0.40463449111447225,0.40447318888427203,1,null,0.40447318888427203]
[{"$f":"A812+Model!$C$48","v":0.8000000000000006},0.49158913703990026,null,0.49158913703990026,null,0.24165987965563385,null,0.40487628140952703,0,0,null,0.40447318888427203]
[{"$f":"A813+Model!$C$48","v":0.8010000000000006},0.49132433955008536,null,0.49132433955008536,null,0.24139960663432758,null,0.40511781115267204,0.40495685641798107,1,null,0.40495685641798107]
[{"$f":"A814+Model!$C$48","v":0.8020000000000006},0.49105996539915248,null,0.49105996539915248,null,0.24113988961781682,null,0.40535908090079809,0,0,null,0.40495685641798107]
[{"$f":"A815+Model!$C$48","v":0.8030000000000006},0.49079601347333224,null,0.49079601347333224,null,0.24088072684131531,null,0.40560009120902762,0.40543948248657208,1,null,0.40543948248657208]
[{"$f":"A816+Model!$C$48","v":0.8040000000000006},0.49053248266289518,null,0.49053248266289518,null,0.24062211654742355,null,0.40584084263072201,0,0,null,0.40543948248657208]
[{"$f":"A817+Model!$C$48","v":0.8050000000000006},0.4902693718621326,null,0.4902693718621326,null,0.24036405698609006,null,0.40608133571748878,0.40592107153339213,1,null,0.40592107153339213]
[{"$f":"A818+Model!$C$48","v":0.8060000000000006},0.49000667996933905,null,0.49000667996933905,null,0.24010654641457427,null,0.40632157101918909,0,0,null,0.40592107153339213]
[{"$f":"A819+Model!$C$48","v":0.80700000000000061},0.48974440588679363,null,0.48974440588679363,null,0.23984958309740848,null,0.4065615490839451,0.40640162797364998,1,null,0.40640162797364998]
[{"$f":"A820+Model!$C$48","v":0.80800000000000061},0.48948254852074136,null,0.48948254852074136,null,0.23959316530635991,null,0.40680127045814696,0,0,null,0.40640162797364998]
[{"$f":"A821+Model!$C$48","v":0.80900000000000061},0.48922110678137565,null,0.48922110678137565,null,0.23933729132039416,null,0.40704073568646032,0.40688115619465076,1,null,0.40688115619465076]
[{"$f":"A822+Model!$C$48","v":0.81000000000000061},0.48896007958282006,null,0.48896007958282006,null,0.23908195942563773,null,0.40727994531183331,0,0,null,0.40688115619465076]
[{"$f":"A823+Model!$C$48","v":0.81100000000000061},0.48869946584311086,null,0.48869946584311086,null,0.23882716791534186,null,0.40751889987550383,0.4073596605560284,1,null,0.4073596605560284]
[{"$f":"A824+Model!$C$48","v":0.81200000000000061},0.48843926448417874,null,0.48843926448417874,null,0.23857291508984552,null,0.40775759991700644,0,0,null,0.4073596605560284]
[{"$f":"A825+Model!$C$48","v":0.81300000000000061},0.48817947443183102,null,0.48817947443183102,null,0.23831919925653874,null,0.40799604597417966,0.4078371453899754,1,null,0.4078371453899754]
[{"$f":"A826+Model!$C$48","v":0.81400000000000061},0.48792009461573466,null,0.48792009461573466,null,0.23806601872982747,null,0.40823423858317281,0,0,null,0.4078371453899754]
[{"$f":"A827+Model!$C$48","v":0.81500000000000061},0.48766112396939848,null,0.48766112396939848,null,0.23781337183109702,null,0.40847217827845328,0.40831361500147068,1,null,0.40831361500147068]
[{"$f":"A828+Model!$C$48","v":0.81600000000000061},0.48740256143015526,null,0.48740256143015526,null,0.23756125688867627,null,0.40870986559281319,0,0,null,0.40831361500147068]
[{"$f":"A829+Model!$C$48","v":0.81700000000000061},0.4871444059391451,null,0.4871444059391451,null,0.23730967223780258,null,0.40894730105737642,0.40878907366850459,1,null,0.40878907366850459]
[{"$f":"A830+Model!$C$48","v":0.81800000000000062},0.48688665644129825,null,0.48688665644129825,null,0.2370586162205868,null,0.40918448520160561,0,0,null,0.40878907366850459]
[{"$f":"A831+Model!$C$48","v":0.81900000000000062},0.48662931188531722,null,0.48662931188531722,null,0.23680808718597735,null,0.40942141855330888,0.40926352564230206,1,null,0.40926352564230206]
[{"$f":"A832+Model!$C$48","v":0.82000000000000062},0.48637237122366078,null,0.48637237122366078,null,0.23655808348972648,null,0.40965810163864674,0,0,null,0.40926352564230206]
[{"$f":"A833+Model!$C$48","v":0.82100000000000062},0.48611583341252601,null,0.48611583341252601,null,0.23630860349435473,null,0.40989453498213879,0.4097369751475432,1,null,0.4097369751475432]
[{"$f":"A834+Model!$C$48","v":0.82200000000000062},0.48585969741183177,null,0.48585969741183177,null,0.23605964556911674,null,0.41013071910667054,0,0,null,0.4097369751475432]
[{"$f":"A835+Model!$C$48","v":0.82300000000000062},0.48560396218520285,null,0.48560396218520285,null,0.23581120808996792,null,0.41036665453350007,0.41020942638258173,1,null,0.41020942638258173]
[{"$f":"A836+Model!$C$48","v":0.82400000000000062},0.48534862669995205,null,0.48534862669995205,null,0.23556328943952939,null,0.41060234178226485,0,0,null,0.41020942638258173]
[{"$f":"A837+Model!$C$48","v":0.82500000000000062},0.48509368992706392,null,0.48509368992706392,null,0.23531588800705444,null,0.41083778137098814,0.41068088351966137,1,null,0.41068088351966137]
[{"$f":"A838+Model!$C$48","v":0.82600000000000062},0.4848391508411789,null,0.4848391508411789,null,0.23506900218839544,null,0.41107297381608587,0,0,null,0.41068088351966137]
[{"$f":"A839+Model!$C$48","v":0.82700000000000062},0.48458500842057606,null,0.48458500842057606,null,0.23482263038596976,null,0.41130791963237306,0.4111513507051297,1,null,0.4111513507051297]
[{"$f":"A840+Model!$C$48","v":0.82800000000000062},0.4843312616471574,null,0.4843312616471574,null,0.23457677100872723,null,0.4115426193330704,0,0,null,0.4111513507051297]
[{"$f":"A841+Model!$C$48","v":0.82900000000000063},0.48407790950643137,null,0.48407790950643137,null,0.23433142247211675,null,0.41177707342981085,0.41162083205965017,1,null,0.41162083205965017]
[{"$f":"A842+Model!$C$48","v":0.83000000000000063},0.48382495098749689,null,0.48382495098749689,null,0.23408658319805378,null,0.41201128243264595,0,0,null,0.41162083205965017]
[{"$f":"A843+Model!$C$48","v":0.83100000000000063},0.4835723850830268,null,0.4835723850830268,null,0.23384225161488717,null,0.41224524685005243,0.41208933167841166,1,null,0.41208933167841166]
[{"$f":"A844+Model!$C$48","v":0.83200000000000063},0.4833202107892528,null,0.4833202107892528,null,{"$f":"B845*D845","v":0.23359842615736776},null,0.41247896718893856,0,0,null,0.41208933167841166]
[{"$f":"A845+Model!$C$48","v":0.83300000000000063},{"$f":"IF($B$10>0,ERF($B$10/SQRT(A846)),-ERF(-$B$10/SQRT(A846)))","v":0.48306842710594894},null,{"$f":"IF($B$11>0,ERF($B$11/SQRT(A846)),-ERF(-$B$11/SQRT(A846)))","v":0.48306842710594894},null,0.23335510526661551,null,{"$f":"0.5*(F846+F845)*(A846-A845)+H845","v":0.41271244395465057},0.41255685363133643,1,null,0.41255685363133643]
[{"$f":"A846+Model!$C$48","v":0.83400000000000063},0.48281703303641549,null,0.48281703303641549,null,0.23311228739008713,null,0.41294567765097889,0,{"$f":"IF(J846=1,0,1)","v":0},null,0.41255685363133643]
[{"$f":"A847+Model!$C$48","v":0.83500000000000063},0.48256602758746409,null,0.48256602758746409,null,0.23286997098154516,null,0.41317866878016468,0.4130234019632853,1,null,0.4130234019632853]
[{"$f":"A848+Model!$C$48","v":0.83600000000000063},0.4823154097694014,null,0.4823154097694014,null,0.23262815450102559,null,0.41341141784290597,{"$f":"(I847+((A849-A848)/3)*(4*F847+2*F848))*J849","v":0},0,null,{"$f":"IF(J849=1,I849,I848)","v":0.4130234019632853}]
[{"$f":"A849+Model!$C$48","v":0.83700000000000063},0.48206517859601428,null,0.48206517859601428,null,0.23238683641480715,null,0.41364392533836386,0.41348898069426138,1,null,0.41348898069426138]
[{"$f":"A850+Model!$C$48","v":0.83800000000000063},0.48181533308455365,null,0.48181533308455365,null,0.23214601519537939,null,0.41387619176416895,0,0,null,0.41348898069426138]
[{"$f":"A851+Model!$C$48","v":0.83900000000000063},0.48156587225571929,null,0.48156587225571929,null,0.23190568932141176,null,0.41410821761642735,0.41395359381961139,1,null,0.41395359381961139]
[{"$f":"A852+Model!$C$48","v":0.84000000000000064},0.481316795133645,null,0.481316795133645,null,0.23166585727772321,null,0.41434000338972693,0,0,null,0.41395359381961139]
[{"$f":"A853+Model!$C$48","v":0.84100000000000064},0.48106810074588224,null,0.48106810074588224,null,0.23142651755525032,null,0.41457154957714343,0.41441724531022511,1,null,0.41441724531022511]
[{"$f":"A854+Model!$C$48","v":0.84200000000000064},0.48081978812338599,null,0.48081978812338599,null,0.23118766865101781,null,0.41480285667024658,0,0,null,0.41441724531022511]
[{"$f":"A855+Model!$C$48","v":0.84300000000000064},0.48057185630050053,null,0.48057185630050053,null,0.23094930906810893,null,0.41503392515910614,0.4148799391127328,1,null,0.4148799391127328]
[{"$f":"A856+Model!$C$48","v":0.84400000000000064},0.48032430431494155,null,0.48032430431494155,null,0.23071143731563257,null,0.41526475553229802,0,0,null,0.4148799391127328]
[{"$f":"A857+Model!$C$48","v":0.84500000000000064},0.48007713120778478,null,0.48007713120778478,null,0.2304740519086966,null,0.4154953482769102,0.41534167914970072,1,null,0.41534167914970072]
[{"$f":"A858+Model!$C$48","v":0.84600000000000064},0.47983033602344816,null,0.47983033602344816,null,0.23023715136837516,null,0.41572570387854874,0,0,null,0.41534167914970072]
[{"$f":"A859+Model!$C$48","v":0.84700000000000064},0.47958391780967946,null,0.47958391780967946,null,0.23000073422168138,null,0.41595582282134375,0.41580246931982456,1,null,0.41580246931982456]
[{"$f":"A860+Model!$C$48","v":0.84800000000000064},0.47933787561753982,null,0.47933787561753982,null,0.22976479900153607,null,0.41618570558795537,0,0,null,0.41580246931982456]
[{"$f":"A861+Model!$C$48","v":0.84900000000000064},0.47909220850139012,null,0.47909220850139012,null,0.22952934424673946,null,0.41641535265957952,0.41626231349812115,1,null,0.41626231349812115]
[{"$f":"A862+Model!$C$48","v":0.85000000000000064},0.47884691551887693,null,0.47884691551887693,null,0.22929436850194246,null,0.41664476451595384,0,0,null,0.41626231349812115]
[{"$f":"A863+Model!$C$48","v":0.85100000000000064},0.478601995730916,null,0.478601995730916,null,0.22905987031761574,null,0.41687394163536362,0.41672121553611807,1,null,0.41672121553611807]
[{"$f":"A864+Model!$C$48","v":0.85200000000000065},0.47835744820168052,null,0.47835744820168052,null,0.22882584825002347,null,0.41710288449464744,0,0,null,0.41672121553611807]
[{"$f":"A865+Model!$C$48","v":0.85300000000000065},0.47811327199858517,null,0.47811327199858517,null,0.22859230086119309,null,0.41733159356920307,0.41717917926204157,1,null,0.41717917926204157]
[{"$f":"A866+Model!$C$48","v":0.85400000000000065},0.47786946619227261,null,0.47786946619227261,null,0.22835922671888756,null,0.41756006933299311,0,0,null,0.41717917926204157]
[{"$f":"A867+Model!$C$48","v":0.85500000000000065},0.47762602985659897,null,0.47762602985659897,null,0.22812662439657677,null,0.41778831225855084,0.41763620848100241,1,null,0.41763620848100241]
[{"$f":"A868+Model!$C$48","v":0.85600000000000065},0.47738296206861969,null,0.47738296206861969,null,0.22789449247340918,null,0.41801632281698581,0,0,null,0.41763620848100241]
[{"$f":"A869+Model!$C$48","v":0.85700000000000065},0.47714026190857606,null,0.47714026190857606,null,0.22766282953418457,null,0.41824410147798963,0.41809230697518013,1,null,0.41809230697518013]
[{"$f":"A870+Model!$C$48","v":0.85800000000000065},0.47689792845988133,null,0.47689792845988133,null,0.22743163416932607,null,0.41847164870984138,0,0,null,0.41809230697518013]
[{"$f":"A871+Model!$C$48","v":0.85900000000000065},0.47665596080910588,null,0.47665596080910588,null,0.22720090497485187,null,0.41869896497941345,0.41854747850400525,1,null,0.41854747850400525]
[{"$f":"A872+Model!$C$48","v":0.86000000000000065},0.4764143580459646,null,0.4764143580459646,null,0.22697064055234856,null,0.41892605075217704,0,0,null,0.41854747850400525]
[{"$f":"A873+Model!$C$48","v":0.86100000000000065},0.47617311926330252,null,0.47617311926330252,null,0.22674083950894333,null,0.41915290649220771,0.41900172680433995,1,null,0.41900172680433995]
[{"$f":"A874+Model!$C$48","v":0.86200000000000065},0.47593224355708175,null,0.47593224355708175,null,0.22651150045727739,null,0.4193795326621908,0,0,null,0.41900172680433995]
[{"$f":"A875+Model!$C$48","v":0.86300000000000066},0.47569173002636739,null,0.47569173002636739,null,0.22628262201547839,null,0.4196059297234272,0.41945505559065671,1,null,0.41945505559065671]
[{"$f":"A876+Model!$C$48","v":0.86400000000000066},0.47545157777331448,null,0.47545157777331448,null,0.22605420280713412,null,0.41983209813583849,0,0,null,0.41945505559065671]
[{"$f":"A877+Model!$C$48","v":0.86500000000000066},0.47521178590315344,null,0.47521178590315344,null,0.22582624146126454,null,0.42005803835797267,0.41990746855521544,1,null,0.41990746855521544]
[{"$f":"A878+Model!$C$48","v":0.86600000000000066},0.47497235352417871,null,0.47497235352417871,null,0.2255987366122974,null,0.42028375084700947,0,0,null,0.41990746855521544]
[{"$f":"A879+Model!$C$48","v":0.86700000000000066},0.47473327974773383,null,0.47473327974773383,null,0.22537168690004011,null,0.42050923605876567,0.42035896936823863,1,null,0.42035896936823863]
[{"$f":"A880+Model!$C$48","v":0.86800000000000066},0.47449456368819937,null,0.47449456368819937,null,0.22514509096965468,null,0.4207344944477005,0,0,null,0.42035896936823863]
[{"$f":"A881+Model!$C$48","v":0.86900000000000066},0.47425620446297867,null,0.47425620446297867,null,0.22491894747163063,null,0.42095952646692114,0.42080956167808514,1,null,0.42080956167808514]
[{"$f":"A882+Model!$C$48","v":0.87000000000000066},0.47401820119248578,null,0.47401820119248578,null,0.22469325506175991,null,0.42118433256818782,0,0,null,0.42080956167808514]
[{"$f":"A883+Model!$C$48","v":0.87100000000000066},0.47378055300013139,null,0.47378055300013139,null,0.22446801240111031,null,0.42140891320191926,0.42125924911142182,1,null,0.42125924911142182]
[{"$f":"A884+Model!$C$48","v":0.87200000000000066},0.47354325901231153,null,0.47354325901231153,null,0.22424321815600118,null,0.42163326881719781,0,0,null,0.42125924911142182]
[{"$f":"A885+Model!$C$48","v":0.87300000000000066},0.47330631835839293,null,0.47330631835839293,null,0.2240188709979764,null,0.42185739986177478,0.42170803527339396,1,null,0.42170803527339396]
[{"$f":"A886+Model!$C$48","v":0.87400000000000067},0.47306973017070081,null,0.47306973017070081,null,0.22379496960377968,null,0.42208130678207567,0,0,null,0.42170803527339396]
[{"$f":"A887+Model!$C$48","v":0.87500000000000067},0.4728334935845076,null,0.4728334935845076,null,0.2235715126553306,null,0.42230499002320521,0.42215592374779376,1,null,0.42215592374779376]
[{"$f":"A888+Model!$C$48","v":0.87600000000000067},0.47259760773801757,null,0.47259760773801757,null,0.22334849883969712,null,0.42252845002895273,0,0,null,0.42215592374779376]
[{"$f":"A889+Model!$C$48","v":0.87700000000000067},0.47236207177235667,null,0.47236207177235667,null,0.22312592684907304,null,0.42275168724179712,0.42260291809722733,1,null,0.42260291809722733]
[{"$f":"A890+Model!$C$48","v":0.87800000000000067},0.47212688483155851,null,0.47212688483155851,null,0.22290379538075172,null,0.42297470210291205,0,0,null,0.42260291809722733]
[{"$f":"A891+Model!$C$48","v":0.87900000000000067},0.47189204606255253,null,0.47189204606255253,null,0.22268210313710221,null,0.42319749505217097,0.42304902186327992,1,null,0.42304902186327992]
[{"$f":"A892+Model!$C$48","v":0.88000000000000067},0.47165755461515158,null,0.47165755461515158,null,0.2224608488255447,null,0.42342006652815228,0,0,null,0.42304902186327992]
[{"$f":"A893+Model!$C$48","v":0.88100000000000067},0.47142340964203905,null,0.47142340964203905,null,0.22224003115852575,null,0.42364241696814431,0.42349423856667973,1,null,0.42349423856667973]
[{"$f":"A894+Model!$C$48","v":0.88200000000000067},0.47118961029875772,null,0.47118961029875772,null,0.22201964885349518,null,0.42386454680815033,0,0,null,0.42349423856667973]
[{"$f":"A895+Model!$C$48","v":0.88300000000000067},0.47095615574369543,null,0.47095615574369543,null,0.2217997006328799,null,0.4240864564828935,0.42393857170746008,1,null,0.42393857170746008]
[{"$f":"A896+Model!$C$48","v":0.88400000000000067},0.47072304513807578,null,0.47072304513807578,null,0.22158018522406292,null,0.42430814642582199,0,0,null,0.42393857170746008]
[{"$f":"A897+Model!$C$48","v":0.88500000000000068},0.47049027764594409,null,0.47049027764594409,null,0.22136110135935755,null,0.42452961706911369,0.42438202476511994,1,null,0.42438202476511994]
[{"$f":"A898+Model!$C$48","v":0.88600000000000068},0.47025785243415591,null,0.47025785243415591,null,0.22114244777598435,null,0.42475086884368135,0,0,null,0.42438202476511994]
[{"$f":"A899+Model!$C$48","v":0.88700000000000068},0.47002576867236417,null,0.47002576867236417,null,0.22092422321604679,null,0.42497190217917735,0.42482460119878307,1,null,0.42482460119878307]
[{"$f":"A900+Model!$C$48","v":0.88800000000000068},0.46979402553300875,null,0.46979402553300875,null,0.22070642642650928,null,0.42519271750399862,0,0,null,0.42482460119878307]
[{"$f":"A901+Model!$C$48","v":0.88900000000000068},0.4695626221913044,null,0.4695626221913044,null,0.22048905615917369,null,0.42541331524529147,0.42526630444735547,1,null,0.42526630444735547]
[{"$f":"A902+Model!$C$48","v":0.89000000000000068},0.46933155782522784,null,0.46933155782522784,null,0.22027211117065518,null,0.42563369582895638,0,0,null,0.42526630444735547]
[{"$f":"A903+Model!$C$48","v":0.89100000000000068},0.46910083161550664,null,0.46910083161550664,null,0.2200555902223599,null,0.42585385967965289,0.42570713792968146,1,null,0.42570713792968146]
[{"$f":"A904+Model!$C$48","v":0.89200000000000068},0.46887044274560841,null,0.46887044274560841,null,0.21983949208046286,null,0.42607380722080429,0,0,null,0.42570713792968146]
[{"$f":"A905+Model!$C$48","v":0.89300000000000068},0.4686403904017275,null,0.4686403904017275,null,0.21962381551588356,null,0.42629353887460247,0.42614710504469827,1,null,0.42614710504469827]
[{"$f":"A906+Model!$C$48","v":0.89400000000000068},0.46841067377277501,null,0.46841067377277501,null,0.21940855930426506,null,0.42651305506201254,0,0,null,0.42614710504469827]
[{"$f":"A907+Model!$C$48","v":0.89500000000000068},0.46818129205036624,null,0.46818129205036624,null,0.21919372222595032,null,0.42673235620277766,0.42658620917158896,1,null,0.42658620917158896]
[{"$f":"A908+Model!$C$48","v":0.89600000000000068},0.46795224442880962,null,0.46795224442880962,null,{"$f":"B909*D909","v":0.21897930306596039},null,0.42695144271542362,0,0,null,0.42658620917158896]
[{"$f":"A909+Model!$C$48","v":0.89700000000000069},{"$f":"IF($B$10>0,ERF($B$10/SQRT(A910)),-ERF(-$B$10/SQRT(A910)))","v":0.46772353010509604},null,{"$f":"IF($B$11>0,ERF($B$11/SQRT(A910)),-ERF(-$B$11/SQRT(A910)))","v":0.46772353010509604},null,0.21876530061397267,null,{"$f":"0.5*(F910+F909)*(A910-A909)+H909","v":0.4271703150172636},0.42702445366993419,1,null,0.42702445366993419]
[{"$f":"A910+Model!$C$48","v":0.89800000000000069},0.46749514827888661,null,0.46749514827888661,null,0.21855171366429818,null,0.42738897352440275,0,{"$f":"IF(J910=1,0,1)","v":0},null,0.42702445366993419]
[{"$f":"A911+Model!$C$48","v":0.89900000000000069},0.467267098152501,null,0.467267098152501,null,0.21833854101585901,null,0.42760741865174284,0.42746184187986236,1,null,0.42746184187986236]
[{"$f":"A912+Model!$C$48","v":0.90000000000000069},0.46703937893090769,null,0.46703937893090769,null,0.21812578147216799,null,0.42782565081298685,{"$f":"(I911+((A913-A912)/3)*(4*F911+2*F912))*J913","v":0},0,null,{"$f":"IF(J913=1,I913,I912)","v":0.42746184187986236}]
[{"$f":"A913+Model!$C$48","v":0.90100000000000069},0.46681198982171179,null,0.46681198982171179,null,0.21791343384130596,null,0.42804367042064356,0.4278983771221983,1,null,0.4278983771221983]
[{"$f":"A914+Model!$C$48","v":0.90200000000000069},0.46658493003514395,null,0.46658493003514395,null,0.21770149693590019,null,0.42826147788603219,0,0,null,0.4278983771221983]
[{"$f":"A915+Model!$C$48","v":0.90300000000000069},0.46635819878405027,null,0.46635819878405027,null,0.21748996957310374,null,0.42847907361928672,0.42833406269861063,1,null,0.42833406269861063]
[{"$f":"A916+Model!$C$48","v":0.90400000000000069},0.46613179528387999,null,0.46613179528387999,null,0.217278850574573,null,0.42869645802936057,0,0,null,0.42833406269861063]
[{"$f":"A917+Model!$C$48","v":0.90500000000000069},0.4659057187526755,null,0.4659057187526755,null,0.21706813876644718,null,0.42891363152403106,0.42876890189175781,1,null,0.42876890189175781]
[{"$f":"A918+Model!$C$48","v":0.90600000000000069},0.46567996841106118,null,0.46567996841106118,null,0.21685783297932695,null,0.42913059450990393,0,0,null,0.42876890189175781]
[{"$f":"A919+Model!$C$48","v":0.90700000000000069},0.4654545434822327,null,0.4654545434822327,null,0.21664793204825364,null,0.4293473473924177,0.42920289796543265,1,null,0.42920289796543265]
[{"$f":"A920+Model!$C$48","v":0.9080000000000007},0.46522944319194598,null,0.46522944319194598,null,0.2164384348126881,null,0.42956389057584815,0,0,null,0.42920289796543265]
[{"$f":"A921+Model!$C$48","v":0.9090000000000007},0.46500466676850688,null,0.46500466676850688,null,0.21622934011649012,null,0.42978022446331277,0.42963605416470546,1,null,0.42963605416470546]
[{"$f":"A922+Model!$C$48","v":0.9100000000000007},0.46478021344275994,null,0.46478021344275994,null,0.21602064680789748,null,0.42999634945677495,0,0,null,0.42963605416470546]
[{"$f":"A923+Model!$C$48","v":0.9110000000000007},0.46455608244807894,null,0.46455608244807894,null,0.21581235373950633,null,0.43021226595704865,0.43006837371606604,1,null,0.43006837371606604]
[{"$f":"A924+Model!$C$48","v":0.9120000000000007},0.46433227302035462,null,0.46433227302035462,null,0.21560445976824916,null,0.43042797436380253,0,0,null,0.43006837371606604]
[{"$f":"A925+Model!$C$48","v":0.9130000000000007},0.46410878439798597,null,0.46410878439798597,null,0.21539696375537623,null,0.43064347507556433,0.43049985982756422,1,null,0.43049985982756422]
[{"$f":"A926+Model!$C$48","v":0.9140000000000007},0.46388561582186899,null,0.46388561582186899,null,0.21518986456643463,null,0.43085876848972526,0,0,null,0.43049985982756422]
[{"$f":"A927+Model!$C$48","v":0.9150000000000007},0.46366276653538591,null,0.46366276653538591,null,0.21498316107124776,null,0.43107385500254408,0.43093051568894902,1,null,0.43093051568894902]
[{"$f":"A928+Model!$C$48","v":0.9160000000000007},0.46344023578439536,null,0.46344023578439536,null,0.21477685214389597,null,0.43128873500915166,0,0,null,0.43093051568894902]
[{"$f":"A929+Model!$C$48","v":0.9170000000000007},0.46321802281722207,null,0.46321802281722207,null,0.21457093666269647,null,0.43150340890355493,0.4313603444718066,1,null,0.4313603444718066]
[{"$f":"A930+Model!$C$48","v":0.9180000000000007},0.46299612688464664,null,0.46299612688464664,null,0.21436541351018382,null,0.43171787707864134,0,0,null,0.4313603444718066]
[{"$f":"A931+Model!$C$48","v":0.91900000000000071},0.46277454723989531,null,0.46277454723989531,null,0.21416028157309008,null,0.43193213992618296,0.43178934932969698,1,null,0.43178934932969698]
[{"$f":"A932+Model!$C$48","v":0.92000000000000071},0.46255328313862959,null,0.46255328313862959,null,0.21395553974232523,null,0.43214619783684066,0,0,null,0.43178934932969698]
[{"$f":"A933+Model!$C$48","v":0.92100000000000071},0.46233233383893652,null,0.46233233383893652,null,0.21375118691295783,null,0.43236005120016829,0.43221753339828933,1,null,0.43221753339828933]
[{"$f":"A934+Model!$C$48","v":0.92200000000000071},0.46211169860131851,null,0.46211169860131851,null,0.21354722198419585,null,0.43257370040461685,0,0,null,0.43221753339828933]
[{"$f":"A935+Model!$C$48","v":0.92300000000000071},0.46189137668868357,null,0.46189137668868357,null,0.21334364385936738,null,0.43278714583753863,0.43264489979549609,1,null,0.43264489979549609]
[{"$f":"A936+Model!$C$48","v":0.92400000000000071},0.46167136736633502,null,0.46167136736633502,null,0.21314045144590146,null,0.4330003878851913,0,0,null,0.43264489979549609]
[{"$f":"A937+Model!$C$48","v":0.92500000000000071},0.46145166990196151,null,0.46145166990196151,null,0.21293764365530884,null,0.4332134269327419,0.43307145162160582,1,null,0.43307145162160582]
[{"$f":"A938+Model!$C$48","v":0.92600000000000071},0.46123228356562784,null,0.46123228356562784,null,0.21273521940316373,null,0.43342626336427115,0,0,null,0.43307145162160582]
[{"$f":"A939+Model!$C$48","v":0.92700000000000071},0.46101320762976505,null,0.46101320762976505,null,0.21253317760908486,null,0.43363889756277729,0.433497191959415,1,null,0.433497191959415]
[{"$f":"A940+Model!$C$48","v":0.92800000000000071},0.46079444136915948,null,0.46079444136915948,null,0.21233151719671575,null,0.43385132991018022,0,0,null,0.433497191959415]
[{"$f":"A941+Model!$C$48","v":0.92900000000000071},0.46057598406094524,null,0.46057598406094524,null,0.2121302370937081,null,0.43406356078732544,0.43392212387435825,1,null,0.43392212387435825]
[{"$f":"A942+Model!$C$48","v":0.93000000000000071},0.46035783498459204,null,0.46035783498459204,null,0.21192933623170088,null,0.43427559057398812,0,0,null,0.43392212387435825]
[{"$f":"A943+Model!$C$48","v":0.93100000000000072},0.46013999342189826,null,0.46013999342189826,null,0.21172881354630457,null,0.4344874196488771,0.43434625041463765,1,null,0.43434625041463765]
[{"$f":"A944+Model!$C$48","v":0.93200000000000072},0.45992245865697928,null,0.45992245865697928,null,0.21152866797708081,null,0.4346990483896388,0,0,null,0.43434625041463765]
[{"$f":"A945+Model!$C$48","v":0.93300000000000072},0.45970522997625907,null,0.45970522997625907,null,0.21132889846752523,null,0.43491047717286108,0.4347695746113508,1,null,0.4347695746113508]
[{"$f":"A946+Model!$C$48","v":0.93400000000000072},0.45948830666846008,null,0.45948830666846008,null,0.21112950396504881,null,0.43512170637407738,0,0,null,0.4347695746113508]
[{"$f":"A947+Model!$C$48","v":0.93500000000000072},0.45927168802459495,null,0.45927168802459495,null,0.21093048342096088,null,0.43533273636777037,0.43519209947861753,1,null,0.43519209947861753]
[{"$f":"A948+Model!$C$48","v":0.93600000000000072},0.45905537333795576,null,0.45905537333795576,null,0.21073183579044993,null,0.43554356752737605,0,0,null,0.43519209947861753]
[{"$f":"A949+Model!$C$48","v":0.93700000000000072},0.45883936190410568,null,0.45883936190410568,null,0.21053356003256687,null,0.43575420022528755,0.43561382801370579,1,null,0.43561382801370579]
[{"$f":"A950+Model!$C$48","v":0.93800000000000072},0.45862365302086905,null,0.45862365302086905,null,0.21033565511020649,null,0.43596463483285891,0,0,null,0.43561382801370579]
[{"$f":"A951+Model!$C$48","v":0.93900000000000072},0.45840824598832336,null,0.45840824598832336,null,0.21013811999009119,null,0.43617487172040909,0.43603476319715601,1,null,0.43603476319715601]
[{"$f":"A952+Model!$C$48","v":0.94000000000000072},0.45819314010878853,null,0.45819314010878853,null,0.20994095364275192,null,0.43638491125722551,0,0,null,0.43603476319715601]
[{"$f":"A953+Model!$C$48","v":0.94100000000000072},0.45797833468681826,null,0.45797833468681826,null,0.20974415504251132,null,0.43659475381156815,0.43645490799290465,1,null,0.43645490799290465]
[{"$f":"A954+Model!$C$48","v":0.94200000000000073},0.45776382902919194,null,0.45776382902919194,null,0.20954772316746725,null,0.43680439975067314,0,0,null,0.43645490799290465]
[{"$f":"A955+Model!$C$48","v":0.94300000000000073},0.4575496224449046,null,0.4575496224449046,null,0.20935165699947475,null,0.43701384944075661,0.43687426534840629,1,null,0.43687426534840629]
[{"$f":"A956+Model!$C$48","v":0.94400000000000073},0.45733571424515812,null,0.45733571424515812,null,0.20915595552412891,null,0.43722310324701841,0,0,null,0.43687426534840629]
[{"$f":"A957+Model!$C$48","v":0.94500000000000073},0.45712210374335194,null,0.45712210374335194,null,0.20896061773074781,null,0.43743216153364584,0.43729283819475501,1,null,0.43729283819475501]
[{"$f":"A958+Model!$C$48","v":0.94600000000000073},0.4569087902550748,null,0.4569087902550748,null,0.20876564261235594,null,0.43764102466381738,0,0,null,0.43729283819475501]
[{"$f":"A959+Model!$C$48","v":0.94700000000000073},0.45669577309809617,null,0.45669577309809617,null,0.20857102916566775,null,0.43784969299970639,0.43771062944680422,1,null,0.43771062944680422]
[{"$f":"A960+Model!$C$48","v":0.94800000000000073},0.45648305159235608,null,0.45648305159235608,null,0.20837677639106963,null,0.43805816690248478,0,0,null,0.43771062944680422]
[{"$f":"A961+Model!$C$48","v":0.94900000000000073},0.45627062505995752,null,0.45627062505995752,null,0.20818288329260434,null,0.43826644673232662,0.4381276420032858,1,null,0.4381276420032858]
[{"$f":"A962+Model!$C$48","v":0.95000000000000073},0.45605849282515754,null,0.45605849282515754,null,0.20798934887795426,null,0.43847453284841192,0,0,null,0.4381276420032858]
[{"$f":"A963+Model!$C$48","v":0.95100000000000073},0.45584665421435744,null,0.45584665421435744,null,0.20779617215842397,null,0.43868242560893012,0.43854387874692791,1,null,0.43854387874692791]
[{"$f":"A964+Model!$C$48","v":0.95200000000000073},0.45563510855609607,null,0.45563510855609607,null,0.20760335214892545,null,0.43889012537108379,0,0,null,0.43854387874692791]
[{"$f":"A965+Model!$C$48","v":0.95300000000000074},0.45542385518103989,null,0.45542385518103989,null,0.2074108878679608,null,0.43909763249109224,0.43895934254457175,1,null,0.43895934254457175]
[{"$f":"A966+Model!$C$48","v":0.95400000000000074},0.45521289342197419,null,0.45521289342197419,null,0.20721877833760563,null,0.43930494732419501,0,0,null,0.43895934254457175]
[{"$f":"A967+Model!$C$48","v":0.95500000000000074},0.45500222261379603,null,0.45500222261379603,null,0.2070270225834944,null,0.43951207022465555,0.43937403624728744,1,null,0.43937403624728744]
[{"$f":"A968+Model!$C$48","v":0.95600000000000074},0.45479184209350337,null,0.45479184209350337,null,0.2068356196348021,null,0.43971900154576471,0,0,null,0.43937403624728744]
[{"$f":"A969+Model!$C$48","v":0.95700000000000074},0.45458175120018973,null,0.45458175120018973,null,0.20664456852423119,null,0.43992574163984421,0.43978796269048864,1,null,0.43978796269048864]
[{"$f":"A970+Model!$C$48","v":0.95800000000000074},0.45437194927503255,null,0.45437194927503255,null,0.20645386828799275,null,0.44013229085825034,0,0,null,0.43978796269048864]
[{"$f":"A971+Model!$C$48","v":0.95900000000000074},0.45416243566128744,null,0.45416243566128744,null,0.20626351796579306,null,0.44033864955137725,0.44020112469404626,1,null,0.44020112469404626]
[{"$f":"A972+Model!$C$48","v":0.96000000000000074},0.45395320970427866,null,0.45395320970427866,null,{"$f":"B973*D973","v":0.2060735166008168},null,0.44054481806866053,0,0,null,0.44020112469404626]
[{"$f":"A973+Model!$C$48","v":0.96100000000000074},{"$f":"IF($B$10>0,ERF($B$10/SQRT(A974)),-ERF(-$B$10/SQRT(A974)))","v":0.45374427075139045},null,{"$f":"IF($B$11>0,ERF($B$11/SQRT(A974)),-ERF(-$B$11/SQRT(A974)))","v":0.45374427075139045},null,0.20588386323971114,null,{"$f":"0.5*(F974+F973)*(A974-A973)+H973","v":0.44075079675858081},0.4406135250624012,1,null,0.4406135250624012]
[{"$f":"A974+Model!$C$48","v":0.96200000000000074},0.45353561815206,null,0.45353561815206,null,0.20569455693257119,null,0.44095658596866694,0,{"$f":"IF(J974=1,0,1)","v":0},null,0.4406135250624012]
[{"$f":"A975+Model!$C$48","v":0.96300000000000074},0.4533272512577679,null,0.4533272512577679,null,0.20550559673292343,null,0.44116218604549967,0.44102516658467589,1,null,0.44102516658467589]
[{"$f":"A976+Model!$C$48","v":0.96400000000000075},0.45311916942203151,null,0.45311916942203151,null,0.2053169816977117,null,0.44136759733471498,{"$f":"(I975+((A977-A976)/3)*(4*F975+2*F976))*J977","v":0},0,null,{"$f":"IF(J977=1,I977,I976)","v":0.44102516658467589}]
[{"$f":"A977+Model!$C$48","v":0.96500000000000075},0.45291137200039489,null,0.45291137200039489,null,0.20512871088728007,null,0.44157282018100746,0.44143605203478492,1,null,0.44143605203478492]
[{"$f":"A978+Model!$C$48","v":0.96600000000000075},0.45270385835042304,null,0.45270385835042304,null,0.2049407833653599,null,0.44177785492813376,0,0,null,0.44143605203478492]
[{"$f":"A979+Model!$C$48","v":0.96700000000000075},0.45249662783169142,null,0.45249662783169142,null,0.20475319819905224,null,0.44198270191891598,0.44184618417154486,1,null,0.44184618417154486]
[{"$f":"A980+Model!$C$48","v":0.96800000000000075},0.45228967980578039,null,0.45228967980578039,null,0.20456595445881534,null,0.4421873614952449,0,0,null,0.44184618417154486]
[{"$f":"A981+Model!$C$48","v":0.96900000000000075},0.45208301363626519,null,0.45208301363626519,null,0.20437905121844754,null,0.44239183399808352,0.44225556573878283,1,null,0.44225556573878283]
[{"$f":"A982+Model!$C$48","v":0.97000000000000075},0.45187662868870826,null,0.45187662868870826,null,0.20419248755507272,null,0.44259611976747026,0,0,null,0.44225556573878283]
[{"$f":"A983+Model!$C$48","v":0.97100000000000075},0.45167052433065358,null,0.45167052433065358,null,0.20400626254912752,null,0.44280021914252238,0.44266419946544416,1,null,0.44266419946544416]
[{"$f":"A984+Model!$C$48","v":0.97200000000000075},0.45146469993161614,null,0.45146469993161614,null,0.20382037528434421,null,0.4430041324614391,0,0,null,0.44266419946544416]
[{"$f":"A985+Model!$C$48","v":0.97300000000000075},0.45125915486307466,null,0.45125915486307466,null,0.2036348248477364,null,0.44320786006150514,0.44307208806569925,1,null,0.44307208806569925]
[{"$f":"A986+Model!$C$48","v":0.97400000000000075},0.45105388849846578,null,0.45105388849846578,null,0.20344961032958642,null,0.44341140227909381,0,0,null,0.44307208806569925]
[{"$f":"A987+Model!$C$48","v":0.97500000000000075},0.45084890021317292,null,0.45084890021317292,null,0.20326473082342755,null,0.44361475944967033,0.44347923423904928,1,null,0.44347923423904928]
[{"$f":"A988+Model!$C$48","v":0.97600000000000076},0.45064418938452233,null,0.45064418938452233,null,0.20308018542603323,null,0.44381793190779506,0,0,null,0.44347923423904928]
[{"$f":"A989+Model!$C$48","v":0.97700000000000076},0.45043975539177217,null,0.45043975539177217,null,0.20289597323739955,null,0.44402091998712678,0.44388564067043118,1,null,0.44388564067043118]
[{"$f":"A990+Model!$C$48","v":0.97800000000000076},0.45023559761610737,null,0.45023559761610737,null,0.20271209336073334,null,0.44422372402042587,0,0,null,0.44388564067043118]
[{"$f":"A991+Model!$C$48","v":0.97900000000000076},0.45003171544062998,null,0.45003171544062998,null,0.20252854490243616,null,0.44442634433955747,0.44429131003032152,1,null,0.44429131003032152]
[{"$f":"A992+Model!$C$48","v":0.98000000000000076},0.44982810825035346,null,0.44982810825035346,null,0.2023453269720917,null,0.44462878127549471,0,0,null,0.44429131003032152]
[{"$f":"A993+Model!$C$48","v":0.98100000000000076},0.4496247754321937,null,0.4496247754321937,null,0.20216243868245062,null,0.44483103515832201,0.44469624497483951,1,null,0.44469624497483951]
[{"$f":"A994+Model!$C$48","v":0.98200000000000076},0.44942171637496242,null,0.44942171637496242,null,0.20197987914941717,null,0.44503310631723791,0,0,null,0.44469624497483951]
[{"$f":"A995+Model!$C$48","v":0.98300000000000076},0.44921893046935907,null,0.44921893046935907,null,0.20179764749203485,null,0.44523499508055864,0.44510044814584904,1,null,0.44510044814584904]
[{"$f":"A996+Model!$C$48","v":0.98400000000000076},0.44901641710796436,null,0.44901641710796436,null,0.20161574283247344,null,0.44543670177572087,0,0,null,0.44510044814584904]
[{"$f":"A997+Model!$C$48","v":0.98500000000000076},0.44881417568523158,null,0.44881417568523158,null,0.20143416429601391,null,0.4456382267292851,0.44550392217106005,1,null,0.44550392217106005]
[{"$f":"A998+Model!$C$48","v":0.98600000000000076},0.44861220559748055,null,0.44861220559748055,null,0.20125291101103615,null,0.4458395702669386,0,0,null,0.44550392217106005]
[{"$f":"A999+Model!$C$48","v":0.98700000000000077},0.44841050624288925,null,0.44841050624288925,null,0.20107198210900423,null,0.44604073271349864,0.44590666966412879,1,null,0.44590666966412879]
[{"$f":"A1000+Model!$C$48","v":0.98800000000000077},0.44820907702148743,null,0.44820907702148743,null,0.20089137672445365,null,0.44624171439291538,0,0,null,0.44590666966412879]
[{"$f":"A1001+Model!$C$48","v":0.98900000000000077},0.44800791733514828,null,0.44800791733514828,null,0.20071109399497705,null,0.44644251562827508,0.44630869322475708,1,null,0.44630869322475708]
[{"$f":"A1002+Model!$C$48","v":0.99000000000000077},0.44780702658758292,null,0.44780702658758292,null,0.2005311330612122,null,0.44664313674180317,0,0,null,0.44630869322475708]
[{"$f":"A1003+Model!$C$48","v":0.99100000000000077},0.44760640418433156,null,0.44760640418433156,null,0.2003514930668272,null,0.44684357805486719,0.4467099954387912,1,null,0.4467099954387912]
[{"$f":"A1004+Model!$C$48","v":0.99200000000000077},0.44740604953275687,null,0.44740604953275687,null,0.20017217315850769,null,0.44704383988797985,0,0,null,0.4467099954387912]
[{"$f":"A1005+Model!$C$48","v":0.99300000000000077},0.447205962042037,null,0.447205962042037,null,0.19999317248594384,null,0.44724392256080209,0.44711057887831929,1,null,0.44711057887831929]
[{"$f":"A1006+Model!$C$48","v":0.99400000000000077},0.44700614112315884,null,0.44700614112315884,null,0.19981449020181741,null,0.44744382639214597,0,0,null,0.44711057887831929]
[{"$f":"A1007+Model!$C$48","v":0.99500000000000077},0.44680658618891045,null,0.44680658618891045,null,0.19963612546178827,null,0.44764355169997777,0.44751044610176843,1,null,0.44751044610176843]
[{"$f":"A1008+Model!$C$48","v":0.99600000000000077},0.44660729665387455,null,0.44660729665387455,null,0.19945807742448191,null,0.44784309880142092,0,0,null,0.44751044610176843]
[{"$f":"A1009+Model!$C$48","v":0.99700000000000077},0.44640827193442051,null,0.44640827193442051,null,0.19928034525147553,null,0.44804246801275888,0.44790959965400046,1,null,0.44790959965400046]
[{"$f":"A1010+Model!$C$48","v":0.99800000000000078},0.44620951144869908,null,0.44620951144869908,null,0.19910292810728672,null,0.44824165964943824,0,0,null,0.44790959965400046]
[{"$f":"A1011+Model!$C$48","v":0.99900000000000078},0.44601101461663345,null,0.44601101461663345,null,0.1989258251593588,null,0.44844067402607157,0.44830804206640729,1,null,0.44830804206640729]
[{"$f":"A1012+Model!$C$48","v":1.0000000000000007},0.44581278085991477,null,0.44581278085991477,null,0.19874903557805038,null,0.44863951145644027,0,0,null,0.44830804206640729]
[null,null,null,null,null,null,null,null,{"$f":"(I1012+((A1013-A1012)/3)*(4*F1012+F1013))*J1014","v":0.44863952617847908},1,null,0.44863952617847908]

{"sheet":"ReadMe","index":6,"n_rows":3,"n_cols":1,"rows_kept":3,"cut":false,"hidden":false,"merged":[[2,0,18,11],[0,0,0,13]]}
["This spreadsheet will calculate the height of a groundwater mound beneath a stormwater infiltration basin.   More information can be found in the U.S. Geological Survey Scientific Investigations Report 2010-5102 \"Simulation of groundwater mounding beneath hypothetical stormwater infiltration basins\"."]
[]
["This spreadsheet solving the Hantush (1967) equation for ground-water mounding beneath an infiltration basin is made available to the general public as a convenience for those wishing to replicate values documented in the USGS Scientific Investigations Report 2010-5102 \"Groundwater mounding beneath hypothetical stormwater infiltration basins\" or to calculate values based on user-specified site conditions. Any changes made to the spreadsheet (other than values identified as user-specified) after transmission from the USGS could have unintended, undesirable consequences. These consequences could include, but may not be limited to: erroneous output, numerical instabilities, and violations of underlying assumptions that are inherent in results presented in the accompanying USGS published report. The USGS assumes no responsibility for the consequences of any changes made to the spreadsheet. If changes are made to the spreadsheet, the user is responsible for documenting the changes and justifying the results and conclusions."]