928.843137254902
0.0
0.0
-928.843137254902
-785629.615759863
5099587.20776955
