1.99912549191080010
0.00000000000000000
0.00000000000000000
-1.99728997289972910
725009.94679096923000000
3297855.40828826460000000
