1.99934275386132110
0.00000000000000000
0.00000000000000000
-1.99809885931558930
747407.34367519873000000
3311937.35373595820000000
