1.99934167215273200
0.00000000000000000
0.00000000000000000
-1.99756986634264890
669337.31207059301000000
3284708.89435006350000000
