1.99933884297520660
0.00000000000000000
0.00000000000000000
-1.99890710382513670
602227.41714516899000000
3346588.89029564480000000
