1.99693721286370600
0.00000000000000000
0.00000000000000000
-1.99392097264437700
600923.75015072559000000
3346954.63548555690000000
