1.99933730947647460
0.00000000000000000
0.00000000000000000
-1.99858156028368810
590155.37090369011000000
3351965.21924615470000000
