1.99933752898310700
0.00000000000000000
0.00000000000000000
-1.99777034559643260
566066.30773257092000000
3359695.11474103950000000
