1.99898270600203460
0.00000000000000000
0.00000000000000000
-1.99457994579945800
508081.22656553314000000
3361075.61292295480000000
