1.99933466400532270
0.00000000000000000
0.00000000000000000
-1.99611650485436900
475967.96911727701000000
3354901.84019422530000000
