1.99926117473217580
0.00000000000000000
0.00000000000000000
-1.99668874172185440
434466.52924187051000000
3347874.97416264520000000
