1.99792746113989630
0.00000000000000000
0.00000000000000000
-1.99086757990867570
371771.70222501474000000
3344997.21420769530000000
