1.99933422103861510
0.00000000000000000
0.00000000000000000
-1.99748743718592970
355626.26729190251000000
3343098.97640139050000000
