1.99843993759750390
0.00000000000000000
0.00000000000000000
-1.99936406995230520
654656.94188329356000000
3292152.92481391460000000
