1.99769053117782900
0.00000000000000000
0.00000000000000000
-1.99942096120440070
653093.29008034361000000
3299059.59573756390000000
