1.99885518030910130
0.00000000000000000
0.00000000000000000
-1.99772985244040860
650781.98533426796000000
3314687.33618106230000000
