1.99933708982432880
0.00000000000000000
0.00000000000000000
-1.99849397590361440
590156.42796137417000000
3351854.26540120970000000
