1.99736147757255940
0.00000000000000000
0.00000000000000000
-1.99270072992700720
584126.94512347819000000
3354286.85755407530000000
