1.99933510638297870
0.00000000000000000
0.00000000000000000
-1.99145299145299150
415803.90882546897000000
3344770.44741693600000000
