1.99825479930191970
0.00000000000000000
0.00000000000000000
-1.99259259259259270
463947.30326167133000000
3353465.49360013660000000
