1.99933532735127950
0.00000000000000000
0.00000000000000000
-1.99760479041916160
445899.39873457036000000
3350621.46735664690000000
