1.99925009373828270
0.00000000000000000
0.00000000000000000
-1.99664429530201340
434547.05020132515000000
3347858.27022665880000000
