1.99829059829059830
0.00000000000000000
0.00000000000000000
-1.99792099792099800
353290.80046205013000000
3344729.75145173030000000
