1.99930891499654460
0.00000000000000000
0.00000000000000000
-1.98717948717948720
385758.53025801788000000
3347333.55129316080000000
